Workbook

Sheet Mode d'emploi
C2: Bienvenue dans l'outil de calcul d'activité des sources
C7: L'onglet "Calcul activités sources" vous permet de
D8: --> | E8: déterminer le régime administratif applicable en fonction de l'activité détenue (exemption ou non) (case C2).
E9: Attention, l'exemption n'est pas applicable pour les activités médicales.
D10: --> | E10: déterminer si la valeur Q sources non scellées est supérieure à 10 000 (condition pour la consultation du public) (case C3)
D11: --> | E11: déterminer si des SSHA ou des lots de sources équivalents sont détenus au titre du CSP et leur catégorie (cases H2, H5 et H6)
D12: --> | E12: déterminer si des sources étaient précédemment des SSHA (CSP ancien) (case H3)
C14: MODE D'EMPLOI :
E15: Colonne A | G15: Indiquer le radionucléide sous la forme 133Ba (cas particuliers : AppU / natU / 99Tc m / 241Am/Be) (1 ligne par source scellée)
E16: Colonne B | G16: Indiquer l'activité en MBq s'il s'agit d'une source scellée
E17: Colonne C | G17: Indiquer l'activité en MBq s'il s'agit d'une source non scellée
E18: Colonne D | G18: Indiquer "oui" si la source scellée est contenue dans un appareil portable ou mobile
E19: Colonne E | G19: Indiquer le n° du lot concerné pour les calculs d'allottissement, puis sélectionner le n° de lot dans la case G5 (liste déroulante)
G20: ATTENTION ! Si aucun numéro de lot n'est attribué à la source, son activité ne sera pas prise en compte dans le calcul de l'allotissement
C22: Les résultats de la requête figurent en haut de la page. Ces résultats s'actualisent automatiquement si vous modifiez les radionucléides et les activités
C24: L'onglet CSP reprend toutes les données sources par RN (seuils anciens et nouveaux, période)
C26: Les périodes radioactives sont données à titre indicatif. Un outil permettant de calculer l'activité résiduelle d'une source est disponible dans les colonnes N, O et P. Le RN est celui indiqué dans la colonne A, mais il faut ressaisir l'activité nominale dans la colonne N.
C30: Vous ne pouvez écrire que dans les cellules sans couleur de fond (ou couleur de fond = blanc) Toute modification du fichier est interdite. Contact : DTS/ BRS Sabine Soulié ou Benoît De Carné-Carnavalet

Sheet Calculs activités sources
A1: Résultats de la requête | E1: Sécurité - catégorie des sources et lots | J1: Valeurs de Q (somme) | N1: Erreurs : Résultat égal à #Valeur# ou #N/A
A2: Régime administratif | C2: =IF(L2=0,"",IF(L2>=1,"non exempté","exempté")) -> non exempté | F2: Avec le CSP actuel, il y a : | H2: =SUM(AC11:AC1004) -> 0 | I2: SSHA | J2: Q régime administratif | L2: =SUM(I11:I999) -> 16200 | N2: --> Soit il n'y a pas de seuil pour le RN --> Soit le Rn est mal écrit (ex : Ba133 au lieu de 133Ba) --> Soit le Rn n'existe pas dans le tableau de référence --> Soit il y a des activités indiquées sans RN
A3: Consultation du public | C3: =IF(L3=0,"",IF(AND(L3>=10000,MAX(AK11:AK1004)>=8),"oui","sans objet sauf cyclotron")) -> oui | F3: Avec le CSP ancien, il y avait : | H3: =SUM(AJ11:AJ1004) -> 0 | I3: SSHA | J3: Q source non scellée | L3: =SUM($H$11:$H$6004) -> 13050 | Z3: oui
F5: Cat. du lot n° | G5: 1 | H5: =VLOOKUP(G5,AA11:AF1004,6,FALSE) -> sans | AC5: Catégorie max dans le lot
F6: Cat. La plus élevée du lot : | H6: =VLOOKUP(AC6,AM14:AN18,2,FALSE) -> sans | AC6: =MAX(AH11:AH1004) -> 0
A8: ATTENTION : Ne pas utiliser le glisser/déposer dans les colonnes A à E Cette fonction modifie les formules et fausse les calculs
A9: Radionucléide | F9: CSP Actuel | K9: CSP ancien | L9: RN | N9: Outil calcul décroissance (version test) | W9: Lot | AB9: Sources
A10: Rn | B10: Activité SS (MBq) | C10: Activité SNS (MBq) | D10: SS dans appareil mobiles ou portables | E10: n° lot | F10: Seuil Exemption (MBq) | G10: Seuil SSHA (MBq) | H10: Q SNS | I10: Q régime administratif | J10: Cat. Sécurité | K10: Seuil SSHA (MBq) | L10: Période (Jours) | N10: Activité nominale (MBq) | O10: Date d'étalonnage | P10: Activité résiduelle (MBq) | W10: Q SS lot | X10: Catégorie Lot | Y10: appareil mobile dans le lot | Z10: Q SSHA lot | AA10: N° de lot | AB10: Q SSHA | AC10: SSHA? | AD10: SSHA dans Appareil mobile? | AE10: Q SS | AF10: Catégorie Lot | AG10: Catégorie source scellées | AH10: Catégorie des sources dans le lot selectionné | AI10: Q SSHA ancien | AJ10: SSHA ancien? | AK10: Période SNS
A11: 99Tc m | C11: 80000 | F11: =IF($A11 <> "",VLOOKUP($A11,CSP!$1:$1048576,10,FALSE)/1000000,"") -> 10 | G11: =IF($A11 <> "",IF(VLOOKUP($A11,CSP!$1:$1048576,14,FALSE)="NA","",VLOOKUP($A11,CSP!$1:$1048576,14,FALSE)/1000000),"") -> 700000 | H11: =IF(AND(C11<>0,A11<>""), $C11/$F11,"") -> 8000 | I11: =IF(AND(F11=0,OR(B11<>"",C11<>"")),1,IF(AND(A11<>"",OR(B11<>"",C11<>"")),(B11+C11)/F11,"")) -> 8000 | J11: =IF(OR(AND(B11="",C11=""),A11=""),"",IF(OR(AND(B11<>"",B11<F11),AND(C11<>"",C11<F11)),"sans",IF(OR(AND(C11<>"",C11>=F11),AND(B11>=F11,B11<G11)),"D",IF(AND(B11>=G11,B11<10*G11,D11<>"oui"),"C",IF(OR(AND(B11<1000*G11,D11="oui"),AND(B11>=G11*10,B11<1000*G11)),"B",IF(B11>=1000*G11,"A","")))))) -> D | K11: =IF($A11 <> "",VLOOKUP($A11,CSP!$1:$1048576,11,FALSE),"") -> 100000 | L11: =IF($A11 <> "",VLOOKUP($A11,CSP!$1:$1048576,25,FALSE),"") -> 0.2503 | P11: =IF(OR(N11="",O11="",A11=""),"",N11/(2^((TODAY()-O11)/L11))) | W11: =SUMIF($E$11:$E$1004,AA11,AE$11:$AE$1004) -> 0 | X11: =IF(Z11>=1000,"A",IF(OR(Z11>=10,Y11>=1),"B",IF(Z11>=1,"C",IF(W11>=1,"D","sans")))) -> sans | Y11: =SUMIF($E$11:$E$1004,AA11,AD$11:$AD$1004) -> 0 | Z11: =SUMIF($E$11:$E$1004,AA11,AB$11:$AB$1004) -> 0 | AA11: =1 -> 1 | AB11: =IF(AND(B11<>"",G11<>""),B11/G11,0) -> 0 | AC11: =IF(AB11>=1,1,0) -> 0 | AD11: =IF(AND(B11<>"",D11="oui",AB11>=1),1,0) -> 0 | AE11: =IF(B11<>"",B11/F11,0) -> 0 | AF11: =X11 -> sans | AG11: =IF(B11<>"",IF(J11="sans",0,IF(J11="A",4,IF(J11="B",3,IF(J11="C",2,IF(J11="D",1,""))))),0) -> 0 | AH11: =IF($G$5=E11,AG11,0) -> 0 | AI11: =IF(AND(B11<>"",ISNUMBER(K11),K11<>0),B11/K11,0) -> 0 | AJ11: =IF(AI11>=1,1,0) -> 0 | AK11: =IF(C11<>"",L11,0) -> 0.2503
A12: 123I | C12: 500 | F12: =IF($A12 <> "",VLOOKUP($A12,CSP!$1:$1048576,10,FALSE)/1000000,"") -> 10 | G12: =IF($A12 <> "",IF(VLOOKUP($A12,CSP!$1:$1048576,14,FALSE)="NA","",VLOOKUP($A12,CSP!$1:$1048576,14,FALSE)/1000000),"") -> 500000 | H12: =IF(AND(C12<>0,A12<>""), $C12/$F12,"") -> 50 | I12: =IF(AND(F12=0,OR(B12<>"",C12<>"")),1,IF(AND(A12<>"",OR(B12<>"",C12<>"")),(B12+C12)/F12,"")) -> 50 | J12: =IF(OR(AND(B12="",C12=""),A12=""),"",IF(OR(AND(B12<>"",B12<F12),AND(C12<>"",C12<F12)),"sans",IF(OR(AND(C12<>"",C12>=F12),AND(B12>=F12,B12<G12)),"D",IF(AND(B12>=G12,B12<10*G12,D12<>"oui"),"C",IF(OR(AND(B12<1000*G12,D12="oui"),AND(B12>=G12*10,B12<1000*G12)),"B",IF(B12>=1000*G12,"A","")))))) -> D | K12: =IF($A12 <> "",VLOOKUP($A12,CSP!$1:$1048576,11,FALSE),"") -> 60000 | L12: =IF($A12 <> "",VLOOKUP($A12,CSP!$1:$1048576,25,FALSE),"") -> 0.55097917 | P12: =IF(OR(N12="",O12="",A12=""),"",N12/(2^((TODAY()-O12)/L12))) | W12: =SUMIF($E$11:$E$1004,AA12,AE$11:$AE$1004) -> 0 | X12: =IF(Z12>=1000,"A",IF(OR(Z12>=10,Y12>=1),"B",IF(Z12>=1,"C",IF(W12>=1,"D","sans")))) -> sans | Y12: =SUMIF($E$11:$E$1004,AA12,AD$11:$AD$1004) -> 0 | Z12: =SUMIF($E$11:$E$1004,AA12,AB$11:$AB$1004) -> 0 | AA12: =1+AA11 -> 2 | AB12: =IF(AND(B12<>"",G12<>""),B12/G12,0) -> 0 | AC12: =IF(AB12>=1,1,0) -> 0 | AD12: =IF(AND(B12<>"",D12="oui"),1,0) -> 0 | AE12: =IF(B12<>"",B12/F12,0) -> 0 | AF12: =X12 -> sans | AG12: =IF(B12<>"",IF(J12="sans",0,IF(J12="A",4,IF(J12="B",3,IF(J12="C",2,IF(J12="D",1,""))))),0) -> 0 | AH12: =IF($G$5=E12,AG12,0) -> 0 | AI12: =IF(AND(B12<>"",ISNUMBER(K12),K12<>0),B12/K12,0) -> 0 | AJ12: =IF(AI12>=1,1,0) -> 0 | AK12: =IF(C12<>"",L12,0) -> 0.55097917
A13: 201Tl | C13: 3000 | F13: =IF($A13 <> "",VLOOKUP($A13,CSP!$1:$1048576,10,FALSE)/1000000,"") -> 1 | G13: =IF($A13 <> "",IF(VLOOKUP($A13,CSP!$1:$1048576,14,FALSE)="NA","",VLOOKUP($A13,CSP!$1:$1048576,14,FALSE)/1000000),"") -> 1000000 | H13: =IF(AND(C13<>0,A13<>""), $C13/$F13,"") -> 3000 | I13: =IF(AND(F13=0,OR(B13<>"",C13<>"")),1,IF(AND(A13<>"",OR(B13<>"",C13<>"")),(B13+C13)/F13,"")) -> 3000 | J13: =IF(OR(AND(B13="",C13=""),A13=""),"",IF(OR(AND(B13<>"",B13<F13),AND(C13<>"",C13<F13)),"sans",IF(OR(AND(C13<>"",C13>=F13),AND(B13>=F13,B13<G13)),"D",IF(AND(B13>=G13,B13<10*G13,D13<>"oui"),"C",IF(OR(AND(B13<1000*G13,D13="oui"),AND(B13>=G13*10,B13<1000*G13)),"B",IF(B13>=1000*G13,"A","")))))) -> D | K13: =IF($A13 <> "",VLOOKUP($A13,CSP!$1:$1048576,11,FALSE),"") -> 100000 | L13: =IF($A13 <> "",VLOOKUP($A13,CSP!$1:$1048576,25,FALSE),"") -> 3.0421 | P13: =IF(OR(N13="",O13="",A13=""),"",N13/(2^((TODAY()-O13)/L13))) | W13: =SUMIF($E$11:$E$1004,AA13,AE$11:$AE$1004) -> 0 | X13: =IF(Z13>=1000,"A",IF(OR(Z13>=10,Y13>=1),"B",IF(Z13>=1,"C",IF(W13>=1,"D","sans")))) -> sans | Y13: =SUMIF($E$11:$E$1004,AA13,AD$11:$AD$1004) -> 0 | Z13: =SUMIF($E$11:$E$1004,AA13,AB$11:$AB$1004) -> 0 | AA13: =1+AA12 -> 3 | AB13: =IF(AND(B13<>"",G13<>""),B13/G13,0) -> 0 | AC13: =IF(AB13>=1,1,0) -> 0 | AD13: =IF(AND(B13<>"",D13="oui"),1,0) -> 0 | AE13: =IF(B13<>"",B13/F13,0) -> 0 | AF13: =X13 -> sans | AG13: =IF(B13<>"",IF(J13="sans",0,IF(J13="A",4,IF(J13="B",3,IF(J13="C",2,IF(J13="D",1,""))))),0) -> 0 | AH13: =IF($G$5=E13,AG13,0) -> 0 | AI13: =IF(AND(B13<>"",ISNUMBER(K13),K13<>0),B13/K13,0) -> 0 | AJ13: =IF(AI13>=1,1,0) -> 0 | AK13: =IF(C13<>"",L13,0) -> 3.0421
A14: 131I | C14: 2000 | F14: =IF($A14 <> "",VLOOKUP($A14,CSP!$1:$1048576,10,FALSE)/1000000,"") -> 1 | G14: =IF($A14 <> "",IF(VLOOKUP($A14,CSP!$1:$1048576,14,FALSE)="NA","",VLOOKUP($A14,CSP!$1:$1048576,14,FALSE)/1000000),"") -> 200000 | H14: =IF(AND(C14<>0,A14<>""), $C14/$F14,"") -> 2000 | I14: =IF(AND(F14=0,OR(B14<>"",C14<>"")),1,IF(AND(A14<>"",OR(B14<>"",C14<>"")),(B14+C14)/F14,"")) -> 2000 | J14: =IF(OR(AND(B14="",C14=""),A14=""),"",IF(OR(AND(B14<>"",B14<F14),AND(C14<>"",C14<F14)),"sans",IF(OR(AND(C14<>"",C14>=F14),AND(B14>=F14,B14<G14)),"D",IF(AND(B14>=G14,B14<10*G14,D14<>"oui"),"C",IF(OR(AND(B14<1000*G14,D14="oui"),AND(B14>=G14*10,B14<1000*G14)),"B",IF(B14>=1000*G14,"A","")))))) -> D | K14: =IF($A14 <> "",VLOOKUP($A14,CSP!$1:$1048576,11,FALSE),"") -> 30000 | L14: =IF($A14 <> "",VLOOKUP($A14,CSP!$1:$1048576,25,FALSE),"") -> 8.0252 | P14: =IF(OR(N14="",O14="",A14=""),"",N14/(2^((TODAY()-O14)/L14))) | W14: =SUMIF($E$11:$E$1004,AA14,AE$11:$AE$1004) -> 0 | X14: =IF(Z14>=1000,"A",IF(OR(Z14>=10,Y14>=1),"B",IF(Z14>=1,"C",IF(W14>=1,"D","sans")))) -> sans | Y14: =SUMIF($E$11:$E$1004,AA14,AD$11:$AD$1004) -> 0 | Z14: =SUMIF($E$11:$E$1004,AA14,AB$11:$AB$1004) -> 0 | AA14: =1+AA13 -> 4 | AB14: =IF(AND(B14<>"",G14<>""),B14/G14,0) -> 0 | AC14: =IF(AB14>=1,1,0) -> 0 | AD14: =IF(AND(B14<>"",D14="oui"),1,0) -> 0 | AE14: =IF(B14<>"",B14/F14,0) -> 0 | AF14: =X14 -> sans | AG14: =IF(B14<>"",IF(J14="sans",0,IF(J14="A",4,IF(J14="B",3,IF(J14="C",2,IF(J14="D",1,""))))),0) -> 0 | AH14: =IF($G$5=E14,AG14,0) -> 0 | AI14: =IF(AND(B14<>"",ISNUMBER(K14),K14<>0),B14/K14,0) -> 0 | AJ14: =IF(AI14>=1,1,0) -> 0 | AK14: =IF(C14<>"",L14,0) -> 8.0252 | AM14: 0 | AN14: sans
A15: 57Co | B15: 1100 | F15: =IF($A15 <> "",VLOOKUP($A15,CSP!$1:$1048576,10,FALSE)/1000000,"") -> 1 | G15: =IF($A15 <> "",IF(VLOOKUP($A15,CSP!$1:$1048576,14,FALSE)="NA","",VLOOKUP($A15,CSP!$1:$1048576,14,FALSE)/1000000),"") -> 700000 | H15: =IF(AND(C15<>0,A15<>""), $C15/$F15,"") | I15: =IF(AND(F15=0,OR(B15<>"",C15<>"")),1,IF(AND(A15<>"",OR(B15<>"",C15<>"")),(B15+C15)/F15,"")) -> 1100 | J15: =IF(OR(AND(B15="",C15=""),A15=""),"",IF(OR(AND(B15<>"",B15<F15),AND(C15<>"",C15<F15)),"sans",IF(OR(AND(C15<>"",C15>=F15),AND(B15>=F15,B15<G15)),"D",IF(AND(B15>=G15,B15<10*G15,D15<>"oui"),"C",IF(OR(AND(B15<1000*G15,D15="oui"),AND(B15>=G15*10,B15<1000*G15)),"B",IF(B15>=1000*G15,"A","")))))) -> D | K15: =IF($A15 <> "",VLOOKUP($A15,CSP!$1:$1048576,11,FALSE),"") -> 100000 | L15: =IF($A15 <> "",VLOOKUP($A15,CSP!$1:$1048576,25,FALSE),"") -> 271.74 | P15: =IF(OR(N15="",O15="",A15=""),"",N15/(2^((TODAY()-O15)/L15))) | W15: =SUMIF($E$11:$E$1004,AA15,AE$11:$AE$1004) -> 0 | X15: =IF(Z15>=1000,"A",IF(OR(Z15>=10,Y15>=1),"B",IF(Z15>=1,"C",IF(W15>=1,"D","sans")))) -> sans | Y15: =SUMIF($E$11:$E$1004,AA15,AD$11:$AD$1004) -> 0 | Z15: =SUMIF($E$11:$E$1004,AA15,AB$11:$AB$1004) -> 0 | AA15: =1+AA14 -> 5 | AB15: =IF(AND(B15<>"",G15<>""),B15/G15,0) -> 0.0015714286 | AC15: =IF(AB15>=1,1,0) -> 0 | AD15: =IF(AND(B15<>"",D15="oui"),1,0) -> 0 | AE15: =IF(B15<>"",B15/F15,0) -> 1100 | AF15: =X15 -> sans | AG15: =IF(B15<>"",IF(J15="sans",0,IF(J15="A",4,IF(J15="B",3,IF(J15="C",2,IF(J15="D",1,""))))),0) -> 1 | AH15: =IF($G$5=E15,AG15,0) -> 0 | AI15: =IF(AND(B15<>"",ISNUMBER(K15),K15<>0),B15/K15,0) -> 0.011 | AJ15: =IF(AI15>=1,1,0) -> 0 | AK15: =IF(C15<>"",L15,0) -> 0 | AM15: 1 | AN15: D
A16: 137Cs | B16: 20 | F16: =IF($A16 <> "",VLOOKUP($A16,CSP!$1:$1048576,10,FALSE)/1000000,"") -> 0.01 | G16: =IF($A16 <> "",IF(VLOOKUP($A16,CSP!$1:$1048576,14,FALSE)="NA","",VLOOKUP($A16,CSP!$1:$1048576,14,FALSE)/1000000),"") -> 100000 | H16: =IF(AND(C16<>0,A16<>""), $C16/$F16,"") | I16: =IF(AND(F16=0,OR(B16<>"",C16<>"")),1,IF(AND(A16<>"",OR(B16<>"",C16<>"")),(B16+C16)/F16,"")) -> 2000 | J16: =IF(OR(AND(B16="",C16=""),A16=""),"",IF(OR(AND(B16<>"",B16<F16),AND(C16<>"",C16<F16)),"sans",IF(OR(AND(C16<>"",C16>=F16),AND(B16>=F16,B16<G16)),"D",IF(AND(B16>=G16,B16<10*G16,D16<>"oui"),"C",IF(OR(AND(B16<1000*G16,D16="oui"),AND(B16>=G16*10,B16<1000*G16)),"B",IF(B16>=1000*G16,"A","")))))) -> D | K16: =IF($A16 <> "",VLOOKUP($A16,CSP!$1:$1048576,11,FALSE),"") -> 20000 | L16: =IF($A16 <> "",VLOOKUP($A16,CSP!$1:$1048576,25,FALSE),"") -> 10979.2 | P16: =IF(OR(N16="",O16="",A16=""),"",N16/(2^((TODAY()-O16)/L16))) | W16: =SUMIF($E$11:$E$1004,AA16,AE$11:$AE$1004) -> 0 | X16: =IF(Z16>=1000,"A",IF(OR(Z16>=10,Y16>=1),"B",IF(Z16>=1,"C",IF(W16>=1,"D","sans")))) -> sans | Y16: =SUMIF($E$11:$E$1004,AA16,AD$11:$AD$1004) -> 0 | Z16: =SUMIF($E$11:$E$1004,AA16,AB$11:$AB$1004) -> 0 | AA16: =1+AA15 -> 6 | AB16: =IF(AND(B16<>"",G16<>""),B16/G16,0) -> 0.0002 | AC16: =IF(AB16>=1,1,0) -> 0 | AD16: =IF(AND(B16<>"",D16="oui"),1,0) -> 0 | AE16: =IF(B16<>"",B16/F16,0) -> 2000 | AF16: =X16 -> sans | AG16: =IF(B16<>"",IF(J16="sans",0,IF(J16="A",4,IF(J16="B",3,IF(J16="C",2,IF(J16="D",1,""))))),0) -> 1 | AH16: =IF($G$5=E16,AG16,0) -> 0 | AI16: =IF(AND(B16<>"",ISNUMBER(K16),K16<>0),B16/K16,0) -> 0.001 | AJ16: =IF(AI16>=1,1,0) -> 0 | AK16: =IF(C16<>"",L16,0) -> 0 | AM16: 2 | AN16: C
A17: 133Ba | B17: 20 | F17: =IF($A17 <> "",VLOOKUP($A17,CSP!$1:$1048576,10,FALSE)/1000000,"") -> 1 | G17: =IF($A17 <> "",VLOOKUP($A17,CSP!$1:$1048576,14,FALSE)/1000000,"") -> 200000 | H17: =IF(AND(C17<>0,A17<>""), $C17/$F17,"") | I17: =IF(AND(F17=0,OR(B17<>"",C17<>"")),1,IF(AND(A17<>"",OR(B17<>"",C17<>"")),(B17+C17)/F17,"")) -> 20 | J17: =IF(OR(AND(B17="",C17=""),A17=""),"",IF(OR(AND(B17<>"",B17<F17),AND(C17<>"",C17<F17)),"sans",IF(OR(AND(C17<>"",C17>=F17),AND(B17>=F17,B17<G17)),"D",IF(AND(B17>=G17,B17<10*G17,D17<>"oui"),"C",IF(OR(AND(B17<1000*G17,D17="oui"),AND(B17>=G17*10,B17<1000*G17)),"B",IF(B17>=1000*G17,"A","")))))) -> D | K17: =IF($A17 <> "",VLOOKUP($A17,CSP!$1:$1048576,11,FALSE),"") -> 30000 | L17: =IF($A17 <> "",VLOOKUP($A17,CSP!$1:$1048576,25,FALSE),"") -> 3851.115 | P17: =IF(OR(N17="",O17="",A17=""),"",N17/(2^((TODAY()-O17)/L17))) | W17: =SUMIF($E$11:$E$1004,AA17,AE$11:$AE$1004) -> 0 | X17: =IF(Z17>=1000,"A",IF(OR(Z17>=10,Y17>=1),"B",IF(Z17>=1,"C",IF(W17>=1,"D","sans")))) -> sans | Y17: =SUMIF($E$11:$E$1004,AA17,AD$11:$AD$1004) -> 0 | Z17: =SUMIF($E$11:$E$1004,AA17,AB$11:$AB$1004) -> 0 | AA17: =1+AA16 -> 7 | AB17: =IF(AND(B17<>"",G17<>""),B17/G17,0) -> 0.0001 | AC17: =IF(AB17>=1,1,0) -> 0 | AD17: =IF(AND(B17<>"",D17="oui"),1,0) -> 0 | AE17: =IF(B17<>"",B17/F17,0) -> 20 | AF17: =X17 -> sans | AG17: =IF(B17<>"",IF(J17="sans",0,IF(J17="A",4,IF(J17="B",3,IF(J17="C",2,IF(J17="D",1,""))))),0) -> 1 | AH17: =IF($G$5=E17,AG17,0) -> 0 | AI17: =IF(AND(B17<>"",ISNUMBER(K17),K17<>0),B17/K17,0) -> 0.00066666667 | AJ17: =IF(AI17>=1,1,0) -> 0 | AK17: =IF(C17<>"",L17,0) -> 0 | AM17: 3 | AN17: B
A18: 90Sr | B18: 0.3 | D18: oui | F18: =IF($A18 <> "",VLOOKUP($A18,CSP!$1:$1048576,10,FALSE)/1000000,"") -> 0.01 | G18: =IF($A18 <> "",VLOOKUP($A18,CSP!$1:$1048576,14,FALSE)/1000000,"") -> 1000000 | H18: =IF(AND(C18<>0,A18<>""), $C18/$F18,"") | I18: =IF(AND(F18=0,OR(B18<>"",C18<>"")),1,IF(AND(A18<>"",OR(B18<>"",C18<>"")),(B18+C18)/F18,"")) -> 30 | J18: =IF(OR(AND(B18="",C18=""),A18=""),"",IF(OR(AND(B18<>"",B18<F18),AND(C18<>"",C18<F18)),"sans",IF(OR(AND(C18<>"",C18>=F18),AND(B18>=F18,B18<G18)),"D",IF(AND(B18>=G18,B18<10*G18,D18<>"oui"),"C",IF(OR(AND(B18<1000*G18,D18="oui"),AND(B18>=G18*10,B18<1000*G18)),"B",IF(B18>=1000*G18,"A","")))))) -> D | K18: =IF($A18 <> "",VLOOKUP($A18,CSP!$1:$1048576,11,FALSE),"") -> 3000 | L18: =IF($A18 <> "",VLOOKUP($A18,CSP!$1:$1048576,25,FALSE),"") -> 10508.35 | P18: =IF(OR(N18="",O18="",A18=""),"",N18/(2^((TODAY()-O18)/L18))) | W18: =SUMIF($E$11:$E$1004,AA18,AE$11:$AE$1004) -> 0 | X18: =IF(Z18>=1000,"A",IF(OR(Z18>=10,Y18>=1),"B",IF(Z18>=1,"C",IF(W18>=1,"D","sans")))) -> sans | Y18: =SUMIF($E$11:$E$1004,AA18,AD$11:$AD$1004) -> 0 | Z18: =SUMIF($E$11:$E$1004,AA18,AB$11:$AB$1004) -> 0 | AA18: =1+AA17 -> 8 | AB18: =IF(AND(B18<>"",G18<>""),B18/G18,0) -> 3e-07 | AC18: =IF(AB18>=1,1,0) -> 0 | AD18: =IF(AND(B18<>"",D18="oui"),1,0) -> 1 | AE18: =IF(B18<>"",B18/F18,0) -> 30 | AF18: =X18 -> sans | AG18: =IF(B18<>"",IF(J18="sans",0,IF(J18="A",4,IF(J18="B",3,IF(J18="C",2,IF(J18="D",1,""))))),0) -> 1 | AH18: =IF($G$5=E18,AG18,0) -> 0 | AI18: =IF(AND(B18<>"",ISNUMBER(K18),K18<>0),B18/K18,0) -> 0.0001 | AJ18: =IF(AI18>=1,1,0) -> 0 | AK18: =IF(C18<>"",L18,0) -> 0 | AM18: 4 | AN18: A
F19: =IF($A19 <> "",VLOOKUP($A19,CSP!$1:$1048576,10,FALSE)/1000000,"") | G19: =IF($A19 <> "",VLOOKUP($A19,CSP!$1:$1048576,14,FALSE)/1000000,"") | H19: =IF(AND(C19<>0,A19<>""), $C19/$F19,"") | I19: =IF(AND(F19=0,OR(B19<>"",C19<>"")),1,IF(AND(A19<>"",OR(B19<>"",C19<>"")),(B19+C19)/F19,"")) | J19: =IF(OR(AND(B19="",C19=""),A19=""),"",IF(OR(AND(B19<>"",B19<F19),AND(C19<>"",C19<F19)),"sans",IF(OR(AND(C19<>"",C19>=F19),AND(B19>=F19,B19<G19)),"D",IF(AND(B19>=G19,B19<10*G19,D19<>"oui"),"C",IF(OR(AND(B19<1000*G19,D19="oui"),AND(B19>=G19*10,B19<1000*G19)),"B",IF(B19>=1000*G19,"A","")))))) | K19: =IF($A19 <> "",VLOOKUP($A19,CSP!$1:$1048576,11,FALSE),"") | L19: =IF($A19 <> "",VLOOKUP($A19,CSP!$1:$1048576,25,FALSE),"") | P19: =IF(OR(N19="",O19="",A19=""),"",N19/(2^((TODAY()-O19)/L19))) | W19: =SUMIF($E$11:$E$1004,AA19,AE$11:$AE$1004) -> 0 | X19: =IF(Z19>=1000,"A",IF(OR(Z19>=10,Y19>=1),"B",IF(Z19>=1,"C",IF(W19>=1,"D","sans")))) -> sans | Y19: =SUMIF($E$11:$E$1004,AA19,AD$11:$AD$1004) -> 0 | Z19: =SUMIF($E$11:$E$1004,AA19,AB$11:$AB$1004) -> 0 | AA19: =1+AA18 -> 9 | AB19: =IF(AND(B19<>"",G19<>""),B19/G19,0) -> 0 | AC19: =IF(AB19>=1,1,0) -> 0 | AD19: =IF(AND(B19<>"",D19="oui"),1,0) -> 0 | AE19: =IF(B19<>"",B19/F19,0) -> 0 | AF19: =X19 -> sans | AG19: =IF(B19<>"",IF(J19="sans",0,IF(J19="A",4,IF(J19="B",3,IF(J19="C",2,IF(J19="D",1,""))))),0) -> 0 | AH19: =IF($G$5=E19,AG19,0) -> 0 | AI19: =IF(AND(B19<>"",ISNUMBER(K19),K19<>0),B19/K19,0) -> 0 | AJ19: =IF(AI19>=1,1,0) -> 0 | AK19: =IF(C19<>"",L19,0) -> 0
F20: =IF($A20 <> "",VLOOKUP($A20,CSP!$1:$1048576,10,FALSE)/1000000,"") | G20: =IF($A20 <> "",VLOOKUP($A20,CSP!$1:$1048576,14,FALSE)/1000000,"") | H20: =IF(AND(C20<>0,A20<>""), $C20/$F20,"") | I20: =IF(AND(F20=0,OR(B20<>"",C20<>"")),1,IF(AND(A20<>"",OR(B20<>"",C20<>"")),(B20+C20)/F20,"")) | J20: =IF(OR(AND(B20="",C20=""),A20=""),"",IF(OR(AND(B20<>"",B20<F20),AND(C20<>"",C20<F20)),"sans",IF(OR(AND(C20<>"",C20>=F20),AND(B20>=F20,B20<G20)),"D",IF(AND(B20>=G20,B20<10*G20,D20<>"oui"),"C",IF(OR(AND(B20<1000*G20,D20="oui"),AND(B20>=G20*10,B20<1000*G20)),"B",IF(B20>=1000*G20,"A","")))))) | K20: =IF($A20 <> "",VLOOKUP($A20,CSP!$1:$1048576,11,FALSE),"") | L20: =IF($A20 <> "",VLOOKUP($A20,CSP!$1:$1048576,25,FALSE),"") | P20: =IF(OR(N20="",O20="",A20=""),"",N20/(2^((TODAY()-O20)/L20))) | W20: =SUMIF($E$11:$E$1004,AA20,AE$11:$AE$1004) -> 0 | X20: =IF(Z20>=1000,"A",IF(OR(Z20>=10,Y20>=1),"B",IF(Z20>=1,"C",IF(W20>=1,"D","sans")))) -> sans | Y20: =SUMIF($E$11:$E$1004,AA20,AD$11:$AD$1004) -> 0 | Z20: =SUMIF($E$11:$E$1004,AA20,AB$11:$AB$1004) -> 0 | AA20: =1+AA19 -> 10 | AB20: =IF(AND(B20<>"",G20<>""),B20/G20,0) -> 0 | AC20: =IF(AB20>=1,1,0) -> 0 | AD20: =IF(AND(B20<>"",D20="oui"),1,0) -> 0 | AE20: =IF(B20<>"",B20/F20,0) -> 0 | AF20: =X20 -> sans | AG20: =IF(B20<>"",IF(J20="sans",0,IF(J20="A",4,IF(J20="B",3,IF(J20="C",2,IF(J20="D",1,""))))),0) -> 0 | AH20: =IF($G$5=E20,AG20,0) -> 0 | AI20: =IF(AND(B20<>"",ISNUMBER(K20),K20<>0),B20/K20,0) -> 0 | AJ20: =IF(AI20>=1,1,0) -> 0 | AK20: =IF(C20<>"",L20,0) -> 0
F21: =IF($A21 <> "",VLOOKUP($A21,CSP!$1:$1048576,10,FALSE)/1000000,"") | G21: =IF($A21 <> "",VLOOKUP($A21,CSP!$1:$1048576,14,FALSE)/1000000,"") | H21: =IF(AND(C21<>0,A21<>""), $C21/$F21,"") | I21: =IF(AND(F21=0,OR(B21<>"",C21<>"")),1,IF(AND(A21<>"",OR(B21<>"",C21<>"")),(B21+C21)/F21,"")) | J21: =IF(OR(AND(B21="",C21=""),A21=""),"",IF(OR(AND(B21<>"",B21<F21),AND(C21<>"",C21<F21)),"sans",IF(OR(AND(C21<>"",C21>=F21),AND(B21>=F21,B21<G21)),"D",IF(AND(B21>=G21,B21<10*G21,D21<>"oui"),"C",IF(OR(AND(B21<1000*G21,D21="oui"),AND(B21>=G21*10,B21<1000*G21)),"B",IF(B21>=1000*G21,"A","")))))) | K21: =IF($A21 <> "",VLOOKUP($A21,CSP!$1:$1048576,11,FALSE),"") | L21: =IF($A21 <> "",VLOOKUP($A21,CSP!$1:$1048576,25,FALSE),"") | P21: =IF(OR(N21="",O21="",A21=""),"",N21/(2^((TODAY()-O21)/L21))) | W21: =SUMIF($E$11:$E$1004,AA21,AE$11:$AE$1004) -> 0 | X21: =IF(Z21>=1000,"A",IF(OR(Z21>=10,Y21>=1),"B",IF(Z21>=1,"C",IF(W21>=1,"D","sans")))) -> sans | Y21: =SUMIF($E$11:$E$1004,AA21,AD$11:$AD$1004) -> 0 | Z21: =SUMIF($E$11:$E$1004,AA21,AB$11:$AB$1004) -> 0 | AA21: =1+AA20 -> 11 | AB21: =IF(AND(B21<>"",G21<>""),B21/G21,0) -> 0 | AC21: =IF(AB21>=1,1,0) -> 0 | AD21: =IF(AND(B21<>"",D21="oui"),1,0) -> 0 | AE21: =IF(B21<>"",B21/F21,0) -> 0 | AF21: =X21 -> sans | AG21: =IF(B21<>"",IF(J21="sans",0,IF(J21="A",4,IF(J21="B",3,IF(J21="C",2,IF(J21="D",1,""))))),0) -> 0 | AH21: =IF($G$5=E21,AG21,0) -> 0 | AI21: =IF(AND(B21<>"",ISNUMBER(K21),K21<>0),B21/K21,0) -> 0 | AJ21: =IF(AI21>=1,1,0) -> 0 | AK21: =IF(C21<>"",L21,0) -> 0
F22: =IF($A22 <> "",VLOOKUP($A22,CSP!$1:$1048576,10,FALSE)/1000000,"") | G22: =IF($A22 <> "",VLOOKUP($A22,CSP!$1:$1048576,14,FALSE)/1000000,"") | H22: =IF(AND(C22<>0,A22<>""), $C22/$F22,"") | I22: =IF(AND(F22=0,OR(B22<>"",C22<>"")),1,IF(AND(A22<>"",OR(B22<>"",C22<>"")),(B22+C22)/F22,"")) | J22: =IF(OR(AND(B22="",C22=""),A22=""),"",IF(OR(AND(B22<>"",B22<F22),AND(C22<>"",C22<F22)),"sans",IF(OR(AND(C22<>"",C22>=F22),AND(B22>=F22,B22<G22)),"D",IF(AND(B22>=G22,B22<10*G22,D22<>"oui"),"C",IF(OR(AND(B22<1000*G22,D22="oui"),AND(B22>=G22*10,B22<1000*G22)),"B",IF(B22>=1000*G22,"A","")))))) | K22: =IF($A22 <> "",VLOOKUP($A22,CSP!$1:$1048576,11,FALSE),"") | L22: =IF($A22 <> "",VLOOKUP($A22,CSP!$1:$1048576,25,FALSE),"") | P22: =IF(OR(N22="",O22="",A22=""),"",N22/(2^((TODAY()-O22)/L22))) | W22: =SUMIF($E$11:$E$1004,AA22,AE$11:$AE$1004) -> 0 | X22: =IF(Z22>=1000,"A",IF(OR(Z22>=10,Y22>=1),"B",IF(Z22>=1,"C",IF(W22>=1,"D","sans")))) -> sans | Y22: =SUMIF($E$11:$E$1004,AA22,AD$11:$AD$1004) -> 0 | Z22: =SUMIF($E$11:$E$1004,AA22,AB$11:$AB$1004) -> 0 | AA22: =1+AA21 -> 12 | AB22: =IF(AND(B22<>"",G22<>""),B22/G22,0) -> 0 | AC22: =IF(AB22>=1,1,0) -> 0 | AD22: =IF(AND(B22<>"",D22="oui"),1,0) -> 0 | AE22: =IF(B22<>"",B22/F22,0) -> 0 | AF22: =X22 -> sans | AG22: =IF(B22<>"",IF(J22="sans",0,IF(J22="A",4,IF(J22="B",3,IF(J22="C",2,IF(J22="D",1,""))))),0) -> 0 | AH22: =IF($G$5=E22,AG22,0) -> 0 | AI22: =IF(AND(B22<>"",ISNUMBER(K22),K22<>0),B22/K22,0) -> 0 | AJ22: =IF(AI22>=1,1,0) -> 0 | AK22: =IF(C22<>"",L22,0) -> 0
F23: =IF($A23 <> "",VLOOKUP($A23,CSP!$1:$1048576,10,FALSE)/1000000,"") | G23: =IF($A23 <> "",VLOOKUP($A23,CSP!$1:$1048576,14,FALSE)/1000000,"") | H23: =IF(AND(C23<>0,A23<>""), $C23/$F23,"") | I23: =IF(AND(F23=0,OR(B23<>"",C23<>"")),1,IF(AND(A23<>"",OR(B23<>"",C23<>"")),(B23+C23)/F23,"")) | J23: =IF(OR(AND(B23="",C23=""),A23=""),"",IF(OR(AND(B23<>"",B23<F23),AND(C23<>"",C23<F23)),"sans",IF(OR(AND(C23<>"",C23>=F23),AND(B23>=F23,B23<G23)),"D",IF(AND(B23>=G23,B23<10*G23,D23<>"oui"),"C",IF(OR(AND(B23<1000*G23,D23="oui"),AND(B23>=G23*10,B23<1000*G23)),"B",IF(B23>=1000*G23,"A","")))))) | K23: =IF($A23 <> "",VLOOKUP($A23,CSP!$1:$1048576,11,FALSE),"") | L23: =IF($A23 <> "",VLOOKUP($A23,CSP!$1:$1048576,25,FALSE),"") | P23: =IF(OR(N23="",O23="",A23=""),"",N23/(2^((TODAY()-O23)/L23))) | W23: =SUMIF($E$11:$E$1004,AA23,AE$11:$AE$1004) -> 0 | X23: =IF(Z23>=1000,"A",IF(OR(Z23>=10,Y23>=1),"B",IF(Z23>=1,"C",IF(W23>=1,"D","sans")))) -> sans | Y23: =SUMIF($E$11:$E$1004,AA23,AD$11:$AD$1004) -> 0 | Z23: =SUMIF($E$11:$E$1004,AA23,AB$11:$AB$1004) -> 0 | AA23: =1+AA22 -> 13 | AB23: =IF(AND(B23<>"",G23<>""),B23/G23,0) -> 0 | AC23: =IF(AB23>=1,1,0) -> 0 | AD23: =IF(AND(B23<>"",D23="oui"),1,0) -> 0 | AE23: =IF(B23<>"",B23/F23,0) -> 0 | AF23: =X23 -> sans | AG23: =IF(B23<>"",IF(J23="sans",0,IF(J23="A",4,IF(J23="B",3,IF(J23="C",2,IF(J23="D",1,""))))),0) -> 0 | AH23: =IF($G$5=E23,AG23,0) -> 0 | AI23: =IF(AND(B23<>"",ISNUMBER(K23),K23<>0),B23/K23,0) -> 0 | AJ23: =IF(AI23>=1,1,0) -> 0 | AK23: =IF(C23<>"",L23,0) -> 0
F24: =IF($A24 <> "",VLOOKUP($A24,CSP!$1:$1048576,10,FALSE)/1000000,"") | G24: =IF($A24 <> "",VLOOKUP($A24,CSP!$1:$1048576,14,FALSE)/1000000,"") | H24: =IF(AND(C24<>0,A24<>""), $C24/$F24,"") | I24: =IF(AND(F24=0,OR(B24<>"",C24<>"")),1,IF(AND(A24<>"",OR(B24<>"",C24<>"")),(B24+C24)/F24,"")) | J24: =IF(OR(AND(B24="",C24=""),A24=""),"",IF(OR(AND(B24<>"",B24<F24),AND(C24<>"",C24<F24)),"sans",IF(OR(AND(C24<>"",C24>=F24),AND(B24>=F24,B24<G24)),"D",IF(AND(B24>=G24,B24<10*G24,D24<>"oui"),"C",IF(OR(AND(B24<1000*G24,D24="oui"),AND(B24>=G24*10,B24<1000*G24)),"B",IF(B24>=1000*G24,"A","")))))) | K24: =IF($A24 <> "",VLOOKUP($A24,CSP!$1:$1048576,11,FALSE),"") | L24: =IF($A24 <> "",VLOOKUP($A24,CSP!$1:$1048576,25,FALSE),"") | P24: =IF(OR(N24="",O24="",A24=""),"",N24/(2^((TODAY()-O24)/L24))) | W24: =SUMIF($E$11:$E$1004,AA24,AE$11:$AE$1004) -> 0 | X24: =IF(Z24>=1000,"A",IF(OR(Z24>=10,Y24>=1),"B",IF(Z24>=1,"C",IF(W24>=1,"D","sans")))) -> sans | Y24: =SUMIF($E$11:$E$1004,AA24,AD$11:$AD$1004) -> 0 | Z24: =SUMIF($E$11:$E$1004,AA24,AB$11:$AB$1004) -> 0 | AA24: =1+AA23 -> 14 | AB24: =IF(AND(B24<>"",G24<>""),B24/G24,0) -> 0 | AC24: =IF(AB24>=1,1,0) -> 0 | AD24: =IF(AND(B24<>"",D24="oui"),1,0) -> 0 | AE24: =IF(B24<>"",B24/F24,0) -> 0 | AF24: =X24 -> sans | AG24: =IF(B24<>"",IF(J24="sans",0,IF(J24="A",4,IF(J24="B",3,IF(J24="C",2,IF(J24="D",1,""))))),0) -> 0 | AH24: =IF($G$5=E24,AG24,0) -> 0 | AI24: =IF(AND(B24<>"",ISNUMBER(K24),K24<>0),B24/K24,0) -> 0 | AJ24: =IF(AI24>=1,1,0) -> 0 | AK24: =IF(C24<>"",L24,0) -> 0
F25: =IF($A25 <> "",VLOOKUP($A25,CSP!$1:$1048576,10,FALSE)/1000000,"") | G25: =IF($A25 <> "",VLOOKUP($A25,CSP!$1:$1048576,14,FALSE)/1000000,"") | H25: =IF(AND(C25<>0,A25<>""), $C25/$F25,"") | I25: =IF(AND(F25=0,OR(B25<>"",C25<>"")),1,IF(AND(A25<>"",OR(B25<>"",C25<>"")),(B25+C25)/F25,"")) | J25: =IF(OR(AND(B25="",C25=""),A25=""),"",IF(OR(AND(B25<>"",B25<F25),AND(C25<>"",C25<F25)),"sans",IF(OR(AND(C25<>"",C25>=F25),AND(B25>=F25,B25<G25)),"D",IF(AND(B25>=G25,B25<10*G25,D25<>"oui"),"C",IF(OR(AND(B25<1000*G25,D25="oui"),AND(B25>=G25*10,B25<1000*G25)),"B",IF(B25>=1000*G25,"A","")))))) | K25: =IF($A25 <> "",VLOOKUP($A25,CSP!$1:$1048576,11,FALSE),"") | L25: =IF($A25 <> "",VLOOKUP($A25,CSP!$1:$1048576,25,FALSE),"") | P25: =IF(OR(N25="",O25="",A25=""),"",N25/(2^((TODAY()-O25)/L25))) | W25: =SUMIF($E$11:$E$1004,AA25,AE$11:$AE$1004) -> 0 | X25: =IF(Z25>=1000,"A",IF(OR(Z25>=10,Y25>=1),"B",IF(Z25>=1,"C",IF(W25>=1,"D","sans")))) -> sans | Y25: =SUMIF($E$11:$E$1004,AA25,AD$11:$AD$1004) -> 0 | Z25: =SUMIF($E$11:$E$1004,AA25,AB$11:$AB$1004) -> 0 | AA25: =1+AA24 -> 15 | AB25: =IF(AND(B25<>"",G25<>""),B25/G25,0) -> 0 | AC25: =IF(AB25>=1,1,0) -> 0 | AD25: =IF(AND(B25<>"",D25="oui"),1,0) -> 0 | AE25: =IF(B25<>"",B25/F25,0) -> 0 | AF25: =X25 -> sans | AG25: =IF(B25<>"",IF(J25="sans",0,IF(J25="A",4,IF(J25="B",3,IF(J25="C",2,IF(J25="D",1,""))))),0) -> 0 | AH25: =IF($G$5=E25,AG25,0) -> 0 | AI25: =IF(AND(B25<>"",ISNUMBER(K25),K25<>0),B25/K25,0) -> 0 | AJ25: =IF(AI25>=1,1,0) -> 0 | AK25: =IF(C25<>"",L25,0) -> 0
F26: =IF($A26 <> "",VLOOKUP($A26,CSP!$1:$1048576,10,FALSE)/1000000,"") | G26: =IF($A26 <> "",VLOOKUP($A26,CSP!$1:$1048576,14,FALSE)/1000000,"") | H26: =IF(AND(C26<>0,A26<>""), $C26/$F26,"") | I26: =IF(AND(F26=0,OR(B26<>"",C26<>"")),1,IF(AND(A26<>"",OR(B26<>"",C26<>"")),(B26+C26)/F26,"")) | J26: =IF(OR(AND(B26="",C26=""),A26=""),"",IF(OR(AND(B26<>"",B26<F26),AND(C26<>"",C26<F26)),"sans",IF(OR(AND(C26<>"",C26>=F26),AND(B26>=F26,B26<G26)),"D",IF(AND(B26>=G26,B26<10*G26,D26<>"oui"),"C",IF(OR(AND(B26<1000*G26,D26="oui"),AND(B26>=G26*10,B26<1000*G26)),"B",IF(B26>=1000*G26,"A","")))))) | K26: =IF($A26 <> "",VLOOKUP($A26,CSP!$1:$1048576,11,FALSE),"") | L26: =IF($A26 <> "",VLOOKUP($A26,CSP!$1:$1048576,25,FALSE),"") | P26: =IF(OR(N26="",O26="",A26=""),"",N26/(2^((TODAY()-O26)/L26))) | W26: =SUMIF($E$11:$E$1004,AA26,AE$11:$AE$1004) -> 0 | X26: =IF(Z26>=1000,"A",IF(OR(Z26>=10,Y26>=1),"B",IF(Z26>=1,"C",IF(W26>=1,"D","sans")))) -> sans | Y26: =SUMIF($E$11:$E$1004,AA26,AD$11:$AD$1004) -> 0 | Z26: =SUMIF($E$11:$E$1004,AA26,AB$11:$AB$1004) -> 0 | AA26: =1+AA25 -> 16 | AB26: =IF(AND(B26<>"",G26<>""),B26/G26,0) -> 0 | AC26: =IF(AB26>=1,1,0) -> 0 | AD26: =IF(AND(B26<>"",D26="oui"),1,0) -> 0 | AE26: =IF(B26<>"",B26/F26,0) -> 0 | AF26: =X26 -> sans | AG26: =IF(B26<>"",IF(J26="sans",0,IF(J26="A",4,IF(J26="B",3,IF(J26="C",2,IF(J26="D",1,""))))),0) -> 0 | AH26: =IF($G$5=E26,AG26,0) -> 0 | AI26: =IF(AND(B26<>"",ISNUMBER(K26),K26<>0),B26/K26,0) -> 0 | AJ26: =IF(AI26>=1,1,0) -> 0 | AK26: =IF(C26<>"",L26,0) -> 0
F27: =IF($A27 <> "",VLOOKUP($A27,CSP!$1:$1048576,10,FALSE)/1000000,"") | G27: =IF($A27 <> "",VLOOKUP($A27,CSP!$1:$1048576,14,FALSE)/1000000,"") | H27: =IF(AND(C27<>0,A27<>""), $C27/$F27,"") | I27: =IF(AND(F27=0,OR(B27<>"",C27<>"")),1,IF(AND(A27<>"",OR(B27<>"",C27<>"")),(B27+C27)/F27,"")) | J27: =IF(OR(AND(B27="",C27=""),A27=""),"",IF(OR(AND(B27<>"",B27<F27),AND(C27<>"",C27<F27)),"sans",IF(OR(AND(C27<>"",C27>=F27),AND(B27>=F27,B27<G27)),"D",IF(AND(B27>=G27,B27<10*G27,D27<>"oui"),"C",IF(OR(AND(B27<1000*G27,D27="oui"),AND(B27>=G27*10,B27<1000*G27)),"B",IF(B27>=1000*G27,"A","")))))) | K27: =IF($A27 <> "",VLOOKUP($A27,CSP!$1:$1048576,11,FALSE),"") | L27: =IF($A27 <> "",VLOOKUP($A27,CSP!$1:$1048576,25,FALSE),"") | P27: =IF(OR(N27="",O27="",A27=""),"",N27/(2^((TODAY()-O27)/L27))) | W27: =SUMIF($E$11:$E$1004,AA27,AE$11:$AE$1004) -> 0 | X27: =IF(Z27>=1000,"A",IF(OR(Z27>=10,Y27>=1),"B",IF(Z27>=1,"C",IF(W27>=1,"D","sans")))) -> sans | Y27: =SUMIF($E$11:$E$1004,AA27,AD$11:$AD$1004) -> 0 | Z27: =SUMIF($E$11:$E$1004,AA27,AB$11:$AB$1004) -> 0 | AA27: =1+AA26 -> 17 | AB27: =IF(AND(B27<>"",G27<>""),B27/G27,0) -> 0 | AC27: =IF(AB27>=1,1,0) -> 0 | AD27: =IF(AND(B27<>"",D27="oui"),1,0) -> 0 | AE27: =IF(B27<>"",B27/F27,0) -> 0 | AF27: =X27 -> sans | AG27: =IF(B27<>"",IF(J27="sans",0,IF(J27="A",4,IF(J27="B",3,IF(J27="C",2,IF(J27="D",1,""))))),0) -> 0 | AH27: =IF($G$5=E27,AG27,0) -> 0 | AI27: =IF(AND(B27<>"",ISNUMBER(K27),K27<>0),B27/K27,0) -> 0 | AJ27: =IF(AI27>=1,1,0) -> 0 | AK27: =IF(C27<>"",L27,0) -> 0
F28: =IF($A28 <> "",VLOOKUP($A28,CSP!$1:$1048576,10,FALSE)/1000000,"") | G28: =IF($A28 <> "",VLOOKUP($A28,CSP!$1:$1048576,14,FALSE)/1000000,"") | H28: =IF(AND(C28<>0,A28<>""), $C28/$F28,"") | I28: =IF(AND(F28=0,OR(B28<>"",C28<>"")),1,IF(AND(A28<>"",OR(B28<>"",C28<>"")),(B28+C28)/F28,"")) | J28: =IF(OR(AND(B28="",C28=""),A28=""),"",IF(OR(AND(B28<>"",B28<F28),AND(C28<>"",C28<F28)),"sans",IF(OR(AND(C28<>"",C28>=F28),AND(B28>=F28,B28<G28)),"D",IF(AND(B28>=G28,B28<10*G28,D28<>"oui"),"C",IF(OR(AND(B28<1000*G28,D28="oui"),AND(B28>=G28*10,B28<1000*G28)),"B",IF(B28>=1000*G28,"A","")))))) | K28: =IF($A28 <> "",VLOOKUP($A28,CSP!$1:$1048576,11,FALSE),"") | L28: =IF($A28 <> "",VLOOKUP($A28,CSP!$1:$1048576,25,FALSE),"") | P28: =IF(OR(N28="",O28="",A28=""),"",N28/(2^((TODAY()-O28)/L28))) | W28: =SUMIF($E$11:$E$1004,AA28,AE$11:$AE$1004) -> 0 | X28: =IF(Z28>=1000,"A",IF(OR(Z28>=10,Y28>=1),"B",IF(Z28>=1,"C",IF(W28>=1,"D","sans")))) -> sans | Y28: =SUMIF($E$11:$E$1004,AA28,AD$11:$AD$1004) -> 0 | Z28: =SUMIF($E$11:$E$1004,AA28,AB$11:$AB$1004) -> 0 | AA28: =1+AA27 -> 18 | AB28: =IF(AND(B28<>"",G28<>""),B28/G28,0) -> 0 | AC28: =IF(AB28>=1,1,0) -> 0 | AD28: =IF(AND(B28<>"",D28="oui"),1,0) -> 0 | AE28: =IF(B28<>"",B28/F28,0) -> 0 | AF28: =X28 -> sans | AG28: =IF(B28<>"",IF(J28="sans",0,IF(J28="A",4,IF(J28="B",3,IF(J28="C",2,IF(J28="D",1,""))))),0) -> 0 | AH28: =IF($G$5=E28,AG28,0) -> 0 | AI28: =IF(AND(B28<>"",ISNUMBER(K28),K28<>0),B28/K28,0) -> 0 | AJ28: =IF(AI28>=1,1,0) -> 0 | AK28: =IF(C28<>"",L28,0) -> 0
F29: =IF($A29 <> "",VLOOKUP($A29,CSP!$1:$1048576,10,FALSE)/1000000,"") | G29: =IF($A29 <> "",VLOOKUP($A29,CSP!$1:$1048576,14,FALSE)/1000000,"") | H29: =IF(AND(C29<>0,A29<>""), $C29/$F29,"") | I29: =IF(AND(F29=0,OR(B29<>"",C29<>"")),1,IF(AND(A29<>"",OR(B29<>"",C29<>"")),(B29+C29)/F29,"")) | J29: =IF(OR(AND(B29="",C29=""),A29=""),"",IF(OR(AND(B29<>"",B29<F29),AND(C29<>"",C29<F29)),"sans",IF(OR(AND(C29<>"",C29>=F29),AND(B29>=F29,B29<G29)),"D",IF(AND(B29>=G29,B29<10*G29,D29<>"oui"),"C",IF(OR(AND(B29<1000*G29,D29="oui"),AND(B29>=G29*10,B29<1000*G29)),"B",IF(B29>=1000*G29,"A","")))))) | K29: =IF($A29 <> "",VLOOKUP($A29,CSP!$1:$1048576,11,FALSE),"") | L29: =IF($A29 <> "",VLOOKUP($A29,CSP!$1:$1048576,25,FALSE),"") | P29: =IF(OR(N29="",O29="",A29=""),"",N29/(2^((TODAY()-O29)/L29))) | W29: =SUMIF($E$11:$E$1004,AA29,AE$11:$AE$1004) -> 0 | X29: =IF(Z29>=1000,"A",IF(OR(Z29>=10,Y29>=1),"B",IF(Z29>=1,"C",IF(W29>=1,"D","sans")))) -> sans | Y29: =SUMIF($E$11:$E$1004,AA29,AD$11:$AD$1004) -> 0 | Z29: =SUMIF($E$11:$E$1004,AA29,AB$11:$AB$1004) -> 0 | AA29: =1+AA28 -> 19 | AB29: =IF(AND(B29<>"",G29<>""),B29/G29,0) -> 0 | AC29: =IF(AB29>=1,1,0) -> 0 | AD29: =IF(AND(B29<>"",D29="oui"),1,0) -> 0 | AE29: =IF(B29<>"",B29/F29,0) -> 0 | AF29: =X29 -> sans | AG29: =IF(B29<>"",IF(J29="sans",0,IF(J29="A",4,IF(J29="B",3,IF(J29="C",2,IF(J29="D",1,""))))),0) -> 0 | AH29: =IF($G$5=E29,AG29,0) -> 0 | AI29: =IF(AND(B29<>"",ISNUMBER(K29),K29<>0),B29/K29,0) -> 0 | AJ29: =IF(AI29>=1,1,0) -> 0 | AK29: =IF(C29<>"",L29,0) -> 0
F30: =IF($A30 <> "",VLOOKUP($A30,CSP!$1:$1048576,10,FALSE)/1000000,"") | G30: =IF($A30 <> "",VLOOKUP($A30,CSP!$1:$1048576,14,FALSE)/1000000,"") | H30: =IF(AND(C30<>0,A30<>""), $C30/$F30,"") | I30: =IF(AND(F30=0,OR(B30<>"",C30<>"")),1,IF(AND(A30<>"",OR(B30<>"",C30<>"")),(B30+C30)/F30,"")) | J30: =IF(OR(AND(B30="",C30=""),A30=""),"",IF(OR(AND(B30<>"",B30<F30),AND(C30<>"",C30<F30)),"sans",IF(OR(AND(C30<>"",C30>=F30),AND(B30>=F30,B30<G30)),"D",IF(AND(B30>=G30,B30<10*G30,D30<>"oui"),"C",IF(OR(AND(B30<1000*G30,D30="oui"),AND(B30>=G30*10,B30<1000*G30)),"B",IF(B30>=1000*G30,"A","")))))) | K30: =IF($A30 <> "",VLOOKUP($A30,CSP!$1:$1048576,11,FALSE),"") | L30: =IF($A30 <> "",VLOOKUP($A30,CSP!$1:$1048576,25,FALSE),"") | P30: =IF(OR(N30="",O30="",A30=""),"",N30/(2^((TODAY()-O30)/L30))) | W30: =SUMIF($E$11:$E$1004,AA30,AE$11:$AE$1004) -> 0 | X30: =IF(Z30>=1000,"A",IF(OR(Z30>=10,Y30>=1),"B",IF(Z30>=1,"C",IF(W30>=1,"D","sans")))) -> sans | Y30: =SUMIF($E$11:$E$1004,AA30,AD$11:$AD$1004) -> 0 | Z30: =SUMIF($E$11:$E$1004,AA30,AB$11:$AB$1004) -> 0 | AA30: =1+AA29 -> 20 | AB30: =IF(AND(B30<>"",G30<>""),B30/G30,0) -> 0 | AC30: =IF(AB30>=1,1,0) -> 0 | AD30: =IF(AND(B30<>"",D30="oui"),1,0) -> 0 | AE30: =IF(B30<>"",B30/F30,0) -> 0 | AF30: =X30 -> sans | AG30: =IF(B30<>"",IF(J30="sans",0,IF(J30="A",4,IF(J30="B",3,IF(J30="C",2,IF(J30="D",1,""))))),0) -> 0 | AH30: =IF($G$5=E30,AG30,0) -> 0 | AI30: =IF(AND(B30<>"",ISNUMBER(K30),K30<>0),B30/K30,0) -> 0 | AJ30: =IF(AI30>=1,1,0) -> 0 | AK30: =IF(C30<>"",L30,0) -> 0
... F1000: =IF($A1000 <> "",VLOOKUP($A1000,CSP!$1:$1048576,10,FALSE)/1000000,"") | G1000: =IF($A1000 <> "",VLOOKUP($A1000,CSP!$1:$1048576,14,FALSE)/1000000,"") | H1000: =IF(AND(C1000<>0,A1000<>""), $C1000/$F1000,"") | I1000: =IF(AND(F1000=0,OR(B1000<>"",C1000<>"")),1,IF(AND(A1000<>"",OR(B1000<>"",C1000<>"")),(B1000+C1000)/F1000,"")) | J1000: =IF(OR(AND(B1000="",C1000=""),A1000=""),"",IF(OR(AND(B1000<>"",B1000<F1000),AND(C1000<>"",C1000<F1000)),"sans",IF(OR(AND(C1000<>"",C1000>=F1000),AND(B1000>=F1000,B1000<G1000)),"D",IF(AND(B1000>=G1000,B1000<10*G1000,D1000<>"oui"),"C",IF(OR(AND(B1000<1000*G1000,D1000="oui"),AND(B1000>=G1000*10,B1000<1000*G1000)),"B",IF(B1000>=1000*G1000,"A","")))))) | K1000: =IF($A1000 <> "",VLOOKUP($A1000,CSP!$1:$1048576,11,FALSE),"") | L1000: =IF($A1000 <> "",VLOOKUP($A1000,CSP!$1:$1048576,25,FALSE),"") | P1000: =IF(OR(N1000="",O1000="",A1000=""),"",N1000/(2^((TODAY()-O1000)/L1000))) | W1000: =SUMIF($E$11:$E$1004,AA1000,AE$11:$AE$1004) -> 0 | X1000: =IF(Z1000>=1000,"A",IF(OR(Z1000>=10,Y1000>=1),"B",IF(Z1000>=1,"C",IF(W1000>=1,"D","sans")))) -> sans | Y1000: =SUMIF($E$11:$E$1004,AA1000,AD$11:$AD$1004) -> 0 | Z1000: =SUMIF($E$11:$E$1004,AA1000,AB$11:$AB$1004) -> 0 | AA1000: =1+AA999 -> 990 | AB1000: =IF(AND(B1000<>"",G1000<>""),B1000/G1000,0) -> 0 | AC1000: =IF(AB1000>=1,1,0) -> 0 | AD1000: =IF(AND(B1000<>"",D1000="oui"),1,0) -> 0 | AE1000: =IF(B1000<>"",B1000/F1000,0) -> 0 | AF1000: =X1000 -> sans | AG1000: =IF(B1000<>"",IF(J1000="sans",0,IF(J1000="A",4,IF(J1000="B",3,IF(J1000="C",2,IF(J1000="D",1,""))))),0) -> 0 | AH1000: =IF($G$5=E1000,AG1000,0) -> 0 | AI1000: =IF(AND(B1000<>"",ISNUMBER(K1000),K1000<>0),B1000/K1000,0) -> 0 | AJ1000: =IF(AI1000>=1,1,0) -> 0 | AK1000: =IF(C1000<>"",L1000,0) -> 0
F1001: =IF($A1001 <> "",VLOOKUP($A1001,CSP!$1:$1048576,10,FALSE)/1000000,"") | G1001: =IF($A1001 <> "",VLOOKUP($A1001,CSP!$1:$1048576,14,FALSE)/1000000,"") | H1001: =IF(AND(C1001<>0,A1001<>""), $C1001/$F1001,"") | I1001: =IF(AND(F1001=0,OR(B1001<>"",C1001<>"")),1,IF(AND(A1001<>"",OR(B1001<>"",C1001<>"")),(B1001+C1001)/F1001,"")) | J1001: =IF(OR(AND(B1001="",C1001=""),A1001=""),"",IF(OR(AND(B1001<>"",B1001<F1001),AND(C1001<>"",C1001<F1001)),"sans",IF(OR(AND(C1001<>"",C1001>=F1001),AND(B1001>=F1001,B1001<G1001)),"D",IF(AND(B1001>=G1001,B1001<10*G1001,D1001<>"oui"),"C",IF(OR(AND(B1001<1000*G1001,D1001="oui"),AND(B1001>=G1001*10,B1001<1000*G1001)),"B",IF(B1001>=1000*G1001,"A","")))))) | K1001: =IF($A1001 <> "",VLOOKUP($A1001,CSP!$1:$1048576,11,FALSE),"") | L1001: =IF($A1001 <> "",VLOOKUP($A1001,CSP!$1:$1048576,25,FALSE),"") | P1001: =IF(OR(N1001="",O1001="",A1001=""),"",N1001/(2^((TODAY()-O1001)/L1001))) | W1001: =SUMIF($E$11:$E$1004,AA1001,AE$11:$AE$1004) -> 0 | X1001: =IF(Z1001>=1000,"A",IF(OR(Z1001>=10,Y1001>=1),"B",IF(Z1001>=1,"C",IF(W1001>=1,"D","sans")))) -> sans | Y1001: =SUMIF($E$11:$E$1004,AA1001,AD$11:$AD$1004) -> 0 | Z1001: =SUMIF($E$11:$E$1004,AA1001,AB$11:$AB$1004) -> 0 | AB1001: =IF(AND(B1001<>"",G1001<>""),B1001/G1001,0) -> 0 | AC1001: =IF(AB1001>=1,1,0) -> 0 | AD1001: =IF(AND(B1001<>"",D1001="oui"),1,0) -> 0 | AE1001: =IF(B1001<>"",B1001/F1001,0) -> 0 | AF1001: =X1001 -> sans | AG1001: =IF(B1001<>"",IF(J1001="sans",0,IF(J1001="A",4,IF(J1001="B",3,IF(J1001="C",2,IF(J1001="D",1,""))))),0) -> 0 | AH1001: =IF($G$5=E1001,AG1001,0) -> 0 | AI1001: =IF(AND(B1001<>"",ISNUMBER(K1001),K1001<>0),B1001/K1001,0) -> 0 | AJ1001: =IF(AI1001>=1,1,0) -> 0 | AK1001: =IF(C1001<>"",L1001,0) -> 0
F1002: =IF($A1002 <> "",VLOOKUP($A1002,CSP!$1:$1048576,10,FALSE)/1000000,"") | G1002: =IF($A1002 <> "",VLOOKUP($A1002,CSP!$1:$1048576,14,FALSE)/1000000,"") | H1002: =IF(AND(C1002<>0,A1002<>""), $C1002/$F1002,"") | I1002: =IF(AND(F1002=0,OR(B1002<>"",C1002<>"")),1,IF(AND(A1002<>"",OR(B1002<>"",C1002<>"")),(B1002+C1002)/F1002,"")) | J1002: =IF(OR(AND(B1002="",C1002=""),A1002=""),"",IF(OR(AND(B1002<>"",B1002<F1002),AND(C1002<>"",C1002<F1002)),"sans",IF(OR(AND(C1002<>"",C1002>=F1002),AND(B1002>=F1002,B1002<G1002)),"D",IF(AND(B1002>=G1002,B1002<10*G1002,D1002<>"oui"),"C",IF(OR(AND(B1002<1000*G1002,D1002="oui"),AND(B1002>=G1002*10,B1002<1000*G1002)),"B",IF(B1002>=1000*G1002,"A","")))))) | K1002: =IF($A1002 <> "",VLOOKUP($A1002,CSP!$1:$1048576,11,FALSE),"") | L1002: =IF($A1002 <> "",VLOOKUP($A1002,CSP!$1:$1048576,25,FALSE),"") | P1002: =IF(OR(N1002="",O1002="",A1002=""),"",N1002/(2^((TODAY()-O1002)/L1002))) | W1002: =SUMIF($E$11:$E$1004,AA1002,AE$11:$AE$1004) -> 0 | X1002: =IF(Z1002>=1000,"A",IF(OR(Z1002>=10,Y1002>=1),"B",IF(Z1002>=1,"C",IF(W1002>=1,"D","sans")))) -> sans | Y1002: =SUMIF($E$11:$E$1004,AA1002,AD$11:$AD$1004) -> 0 | Z1002: =SUMIF($E$11:$E$1004,AA1002,AB$11:$AB$1004) -> 0 | AB1002: =IF(AND(B1002<>"",G1002<>""),B1002/G1002,0) -> 0 | AC1002: =IF(AB1002>=1,1,0) -> 0 | AD1002: =IF(AND(B1002<>"",D1002="oui"),1,0) -> 0 | AE1002: =IF(B1002<>"",B1002/F1002,0) -> 0 | AF1002: =X1002 -> sans | AG1002: =IF(B1002<>"",IF(J1002="sans",0,IF(J1002="A",4,IF(J1002="B",3,IF(J1002="C",2,IF(J1002="D",1,""))))),0) -> 0 | AH1002: =IF($G$5=E1002,AG1002,0) -> 0 | AI1002: =IF(AND(B1002<>"",ISNUMBER(K1002),K1002<>0),B1002/K1002,0) -> 0 | AJ1002: =IF(AI1002>=1,1,0) -> 0 | AK1002: =IF(C1002<>"",L1002,0) -> 0
F1003: =IF($A1003 <> "",VLOOKUP($A1003,CSP!$1:$1048576,10,FALSE)/1000000,"") | G1003: =IF($A1003 <> "",VLOOKUP($A1003,CSP!$1:$1048576,14,FALSE)/1000000,"") | H1003: =IF(AND(C1003<>0,A1003<>""), $C1003/$F1003,"") | I1003: =IF(AND(F1003=0,OR(B1003<>"",C1003<>"")),1,IF(AND(A1003<>"",OR(B1003<>"",C1003<>"")),(B1003+C1003)/F1003,"")) | J1003: =IF(OR(AND(B1003="",C1003=""),A1003=""),"",IF(OR(AND(B1003<>"",B1003<F1003),AND(C1003<>"",C1003<F1003)),"sans",IF(OR(AND(C1003<>"",C1003>=F1003),AND(B1003>=F1003,B1003<G1003)),"D",IF(AND(B1003>=G1003,B1003<10*G1003,D1003<>"oui"),"C",IF(OR(AND(B1003<1000*G1003,D1003="oui"),AND(B1003>=G1003*10,B1003<1000*G1003)),"B",IF(B1003>=1000*G1003,"A","")))))) | K1003: =IF($A1003 <> "",VLOOKUP($A1003,CSP!$1:$1048576,11,FALSE),"") | L1003: =IF($A1003 <> "",VLOOKUP($A1003,CSP!$1:$1048576,25,FALSE),"") | P1003: =IF(OR(N1003="",O1003="",A1003=""),"",N1003/(2^((TODAY()-O1003)/L1003))) | W1003: =SUMIF($E$11:$E$1004,AA1003,AE$11:$AE$1004) -> 0 | X1003: =IF(Z1003>=1000,"A",IF(OR(Z1003>=10,Y1003>=1),"B",IF(Z1003>=1,"C",IF(W1003>=1,"D","sans")))) -> sans | Y1003: =SUMIF($E$11:$E$1004,AA1003,AD$11:$AD$1004) -> 0 | Z1003: =SUMIF($E$11:$E$1004,AA1003,AB$11:$AB$1004) -> 0 | AB1003: =IF(AND(B1003<>"",G1003<>""),B1003/G1003,0) -> 0 | AC1003: =IF(AB1003>=1,1,0) -> 0 | AD1003: =IF(AND(B1003<>"",D1003="oui"),1,0) -> 0 | AE1003: =IF(B1003<>"",B1003/F1003,0) -> 0 | AF1003: =X1003 -> sans | AG1003: =IF(B1003<>"",IF(J1003="sans",0,IF(J1003="A",4,IF(J1003="B",3,IF(J1003="C",2,IF(J1003="D",1,""))))),0) -> 0 | AH1003: =IF($G$5=E1003,AG1003,0) -> 0 | AI1003: =IF(AND(B1003<>"",ISNUMBER(K1003),K1003<>0),B1003/K1003,0) -> 0 | AJ1003: =IF(AI1003>=1,1,0) -> 0 | AK1003: =IF(C1003<>"",L1003,0) -> 0
F1004: =IF($A1004 <> "",VLOOKUP($A1004,CSP!$1:$1048576,10,FALSE)/1000000,"") | G1004: =IF($A1004 <> "",VLOOKUP($A1004,CSP!$1:$1048576,14,FALSE)/1000000,"") | H1004: =IF(AND(C1004<>0,A1004<>""), $C1004/$F1004,"") | I1004: =IF(AND(F1004=0,OR(B1004<>"",C1004<>"")),1,IF(AND(A1004<>"",OR(B1004<>"",C1004<>"")),(B1004+C1004)/F1004,"")) | J1004: =IF(OR(AND(B1004="",C1004=""),A1004=""),"",IF(OR(AND(B1004<>"",B1004<F1004),AND(C1004<>"",C1004<F1004)),"sans",IF(OR(AND(C1004<>"",C1004>=F1004),AND(B1004>=F1004,B1004<G1004)),"D",IF(AND(B1004>=G1004,B1004<10*G1004,D1004<>"oui"),"C",IF(OR(AND(B1004<1000*G1004,D1004="oui"),AND(B1004>=G1004*10,B1004<1000*G1004)),"B",IF(B1004>=1000*G1004,"A","")))))) | K1004: =IF($A1004 <> "",VLOOKUP($A1004,CSP!$1:$1048576,11,FALSE),"") | L1004: =IF($A1004 <> "",VLOOKUP($A1004,CSP!$1:$1048576,25,FALSE),"") | P1004: =IF(OR(N1004="",O1004="",A1004=""),"",N1004/(2^((TODAY()-O1004)/L1004))) | W1004: =SUMIF($E$11:$E$1004,AA1004,AE$11:$AE$1004) -> 0 | X1004: =IF(Z1004>=1000,"A",IF(OR(Z1004>=10,Y1004>=1),"B",IF(Z1004>=1,"C",IF(W1004>=1,"D","sans")))) -> sans | Y1004: =SUMIF($E$11:$E$1004,AA1004,AD$11:$AD$1004) -> 0 | Z1004: =SUMIF($E$11:$E$1004,AA1004,AB$11:$AB$1004) -> 0 | AB1004: =IF(AND(B1004<>"",G1004<>""),B1004/G1004,0) -> 0 | AC1004: =IF(AB1004>=1,1,0) -> 0 | AD1004: =IF(AND(B1004<>"",D1004="oui"),1,0) -> 0 | AE1004: =IF(B1004<>"",B1004/F1004,0) -> 0 | AF1004: =X1004 -> sans | AG1004: =IF(B1004<>"",IF(J1004="sans",0,IF(J1004="A",4,IF(J1004="B",3,IF(J1004="C",2,IF(J1004="D",1,""))))),0) -> 0 | AH1004: =IF($G$5=E1004,AG1004,0) -> 0 | AI1004: =IF(AND(B1004<>"",ISNUMBER(K1004),K1004<>0),B1004/K1004,0) -> 0 | AJ1004: =IF(AI1004>=1,1,0) -> 0 | AK1004: =IF(C1004<>"",L1004,0) -> 0

Sheet CSP
A1: Radionucléide | B1: RN pour SIGIS | C1: RN pour SIGIS | D1: RN | E1: N Atom | F1: Etension 1 | G1: Extension 2 | H1: Exemption (MBq) (old) | I1: Exemption (Bq) (old) | J1: Exemption (Bq) (new) | K1: SSHA (MBq) (old) | L1: SSHA (Bq) (old) | M1: D value (MBq) | N1: SSHA (Bq) (new) | O1: Seuil CPE Etalonnage (MBq) | P1: Ancien seuil CSP (< 2002) MBq | Q1: Groupe Radiotoxicité | R1: Commentaire (Exemption) | S1: Exemption (kBq/kg) (old) | T1: Exemption (kBq/kg) (new) | U1: Déclaration (kBq/kg) (new) | V1: Commentaire CPE | W1: Commentaire SSHA | X1: Commentaire D value | Y1: Période (Jours) | Z1: Période (Jours) | AA1: années | AB1: heures | AC1: minutes | AD1: secondes
A2: 3H | B2: H3 | C2: H3 | D2: H | E2: 3 | H2: 1000 | I2: 1000000000 | J2: 1000000000 | K2: 400000 | L2: 400000000000 | M2: 2000000000 | N2: 2e+15 | O2: 50 | P2: 5 | Q2: 4 | S2: 1000000 | T2: 100 | U2: 1000000 | Y2: =Z2+AA2*365+AB2/24+AC2/(24*60)+AD2/(24*3600) -> 4496.8 | AA2: 12.32
A3: 7Be | B3: Be7 | C3: Be7 | D3: Be | E3: 7 | H3: 10 | I3: 10000000 | J3: 10000000 | K3: 200000 | L3: 200000000000 | M3: 1000000 | N3: 1000000000000 | O3: 50 | P3: 5 | Q3: 4 | S3: 1000 | T3: 10 | U3: 1000 | Y3: =Z3+AA3*365+AB3/24+AC3/(24*60)+AD3/(24*3600) -> 53.22 | Z3: 53.22
A4: 10Be | B4: Be10 | C4: Be10 | D4: Be | E4: 10 | H4: 1 | I4: 1000000 | J4: 1000000 | K4: 400000 | L4: 400000000000 | M4: 30000000 | N4: 30000000000000 | O4: 5 | P4: 0.05 | Q4: 2 | S4: 10000 | T4: / | U4: / | Y4: =Z4+AA4*365+AB4/24+AC4/(24*60)+AD4/(24*3600) -> 551150000 | AA4: 1510000
A5: 11C dioxyde | B5: C11 dioxyde | C5: C11 dioxyde | D5: C | E5: 11 | F5: dioxyde | H5: 1000 | I5: 1000000000 | J5: 1000000000 | K5: 400000 | L5: 400000000000 | M5: 60000 | N5: 60000000000 | O5: 50 | P5: 5 | Q5: 4 | S5: 10 | T5: / | U5: / | V5: La CPE ne fait pas de # sur la forme physico-chimique | Y5: =Z5+AA5*365+AB5/24+AC5/(24*60)+AD5/(24*3600) -> 0.014141667 | AC5: 20.364
A6: 11C monoxyde | B6: C11 monoxyde | C6: C11 monoxyde | D6: C | E6: 11 | F6: monoxyde | H6: 1000 | I6: 1000000000 | J6: 1000000000 | K6: 400000 | L6: 400000000000 | M6: 60000 | N6: 60000000000 | O6: 50 | P6: 5 | Q6: 4 | S6: 10 | T6: / | U6: / | V6: La CPE ne fait pas de # sur la forme physico-chimique | Y6: =Z6+AA6*365+AB6/24+AC6/(24*60)+AD6/(24*3600) -> 0.014141667 | AC6: 20.364
A7: 11C | B7: C11 | C7: C11 | D7: C | E7: 11 | H7: 1 | I7: 1000000 | J7: 1000000 | K7: 10000 | L7: 10000000000 | M7: 60000 | N7: 60000000000 | O7: 50 | P7: 5 | Q7: 4 | S7: 10 | T7: / | U7: / | Y7: =Z7+AA7*365+AB7/24+AC7/(24*60)+AD7/(24*3600) -> 0.014141667 | AC7: 20.364
A8: 13N | B8: N13 | C8: N13 | D8: N | E8: 13 | H8: 1000 | I8: 1000000000 | J8: 1000000000 | K8: 9000 | L8: 9000000000 | M8: 60000 | N8: 60000000000 | S8: 100 | T8: / | U8: / | Y8: =Z8+AA8*365+AB8/24+AC8/(24*60)+AD8/(24*3600) -> 0.0069201389 | AC8: 9.965
A9: 14C dioxyde | B9: C14 dioxyde | C9: C14 dioxyde | D9: C | E9: 14 | F9: dioxyde | H9: 1e-05 | I9: 10 | J9: 10 | K9: 400000 | L9: 400000000000 | M9: 50000000 | N9: 50000000000000 | O9: 5 | P9: 0.5 | Q9: 3 | S9: 10000000 | T9: / | U9: / | V9: La CPE ne fait pas de # sur la forme physico-chimique | Y9: =Z9+AA9*365+AB9/24+AC9/(24*60)+AD9/(24*3600) -> 2080500 | AA9: 5700
A10: 14C monoxyde | B10: C14 monoxyde | C10: C14 monoxyde | D10: C | E10: 14 | F10: monoxyde | H10: 1e-05 | I10: 10 | J10: 10 | K10: 400000 | L10: 400000000000 | M10: 50000000 | N10: 50000000000000 | O10: 5 | P10: 0.5 | Q10: 3 | S10: 100000000 | T10: / | U10: / | V10: La CPE ne fait pas de # sur la forme physico-chimique | Y10: =Z10+AA10*365+AB10/24+AC10/(24*60)+AD10/(24*3600) -> 2080500 | AA10: 5700
A11: 14C | B11: C14 | C11: C14 | D11: C | E11: 14 | H11: 10 | I11: 10000000 | J11: 10000000 | K11: 400000 | L11: 400000000000 | M11: 50000000 | N11: 50000000000000 | O11: 5 | P11: 0.5 | Q11: 3 | S11: 10000 | T11: 1 | U11: 10000 | Y11: =Z11+AA11*365+AB11/24+AC11/(24*60)+AD11/(24*3600) -> 2080500 | AA11: 5700
A12: 15O | B12: O15 | C12: O15 | D12: O | E12: 15 | H12: 1000 | I12: 1000000000 | J12: 1000000000 | L12: NA | N12: NA | Q12: - | S12: 100 | T12: / | U12: 100 | Y12: =Z12+AA12*365+AB12/24+AC12/(24*60)+AD12/(24*3600) -> 0.0014173611 | AC12: 2.041
A13: 18F | B13: F18 | C13: F18 | D13: F | E13: 18 | H13: 1 | I13: 1000000 | J13: 1000000 | K13: 10000 | L13: 10000000000 | M13: 60000 | N13: 60000000000 | O13: 50 | P13: 5 | Q13: 4 | S13: 10 | T13: 10 | U13: 10 | Y13: =Z13+AA13*365+AB13/24+AC13/(24*60)+AD13/(24*3600) -> 0.0762 | AB13: 1.8288
A14: 19Ne | B14: Ne19 | C14: Ne19 | D14: Ne | E14: 19 | H14: 1000 | I14: 1000000000 | J14: 1000000000 | L14: NA | N14: NA | Q14: - | S14: 100 | T14: / | U14: / | Y14: =Z14+AA14*365+AB14/24+AC14/(24*60)+AD14/(24*3600) -> 0.00019930556 | AD14: 17.22
A15: 22Na | B15: Na22 | C15: Na22 | D15: Na | E15: 22 | H15: 1 | I15: 1000000 | J15: 1000000 | K15: 5000 | L15: 5000000000 | M15: 30000 | N15: 30000000000 | O15: 5 | P15: 0.5 | Q15: 3 | S15: 10 | T15: 0.1 | U15: 10 | Y15: =Z15+AA15*365+AB15/24+AC15/(24*60)+AD15/(24*3600) -> 949.657 | AA15: 2.6018
A16: 24Na | B16: Na24 | C16: Na24 | D16: Na | E16: 24 | H16: 0.1 | I16: 100000 | J16: 100000 | K16: 2000 | L16: 2000000000 | M16: 20000 | N16: 20000000000 | O16: 5 | P16: 0.5 | Q16: 3 | S16: 10 | T16: 1 | U16: 10 | Y16: =Z16+AA16*365+AB16/24+AC16/(24*60)+AD16/(24*3600) -> 0.624875 | AB16: 14.997
A17: 26Al | B17: Al26 | C17: Al26 | D17: Al | E17: 26 | H17: 0.1 | I17: 100000 | J17: 100000 | K17: 1000 | L17: 1000000000 | M17: 30000 | N17: 30000000000 | O17: 5 | P17: 0.05 | Q17: 2 | S17: 10 | T17: / | U17: / | Y17: =Z17+AA17*365+AB17/24+AC17/(24*60)+AD17/(24*3600) -> 261705000 | AA17: 717000
A18: 28Mg | B18: Mg28 | C18: Mg28 | D18: Mg | E18: 28 | H18: 0.1 | I18: 100000 | J18: 100000 | K18: 3000 | L18: 3000000000 | M18: 20000 | N18: 20000000000 | O18: 5 | P18: 0.5 | Q18: 3 | R18: + | S18: 10 | T18: / | U18: / | W18: (a) | Y18: =Z18+AA18*365+AB18/24+AC18/(24*60)+AD18/(24*3600) -> 0.87145833 | AB18: 20.915
A19: 31Si | B19: Si31 | C19: Si31 | D19: Si | E19: 31 | H19: 1 | I19: 1000000 | J19: 1000000 | K19: 6000 | L19: 6000000000 | M19: 10000000 | N19: 10000000000000 | O19: 50 | P19: 5 | Q19: 4 | S19: 1000 | T19: 1000 | U19: 1000 | Y19: =Z19+AA19*365+AB19/24+AC19/(24*60)+AD19/(24*3600) -> 0.10927778 | AC19: 157.36
A20: 32P | B20: P32 | C20: P32 | D20: P | E20: 32 | H20: 0.1 | I20: 100000 | J20: 100000 | K20: 5000 | L20: 5000000000 | M20: 10000000 | N20: 10000000000000 | O20: 5 | P20: 0.5 | Q20: 3 | S20: 1000 | T20: 1000 | U20: 1000 | Y20: =Z20+AA20*365+AB20/24+AC20/(24*60)+AD20/(24*3600) -> 14.284 | Z20: 14.284
A21: 32Si | B21: Si32 | C21: Si32 | D21: Si | E21: 32 | H21: 1 | I21: 1000000 | J21: 1000000 | K21: 400000 | L21: 400000000000 | M21: 7000000 | N21: 7000000000000 | O21: 5 | P21: 0.05 | Q21: 2 | S21: 1000 | T21: / | U21: / | Y21: =Z21+AA21*365+AB21/24+AC21/(24*60)+AD21/(24*3600) -> 55845 | AA21: 153
A22: 33P | B22: P33 | C22: P33 | D22: P | E22: 33 | H22: 100 | I22: 100000000 | J22: 100000000 | K22: 400000 | L22: 400000000000 | M22: 200000000 | N22: 200000000000000 | O22: 5 | P22: 0.5 | Q22: 3 | S22: 100000 | T22: 1000 | U22: 100000 | Y22: =Z22+AA22*365+AB22/24+AC22/(24*60)+AD22/(24*3600) -> 25.35 | Z22: 25.35
A23: 35S composé organique | B23: S35 composé organique | C23: S35 composé organique | D23: S | E23: 35 | F23: composé organique | H23: 100 | I23: 100000000 | J23: 100000000 | K23: 400000 | L23: 400000000000 | M23: 60000000 | N23: 60000000000000 | O23: 50 | P23: 5 | Q23: 4 | S23: 100000 | T23: / | U23: / | V23: La CPE ne fait pas de # sur la forme physico-chimique | Y23: =Z23+AA23*365+AB23/24+AC23/(24*60)+AD23/(24*3600) -> 87.37 | Z23: 87.37
A24: 35S vapeur | B24: S35 vapeur | C24: S35 vapeur | D24: S | E24: 35 | F24: vapeur | H24: 1000 | I24: 1000000000 | J24: 1000000000 | K24: 400000 | L24: 400000000000 | M24: 60000000 | N24: 60000000000000 | O24: 50 | P24: 5 | Q24: 4 | S24: 1000000 | T24: / | U24: / | V24: La CPE ne fait pas de # sur la forme physico-chimique | Y24: =Z24+AA24*365+AB24/24+AC24/(24*60)+AD24/(24*3600) -> 87.37 | Z24: 87.37
A25: 35S | B25: S35 | C25: S35 | D25: S | E25: 35 | H25: 100 | I25: 100000000 | J25: 100000000 | K25: 400000 | L25: 400000000000 | M25: 60000000 | N25: 60000000000000 | O25: 50 | P25: 5 | Q25: 4 | S25: 100000 | T25: 100 | U25: 100000 | Y25: =Z25+AA25*365+AB25/24+AC25/(24*60)+AD25/(24*3600) -> 87.37 | Z25: 87.37
A26: 36Cl | B26: Cl36 | C26: Cl36 | D26: Cl | E26: 36 | H26: 1 | I26: 1000000 | J26: 1000000 | K26: 100000 | L26: 100000000000 | M26: 20000000 | N26: 20000000000000 | O26: 5 | P26: 0.5 | Q26: 3 | S26: 10000 | T26: 1 | U26: 10000 | X26: d | Y26: =Z26+AA26*365+AB26/24+AC26/(24*60)+AD26/(24*3600) -> 109865000 | AA26: 301000
A27: 37Ar | B27: Ar37 | C27: Ar37 | D27: Ar | E27: 37 | H27: 100 | I27: 100000000 | J27: 100000000 | K27: 400000 | L27: 400000000000 | M27: Illimité | N27: NA | O27: 50 | P27: 5 | Q27: 4 | S27: 1000000 | T27: / | U27: 1000000 | X27: e | Y27: =Z27+AA27*365+AB27/24+AC27/(24*60)+AD27/(24*3600) -> 35.011 | Z27: 35.011
A28: 38Cl | B28: Cl38 | C28: Cl38 | D28: Cl | E28: 38 | H28: 0.1 | I28: 100000 | J28: 100000 | K28: 2000 | L28: 2000000000 | M28: 50000 | N28: 50000000000 | O28: 50 | P28: 5 | Q28: 4 | S28: 10 | T28: 10 | U28: 10 | Y28: =Z28+AA28*365+AB28/24+AC28/(24*60)+AD28/(24*3600) -> 0.025861111 | AC28: 37.24
A29: 39Ar | B29: Ar39 | C29: Ar39 | D29: Ar | E29: 39 | H29: 0.01 | I29: 10000 | J29: 10000 | K29: 400000 | L29: 400000000000 | M29: 300000000 | N29: 300000000000000 | O29: 50 | P29: 5 | Q29: 4 | S29: 10000000 | T29: / | U29: / | Y29: =Z29+AA29*365+AB29/24+AC29/(24*60)+AD29/(24*3600) -> 98185 | AA29: 269
A30: 39Cl | B30: Cl39 | C30: Cl39 | D30: Cl | E30: 39 | H30: 0.1 | I30: 100000 | J30: 100000 | L30: NA | N30: NA | O30: 50 | P30: 5 | Q30: 4 | S30: 10 | T30: / | U30: / | Y30: =Z30+AA30*365+AB30/24+AC30/(24*60)+AD30/(24*3600) -> 0.039027778 | AC30: 56.2
A31: 40K | B31: K40 | C31: K40 | D31: K | E31: 40 | H31: 1 | I31: 1000000 | J31: 1000000 | K31: 9000 | L31: 9000000000 | M31: Illimité | N31: NA | O31: 50 | P31: 5 | Q31: 4 | S31: 100 | T31: / | U31: 100 | X31: e | Y31: =Z31+AA31*365+AB31/24+AC31/(24*60)+AD31/(24*3600) -> 455520000000 | AA31: 1248000000
A32: 41Ar | B32: Ar41 | C32: Ar41 | D32: Ar | E32: 41 | H32: 1000 | I32: 1000000000 | J32: 1000000000 | K32: 3000 | L32: 3000000000 | M32: 50000 | N32: 50000000000 | O32: 5 | P32: 0.5 | Q32: 3 | S32: 100 | T32: / | U32: 100 | Y32: =Z32+AA32*365+AB32/24+AC32/(24*60)+AD32/(24*3600) -> 0.076118056 | AC32: 109.61
A33: 41Ca | B33: Ca41 | C33: Ca41 | D33: Ca | E33: 41 | H33: 10 | I33: 10000000 | J33: 10000000 | L33: Illimité | M33: Illimité | N33: NA | O33: 50 | P33: 5 | Q33: 4 | S33: 100000 | T33: / | U33: / | X33: e | Y33: =Z33+AA33*365+AB33/24+AC33/(24*60)+AD33/(24*3600) -> 36281000 | AA33: 99400
A34: 42K | B34: K42 | C34: K42 | D34: K | E34: 42 | H34: 1 | I34: 1000000 | J34: 1000000 | K34: 2000 | L34: 2000000000 | M34: 200000 | N34: 200000000000 | O34: 5 | P34: 0.5 | Q34: 3 | S34: 100 | T34: 100 | U34: 100 | Y34: =Z34+AA34*365+AB34/24+AC34/(24*60)+AD34/(24*3600) -> 0.51479167 | AB34: 12.355
A35: 43K | B35: K43 | C35: K43 | D35: K | E35: 43 | H35: 1 | I35: 1000000 | J35: 1000000 | K35: 7000 | L35: 7000000000 | M35: 70000 | N35: 70000000000 | O35: 5 | P35: 0.5 | Q35: 3 | S35: 10 | T35: 10 | U35: 10 | Y35: =Z35+AA35*365+AB35/24+AC35/(24*60)+AD35/(24*3600) -> 0.92916667 | AB35: 22.3
A36: 43Sc | B36: Sc43 | C36: Sc43 | D36: Sc | E36: 43 | H36: 1 | I36: 1000000 | J36: 1000000 | L36: NA | N36: NA | O36: 50 | P36: 5 | Q36: 4 | S36: 10 | T36: / | U36: / | Y36: =Z36+AA36*365+AB36/24+AC36/(24*60)+AD36/(24*3600) -> 0.162125 | AB36: 3.891
A37: 44K | B37: K44 | C37: K44 | D37: K | E37: 44 | H37: 0.1 | I37: 100000 | J37: 100000 | L37: NA | N37: NA | O37: 50 | P37: 5 | Q37: 4 | S37: 10 | T37: / | U37: / | Y37: =Z37+AA37*365+AB37/24+AC37/(24*60)+AD37/(24*3600) -> 0.015368056 | AC37: 22.13
A38: 44Sc m | B38: Sc44 m | C38: Sc44 m | D38: Sc | E38: 44 | F38: m | H38: 10 | I38: 10000000 | J38: 10000000 | L38: NA | N38: NA | O38: 5 | P38: 0.5 | Q38: 3 | S38: 100 | T38: / | U38: / | Y38: =Z38+AA38*365+AB38/24+AC38/(24*60)+AD38/(24*3600) -> 2.4420833 | AB38: 58.61
A39: 44Sc | B39: Sc44 | C39: Sc44 | D39: Sc | E39: 44 | H39: 0.1 | I39: 100000 | J39: 100000 | K39: 5000 | L39: 5000000000 | M39: 30000 | N39: 30000000000 | O39: 5 | P39: 0.5 | Q39: 3 | S39: 10 | T39: / | U39: / | Y39: =Z39+AA39*365+AB39/24+AC39/(24*60)+AD39/(24*3600) -> 0.16541667 | AB39: 3.97
A40: 44Ti | B40: Ti44 | C40: Ti44 | D40: Ti | E40: 44 | H40: 0.1 | I40: 100000 | J40: 100000 | K40: 5000 | L40: 5000000000 | M40: 30000 | N40: 30000000000 | O40: 5 | P40: 0.05 | Q40: 2 | R40: + | S40: 10 | T40: / | U40: / | W40: (a) | Y40: =Z40+AA40*365+AB40/24+AC40/(24*60)+AD40/(24*3600) -> 21571.5 | AA40: 59.1
...

Sheet CSP avec formules
A1: Radionicléide | B1: RN pour SIGIS | C1: RN pour SIGIS | D1: RN | E1: N Atom | F1: Etension 1 | G1: Extension 2 | H1: Exemption (MBq) (old) | I1: Exemption (Bq) (old) | J1: Exemption (Bq) (new) | K1: SSHA (MBq) (old) | L1: SSHA (Bq) (old) | M1: D value (MBq) | N1: SSHA (Bq) (new) | O1: Seuil CPE Etalonnage (MBq) | P1: Ancien seuil CSP (< 2002) MBq | Q1: Groupe Radiotoxicité | R1: Commentaire (Exemption) | S1: Exemption (kBq/Kg) (old) | T1: Exemption (kBq/Kg) (new) | U1: Déclaration (kBq/Kg) (new) | V1: Commentaire CPE | W1: Commentaire SSHA | X1: Commentaire D value | Y1: Période (Jours)
A2: =TRIM($E2&$D2&" " &$F2&" " &$G2) -> 3H | B2: =TRIM($D2&$E2&" " &$F2&" " &$G2) -> H3 | C2: H3 | D2: H | E2: 3 | H2: 1000 | I2: =VLOOKUP(A2,'Anciens seuils'!$B$2:$D$786,2,FALSE) -> 1000000000 | J2: =VLOOKUP(A2,'Nouveaux seuils'!$B$7:$C$796,2,FALSE) -> 1000000000 | K2: 400000 | L2: =VLOOKUP(A2,'Anciens seuils'!$B$2:$D$786,3,FALSE) -> 400000000000 | M2: 2000000000 | N2: =VLOOKUP(A2,'Nouveaux seuils'!$B$7:$F$796,5,FALSE) -> 2e+15 | O2: 50 | P2: 5 | Q2: 4 | S2: 1000000 | T2: =VLOOKUP(A2,'Nouveaux seuils'!$B$7:$E$796,3,FALSE) -> 100 | U2: =VLOOKUP(A2,'Nouveaux seuils'!$B$7:$E$796,4,FALSE) -> 1000000
A3: =TRIM(E3&D3&" " &F3&" " &G3) -> 7Be | B3: =TRIM($D3&$E3&" " &$F3&" " &$G3) -> Be7 | C3: Be7 | D3: Be | E3: 7 | H3: 10 | I3: =VLOOKUP(A3,'Anciens seuils'!$B$2:$D$786,2,FALSE) -> 10000000 | J3: =VLOOKUP(A3,'Nouveaux seuils'!$B$7:$C$796,2,FALSE) -> 10000000 | K3: 200000 | L3: =VLOOKUP(A3,'Anciens seuils'!$B$2:$D$786,3,FALSE) -> 200000000000 | M3: 1000000 | N3: =VLOOKUP(A3,'Nouveaux seuils'!$B$7:$F$796,5,FALSE) -> 1000000000000 | O3: 50 | P3: 5 | Q3: 4 | S3: 1000 | T3: =VLOOKUP(A3,'Nouveaux seuils'!$B$7:$E$796,3,FALSE) -> 10 | U3: =VLOOKUP(A3,'Nouveaux seuils'!$B$7:$E$796,4,FALSE) -> 1000
A4: =TRIM(E4&D4&" " &F4&" " &G4) -> 10Be | B4: =TRIM($D4&$E4&" " &$F4&" " &$G4) -> Be10 | C4: Be10 | D4: Be | E4: 10 | H4: 1 | I4: =VLOOKUP(A4,'Anciens seuils'!$B$2:$D$786,2,FALSE) -> 1000000 | J4: =VLOOKUP(A4,'Nouveaux seuils'!$B$7:$C$796,2,FALSE) -> 1000000 | K4: 400000 | L4: =VLOOKUP(A4,'Anciens seuils'!$B$2:$D$786,3,FALSE) -> 400000000000 | M4: 30000000 | N4: =VLOOKUP(A4,'Nouveaux seuils'!$B$7:$F$796,5,FALSE) -> 30000000000000 | O4: 5 | P4: 0.05 | Q4: 2 | S4: 10000 | T4: =VLOOKUP(A4,'Nouveaux seuils'!$B$7:$E$796,3,FALSE) -> / | U4: =VLOOKUP(A4,'Nouveaux seuils'!$B$7:$E$796,4,FALSE) -> /
A5: =TRIM(E5&D5&" " &F5&" " &G5) -> 11C dioxyde | B5: =TRIM($D5&$E5&" " &$F5&" " &$G5) -> C11 dioxyde | C5: C11 dioxyde | D5: C | E5: 11 | F5: dioxyde | H5: 1000 | I5: =VLOOKUP(A5,'Anciens seuils'!$B$2:$D$786,2,FALSE) -> 1000000000 | J5: =VLOOKUP(A5,'Nouveaux seuils'!$B$7:$C$796,2,FALSE) -> 1000000000 | K5: 400000 | L5: 400000000000 | M5: 60000000000 | N5: =VLOOKUP(A5,'Nouveaux seuils'!$B$7:$F$796,5,FALSE) -> 60000000000 | O5: 50 | P5: 5 | Q5: 4 | S5: 10 | T5: =VLOOKUP(A5,'Nouveaux seuils'!$B$7:$E$796,3,FALSE) -> / | U5: =VLOOKUP(A5,'Nouveaux seuils'!$B$7:$E$796,4,FALSE) -> / | V5: La CPE ne fait pas de # sur la forme physico-chimique
