Workbook

Sheet Mode d'emploi
C2: Bienvenue dans l'outil de calcul d'activité des sources
C7: L'onglet "Calcul activités sources" vous permet de
D8: --> | E8: déterminer le régime administratif applicable en fonction de l'activité détenue (exemption ou non) (case C2).
E9: Attention, l'exemption n'est pas applicable pour les activités médicales.
D10: --> | E10: déterminer si la valeur Q sources non scellées est supérieure à 10 000 (condition pour la consultation du public) (case C3)
D11: --> | E11: déterminer si des SSHA ou des lots de sources équivalents sont détenus au titre du CSP et leur catégorie (cases H2, H5 et H6)
D12: --> | E12: déterminer si des sources étaient précédemment des SSHA (CSP ancien) (case H3)
C14: MODE D'EMPLOI :
E15: Colonne A | G15: Indiquer le radionucléide sous la forme 133Ba (cas particuliers : AppU / natU / 99Tc m / 241Am/Be) (1 ligne par source scellée)
E16: Colonne B | G16: Indiquer l'activité en MBq s'il s'agit d'une source scellée
E17: Colonne C | G17: Indiquer l'activité en MBq s'il s'agit d'une source non scellée
E18: Colonne D | G18: Indiquer "oui" si la source scellée est contenue dans un appareil portable ou mobile
E19: Colonne E | G19: Indiquer le n° du lot concerné pour les calculs d'allottissement, puis sélectionner le n° de lot dans la case G5 (liste déroulante)
G20: ATTENTION ! Si aucun numéro de lot n'est attribué à la source, son activité ne sera pas prise en compte dans le calcul de l'allotissement
C22: Les résultats de la requête figurent en haut de la page. Ces résultats s'actualisent automatiquement si vous modifiez les radionucléides et les activités
C24: L'onglet CSP reprend toutes les données sources par RN (seuils anciens et nouveaux, période)
C26: Les périodes radioactives sont données à titre indicatif. Un outil permettant de calculer l'activité résiduelle d'une source est disponible dans les colonnes N, O et P. Le RN est celui indiqué dans la colonne A, mais il faut ressaisir l'activité nominale dans la colonne N.
C30: Vous ne pouvez écrire que dans les cellules sans couleur de fond (ou couleur de fond = blanc) Toute modification du fichier est interdite. Contact : DTS/ BRS Sabine Soulié ou Benoît De Carné-Carnavalet

Sheet Calculs activités sources
A1: Résultats de la requête | E1: Sécurité - catégorie des sources et lots | J1: Valeurs de Q (somme) | N1: Erreurs : Résultat égal à #Valeur# ou #N/A
A2: Régime administratif | C2: =IF(L2=0,"",IF(L2>=1,"non exempté","exempté")) -> non exempté | F2: Avec le CSP actuel, il y a : | H2: =SUM(AC11:AC1004) -> 0 | I2: SSHA | J2: Q régime administratif | L2: =SUM(I11:I999) -> 16200 | N2: --> Soit il n'y a pas de seuil pour le RN --> Soit le Rn est mal écrit (ex : Ba133 au lieu de 133Ba) --> Soit le Rn n'existe pas dans le tableau de référence --> Soit il y a des activités indiquées sans RN
A3: Consultation du public | C3: =IF(L3=0,"",IF(AND(L3>=10000,MAX(AK11:AK1004)>=8),"oui","sans objet sauf cyclotron")) -> oui | F3: Avec le CSP ancien, il y avait : | H3: =SUM(AJ11:AJ1004) -> 0 | I3: SSHA | J3: Q source non scellée | L3: =SUM($H$11:$H$6004) -> 13050 | Z3: oui
F5: Cat. du lot n° | G5: 1 | H5: =VLOOKUP(G5,AA11:AF1004,6,FALSE) -> sans | AC5: Catégorie max dans le lot
F6: Cat. La plus élevée du lot : | H6: =VLOOKUP(AC6,AM14:AN18,2,FALSE) -> sans | AC6: =MAX(AH11:AH1004) -> 0
A8: ATTENTION : Ne pas utiliser le glisser/déposer dans les colonnes A à E Cette fonction modifie les formules et fausse les calculs
A9: Radionucléide | F9: CSP Actuel | K9: CSP ancien | L9: RN | N9: Outil calcul décroissance (version test) | W9: Lot | AB9: Sources
A10: Rn | B10: Activité SS (MBq) | C10: Activité SNS (MBq) | D10: SS dans appareil mobiles ou portables | E10: n° lot | F10: Seuil Exemption (MBq) | G10: Seuil SSHA (MBq) | H10: Q SNS | I10: Q régime administratif | J10: Cat. Sécurité | K10: Seuil SSHA (MBq) | L10: Période (Jours) | N10: Activité nominale (MBq) | O10: Date d'étalonnage | P10: Activité résiduelle (MBq) | W10: Q SS lot | X10: Catégorie Lot | Y10: appareil mobile dans le lot | Z10: Q SSHA lot | AA10: N° de lot | AB10: Q SSHA | AC10: SSHA? | AD10: SSHA dans Appareil mobile? | AE10: Q SS | AF10: Catégorie Lot | AG10: Catégorie source scellées | AH10: Catégorie des sources dans le lot selectionné | AI10: Q SSHA ancien | AJ10: SSHA ancien? | AK10: Période SNS
A11: 99Tc m | C11: 80000 | F11: =IF($A11 <> "",VLOOKUP($A11,CSP!$1:$1048576,10,FALSE)/1000000,"") -> 10 | G11: =IF($A11 <> "",IF(VLOOKUP($A11,CSP!$1:$1048576,14,FALSE)="NA","",VLOOKUP($A11,CSP!$1:$1048576,14,FALSE)/1000000),"") -> 700000 | H11: =IF(AND(C11<>0,A11<>""), $C11/$F11,"") -> 8000 | I11: =IF(AND(F11=0,OR(B11<>"",C11<>"")),1,IF(AND(A11<>"",OR(B11<>"",C11<>"")),(B11+C11)/F11,"")) -> 8000 | J11: =IF(OR(AND(B11="",C11=""),A11=""),"",IF(OR(AND(B11<>"",B11<F11),AND(C11<>"",C11<F11)),"sans",IF(OR(AND(C11<>"",C11>=F11),AND(B11>=F11,B11<G11)),"D",IF(AND(B11>=G11,B11<10*G11,D11<>"oui"),"C",IF(OR(AND(B11<1000*G11,D11="oui"),AND(B11>=G11*10,B11<1000*G11)),"B",IF(B11>=1000*G11,"A","")))))) -> D | K11: =IF($A11 <> "",VLOOKUP($A11,CSP!$1:$1048576,11,FALSE),"") -> 100000 | L11: =IF($A11 <> "",VLOOKUP($A11,CSP!$1:$1048576,25,FALSE),"") -> 0.2503 | P11: =IF(OR(N11="",O11="",A11=""),"",N11/(2^((TODAY()-O11)/L11))) | W11: =SUMIF($E$11:$E$1004,AA11,AE$11:$AE$1004) -> 0 | X11: =IF(Z11>=1000,"A",IF(OR(Z11>=10,Y11>=1),"B",IF(Z11>=1,"C",IF(W11>=1,"D","sans")))) -> sans | Y11: =SUMIF($E$11:$E$1004,AA11,AD$11:$AD$1004) -> 0 | Z11: =SUMIF($E$11:$E$1004,AA11,AB$11:$AB$1004) -> 0 | AA11: =1 -> 1 | AB11: =IF(AND(B11<>"",G11<>""),B11/G11,0) -> 0 | AC11: =IF(AB11>=1,1,0) -> 0 | AD11: =IF(AND(B11<>"",D11="oui",AB11>=1),1,0) -> 0 | AE11: =IF(B11<>"",B11/F11,0) -> 0 | AF11: =X11 -> sans | AG11: =IF(B11<>"",IF(J11="sans",0,IF(J11="A",4,IF(J11="B",3,IF(J11="C",2,IF(J11="D",1,""))))),0) -> 0 | AH11: =IF($G$5=E11,AG11,0) -> 0 | AI11: =IF(AND(B11<>"",ISNUMBER(K11),K11<>0),B11/K11,0) -> 0 | AJ11: =IF(AI11>=1,1,0) -> 0 | AK11: =IF(C11<>"",L11,0) -> 0.2503
A12: 123I | C12: 500 | F12: =IF($A12 <> "",VLOOKUP($A12,CSP!$1:$1048576,10,FALSE)/1000000,"") -> 10 | G12: =IF($A12 <> "",IF(VLOOKUP($A12,CSP!$1:$1048576,14,FALSE)="NA","",VLOOKUP($A12,CSP!$1:$1048576,14,FALSE)/1000000),"") -> 500000 | H12: =IF(AND(C12<>0,A12<>""), $C12/$F12,"") -> 50 | I12: =IF(AND(F12=0,OR(B12<>"",C12<>"")),1,IF(AND(A12<>"",OR(B12<>"",C12<>"")),(B12+C12)/F12,"")) -> 50 | J12: =IF(OR(AND(B12="",C12=""),A12=""),"",IF(OR(AND(B12<>"",B12<F12),AND(C12<>"",C12<F12)),"sans",IF(OR(AND(C12<>"",C12>=F12),AND(B12>=F12,B12<G12)),"D",IF(AND(B12>=G12,B12<10*G12,D12<>"oui"),"C",IF(OR(AND(B12<1000*G12,D12="oui"),AND(B12>=G12*10,B12<1000*G12)),"B",IF(B12>=1000*G12,"A","")))))) -> D | K12: =IF($A12 <> "",VLOOKUP($A12,CSP!$1:$1048576,11,FALSE),"") -> 60000 | L12: =IF($A12 <> "",VLOOKUP($A12,CSP!$1:$1048576,25,FALSE),"") -> 0.55097917 | P12: =IF(OR(N12="",O12="",A12=""),"",N12/(2^((TODAY()-O12)/L12))) | W12: =SUMIF($E$11:$E$1004,AA12,AE$11:$AE$1004) -> 0 | X12: =IF(Z12>=1000,"A",IF(OR(Z12>=10,Y12>=1),"B",IF(Z12>=1,"C",IF(W12>=1,"D","sans")))) -> sans | Y12: =SUMIF($E$11:$E$1004,AA12,AD$11:$AD$1004) -> 0 | Z12: =SUMIF($E$11:$E$1004,AA12,AB$11:$AB$1004) -> 0 | AA12: =1+AA11 -> 2 | AB12: =IF(AND(B12<>"",G12<>""),B12/G12,0) -> 0 | AC12: =IF(AB12>=1,1,0) -> 0 | AD12: =IF(AND(B12<>"",D12="oui"),1,0) -> 0 | AE12: =IF(B12<>"",B12/F12,0) -> 0 | AF12: =X12 -> sans | AG12: =IF(B12<>"",IF(J12="sans",0,IF(J12="A",4,IF(J12="B",3,IF(J12="C",2,IF(J12="D",1,""))))),0) -> 0 | AH12: =IF($G$5=E12,AG12,0) -> 0 | AI12: =IF(AND(B12<>"",ISNUMBER(K12),K12<>0),B12/K12,0) -> 0 | AJ12: =IF(AI12>=1,1,0) -> 0 | AK12: =IF(C12<>"",L12,0) -> 0.55097917
A13: 201Tl | C13: 3000 | F13: =IF($A13 <> "",VLOOKUP($A13,CSP!$1:$1048576,10,FALSE)/1000000,"") -> 1 | G13: =IF($A13 <> "",IF(VLOOKUP($A13,CSP!$1:$1048576,14,FALSE)="NA","",VLOOKUP($A13,CSP!$1:$1048576,14,FALSE)/1000000),"") -> 1000000 | H13: =IF(AND(C13<>0,A13<>""), $C13/$F13,"") -> 3000 | I13: =IF(AND(F13=0,OR(B13<>"",C13<>"")),1,IF(AND(A13<>"",OR(B13<>"",C13<>"")),(B13+C13)/F13,"")) -> 3000 | J13: =IF(OR(AND(B13="",C13=""),A13=""),"",IF(OR(AND(B13<>"",B13<F13),AND(C13<>"",C13<F13)),"sans",IF(OR(AND(C13<>"",C13>=F13),AND(B13>=F13,B13<G13)),"D",IF(AND(B13>=G13,B13<10*G13,D13<>"oui"),"C",IF(OR(AND(B13<1000*G13,D13="oui"),AND(B13>=G13*10,B13<1000*G13)),"B",IF(B13>=1000*G13,"A","")))))) -> D | K13: =IF($A13 <> "",VLOOKUP($A13,CSP!$1:$1048576,11,FALSE),"") -> 100000 | L13: =IF($A13 <> "",VLOOKUP($A13,CSP!$1:$1048576,25,FALSE),"") -> 3.0421 | P13: =IF(OR(N13="",O13="",A13=""),"",N13/(2^((TODAY()-O13)/L13))) | W13: =SUMIF($E$11:$E$1004,AA13,AE$11:$AE$1004) -> 0 | X13: =IF(Z13>=1000,"A",IF(OR(Z13>=10,Y13>=1),"B",IF(Z13>=1,"C",IF(W13>=1,"D","sans")))) -> sans | Y13: =SUMIF($E$11:$E$1004,AA13,AD$11:$AD$1004) -> 0 | Z13: =SUMIF($E$11:$E$1004,AA13,AB$11:$AB$1004) -> 0 | AA13: =1+AA12 -> 3 | AB13: =IF(AND(B13<>"",G13<>""),B13/G13,0) -> 0 | AC13: =IF(AB13>=1,1,0) -> 0 | AD13: =IF(AND(B13<>"",D13="oui"),1,0) -> 0 | AE13: =IF(B13<>"",B13/F13,0) -> 0 | AF13: =X13 -> sans | AG13: =IF(B13<>"",IF(J13="sans",0,IF(J13="A",4,IF(J13="B",3,IF(J13="C",2,IF(J13="D",1,""))))),0) -> 0 | AH13: =IF($G$5=E13,AG13,0) -> 0 | AI13: =IF(AND(B13<>"",ISNUMBER(K13),K13<>0),B13/K13,0) -> 0 | AJ13: =IF(AI13>=1,1,0) -> 0 | AK13: =IF(C13<>"",L13,0) -> 3.0421
A14: 131I | C14: 2000 | F14: =IF($A14 <> "",VLOOKUP($A14,CSP!$1:$1048576,10,FALSE)/1000000,"") -> 1 | G14: =IF($A14 <> "",IF(VLOOKUP($A14,CSP!$1:$1048576,14,FALSE)="NA","",VLOOKUP($A14,CSP!$1:$1048576,14,FALSE)/1000000),"") -> 200000 | H14: =IF(AND(C14<>0,A14<>""), $C14/$F14,"") -> 2000 | I14: =IF(AND(F14=0,OR(B14<>"",C14<>"")),1,IF(AND(A14<>"",OR(B14<>"",C14<>"")),(B14+C14)/F14,"")) -> 2000 | J14: =IF(OR(AND(B14="",C14=""),A14=""),"",IF(OR(AND(B14<>"",B14<F14),AND(C14<>"",C14<F14)),"sans",IF(OR(AND(C14<>"",C14>=F14),AND(B14>=F14,B14<G14)),"D",IF(AND(B14>=G14,B14<10*G14,D14<>"oui"),"C",IF(OR(AND(B14<1000*G14,D14="oui"),AND(B14>=G14*10,B14<1000*G14)),"B",IF(B14>=1000*G14,"A","")))))) -> D | K14: =IF($A14 <> "",VLOOKUP($A14,CSP!$1:$1048576,11,FALSE),"") -> 30000 | L14: =IF($A14 <> "",VLOOKUP($A14,CSP!$1:$1048576,25,FALSE),"") -> 8.0252 | P14: =IF(OR(N14="",O14="",A14=""),"",N14/(2^((TODAY()-O14)/L14))) | W14: =SUMIF($E$11:$E$1004,AA14,AE$11:$AE$1004) -> 0 | X14: =IF(Z14>=1000,"A",IF(OR(Z14>=10,Y14>=1),"B",IF(Z14>=1,"C",IF(W14>=1,"D","sans")))) -> sans | Y14: =SUMIF($E$11:$E$1004,AA14,AD$11:$AD$1004) -> 0 | Z14: =SUMIF($E$11:$E$1004,AA14,AB$11:$AB$1004) -> 0 | AA14: =1+AA13 -> 4 | AB14: =IF(AND(B14<>"",G14<>""),B14/G14,0) -> 0 | AC14: =IF(AB14>=1,1,0) -> 0 | AD14: =IF(AND(B14<>"",D14="oui"),1,0) -> 0 | AE14: =IF(B14<>"",B14/F14,0) -> 0 | AF14: =X14 -> sans | AG14: =IF(B14<>"",IF(J14="sans",0,IF(J14="A",4,IF(J14="B",3,IF(J14="C",2,IF(J14="D",1,""))))),0) -> 0 | AH14: =IF($G$5=E14,AG14,0) -> 0 | AI14: =IF(AND(B14<>"",ISNUMBER(K14),K14<>0),B14/K14,0) -> 0 | AJ14: =IF(AI14>=1,1,0) -> 0 | AK14: =IF(C14<>"",L14,0) -> 8.0252 | AM14: 0 | AN14: sans
A15: 57Co | B15: 1100 | F15: =IF($A15 <> "",VLOOKUP($A15,CSP!$1:$1048576,10,FALSE)/1000000,"") -> 1 | G15: =IF($A15 <> "",IF(VLOOKUP($A15,CSP!$1:$1048576,14,FALSE)="NA","",VLOOKUP($A15,CSP!$1:$1048576,14,FALSE)/1000000),"") -> 700000 | H15: =IF(AND(C15<>0,A15<>""), $C15/$F15,"") | I15: =IF(AND(F15=0,OR(B15<>"",C15<>"")),1,IF(AND(A15<>"",OR(B15<>"",C15<>"")),(B15+C15)/F15,"")) -> 1100 | J15: =IF(OR(AND(B15="",C15=""),A15=""),"",IF(OR(AND(B15<>"",B15<F15),AND(C15<>"",C15<F15)),"sans",IF(OR(AND(C15<>"",C15>=F15),AND(B15>=F15,B15<G15)),"D",IF(AND(B15>=G15,B15<10*G15,D15<>"oui"),"C",IF(OR(AND(B15<1000*G15,D15="oui"),AND(B15>=G15*10,B15<1000*G15)),"B",IF(B15>=1000*G15,"A","")))))) -> D | K15: =IF($A15 <> "",VLOOKUP($A15,CSP!$1:$1048576,11,FALSE),"") -> 100000 | L15: =IF($A15 <> "",VLOOKUP($A15,CSP!$1:$1048576,25,FALSE),"") -> 271.74 | P15: =IF(OR(N15="",O15="",A15=""),"",N15/(2^((TODAY()-O15)/L15))) | W15: =SUMIF($E$11:$E$1004,AA15,AE$11:$AE$1004) -> 0 | X15: =IF(Z15>=1000,"A",IF(OR(Z15>=10,Y15>=1),"B",IF(Z15>=1,"C",IF(W15>=1,"D","sans")))) -> sans | Y15: =SUMIF($E$11:$E$1004,AA15,AD$11:$AD$1004) -> 0 | Z15: =SUMIF($E$11:$E$1004,AA15,AB$11:$AB$1004) -> 0 | AA15: =1+AA14 -> 5 | AB15: =IF(AND(B15<>"",G15<>""),B15/G15,0) -> 0.0015714286 | AC15: =IF(AB15>=1,1,0) -> 0 | AD15: =IF(AND(B15<>"",D15="oui"),1,0) -> 0 | AE15: =IF(B15<>"",B15/F15,0) -> 1100 | AF15: =X15 -> sans | AG15: =IF(B15<>"",IF(J15="sans",0,IF(J15="A",4,IF(J15="B",3,IF(J15="C",2,IF(J15="D",1,""))))),0) -> 1 | AH15: =IF($G$5=E15,AG15,0) -> 0 | AI15: =IF(AND(B15<>"",ISNUMBER(K15),K15<>0),B15/K15,0) -> 0.011 | AJ15: =IF(AI15>=1,1,0) -> 0 | AK15: =IF(C15<>"",L15,0) -> 0 | AM15: 1 | AN15: D
A16: 137Cs | B16: 20 | F16: =IF($A16 <> "",VLOOKUP($A16,CSP!$1:$1048576,10,FALSE)/1000000,"") -> 0.01 | G16: =IF($A16 <> "",IF(VLOOKUP($A16,CSP!$1:$1048576,14,FALSE)="NA","",VLOOKUP($A16,CSP!$1:$1048576,14,FALSE)/1000000),"") -> 100000 | H16: =IF(AND(C16<>0,A16<>""), $C16/$F16,"") | I16: =IF(AND(F16=0,OR(B16<>"",C16<>"")),1,IF(AND(A16<>"",OR(B16<>"",C16<>"")),(B16+C16)/F16,"")) -> 2000 | J16: =IF(OR(AND(B16="",C16=""),A16=""),"",IF(OR(AND(B16<>"",B16<F16),AND(C16<>"",C16<F16)),"sans",IF(OR(AND(C16<>"",C16>=F16),AND(B16>=F16,B16<G16)),"D",IF(AND(B16>=G16,B16<10*G16,D16<>"oui"),"C",IF(OR(AND(B16<1000*G16,D16="oui"),AND(B16>=G16*10,B16<1000*G16)),"B",IF(B16>=1000*G16,"A","")))))) -> D | K16: =IF($A16 <> "",VLOOKUP($A16,CSP!$1:$1048576,11,FALSE),"") -> 20000 | L16: =IF($A16 <> "",VLOOKUP($A16,CSP!$1:$1048576,25,FALSE),"") -> 10979.2 | P16: =IF(OR(N16="",O16="",A16=""),"",N16/(2^((TODAY()-O16)/L16))) | W16: =SUMIF($E$11:$E$1004,AA16,AE$11:$AE$1004) -> 0 | X16: =IF(Z16>=1000,"A",IF(OR(Z16>=10,Y16>=1),"B",IF(Z16>=1,"C",IF(W16>=1,"D","sans")))) -> sans | Y16: =SUMIF($E$11:$E$1004,AA16,AD$11:$AD$1004) -> 0 | Z16: =SUMIF($E$11:$E$1004,AA16,AB$11:$AB$1004) -> 0 | AA16: =1+AA15 -> 6 | AB16: =IF(AND(B16<>"",G16<>""),B16/G16,0) -> 0.0002 | AC16: =IF(AB16>=1,1,0) -> 0 | AD16: =IF(AND(B16<>"",D16="oui"),1,0) -> 0 | AE16: =IF(B16<>"",B16/F16,0) -> 2000 | AF16: =X16 -> sans | AG16: =IF(B16<>"",IF(J16="sans",0,IF(J16="A",4,IF(J16="B",3,IF(J16="C",2,IF(J16="D",1,""))))),0) -> 1 | AH16: =IF($G$5=E16,AG16,0) -> 0 | AI16: =IF(AND(B16<>"",ISNUMBER(K16),K16<>0),B16/K16,0) -> 0.001 | AJ16: =IF(AI16>=1,1,0) -> 0 | AK16: =IF(C16<>"",L16,0) -> 0 | AM16: 2 | AN16: C
A17: 133Ba | B17: 20 | F17: =IF($A17 <> "",VLOOKUP($A17,CSP!$1:$1048576,10,FALSE)/1000000,"") -> 1 | G17: =IF($A17 <> "",VLOOKUP($A17,CSP!$1:$1048576,14,FALSE)/1000000,"") -> 200000 | H17: =IF(AND(C17<>0,A17<>""), $C17/$F17,"") | I17: =IF(AND(F17=0,OR(B17<>"",C17<>"")),1,IF(AND(A17<>"",OR(B17<>"",C17<>"")),(B17+C17)/F17,"")) -> 20 | J17: =IF(OR(AND(B17="",C17=""),A17=""),"",IF(OR(AND(B17<>"",B17<F17),AND(C17<>"",C17<F17)),"sans",IF(OR(AND(C17<>"",C17>=F17),AND(B17>=F17,B17<G17)),"D",IF(AND(B17>=G17,B17<10*G17,D17<>"oui"),"C",IF(OR(AND(B17<1000*G17,D17="oui"),AND(B17>=G17*10,B17<1000*G17)),"B",IF(B17>=1000*G17,"A","")))))) -> D | K17: =IF($A17 <> "",VLOOKUP($A17,CSP!$1:$1048576,11,FALSE),"") -> 30000 | L17: =IF($A17 <> "",VLOOKUP($A17,CSP!$1:$1048576,25,FALSE),"") -> 3851.115 | P17: =IF(OR(N17="",O17="",A17=""),"",N17/(2^((TODAY()-O17)/L17))) | W17: =SUMIF($E$11:$E$1004,AA17,AE$11:$AE$1004) -> 0 | X17: =IF(Z17>=1000,"A",IF(OR(Z17>=10,Y17>=1),"B",IF(Z17>=1,"C",IF(W17>=1,"D","sans")))) -> sans | Y17: =SUMIF($E$11:$E$1004,AA17,AD$11:$AD$1004) -> 0 | Z17: =SUMIF($E$11:$E$1004,AA17,AB$11:$AB$1004) -> 0 | AA17: =1+AA16 -> 7 | AB17: =IF(AND(B17<>"",G17<>""),B17/G17,0) -> 0.0001 | AC17: =IF(AB17>=1,1,0) -> 0 | AD17: =IF(AND(B17<>"",D17="oui"),1,0) -> 0 | AE17: =IF(B17<>"",B17/F17,0) -> 20 | AF17: =X17 -> sans | AG17: =IF(B17<>"",IF(J17="sans",0,IF(J17="A",4,IF(J17="B",3,IF(J17="C",2,IF(J17="D",1,""))))),0) -> 1 | AH17: =IF($G$5=E17,AG17,0) -> 0 | AI17: =IF(AND(B17<>"",ISNUMBER(K17),K17<>0),B17/K17,0) -> 0.00066666667 | AJ17: =IF(AI17>=1,1,0) -> 0 | AK17: =IF(C17<>"",L17,0) -> 0 | AM17: 3 | AN17: B
A18: 90Sr | B18: 0.3 | D18: oui | F18: =IF($A18 <> "",VLOOKUP($A18,CSP!$1:$1048576,10,FALSE)/1000000,"") -> 0.01 | G18: =IF($A18 <> "",VLOOKUP($A18,CSP!$1:$1048576,14,FALSE)/1000000,"") -> 1000000 | H18: =IF(AND(C18<>0,A18<>""), $C18/$F18,"") | I18: =IF(AND(F18=0,OR(B18<>"",C18<>"")),1,IF(AND(A18<>"",OR(B18<>"",C18<>"")),(B18+C18)/F18,"")) -> 30 | J18: =IF(OR(AND(B18="",C18=""),A18=""),"",IF(OR(AND(B18<>"",B18<F18),AND(C18<>"",C18<F18)),"sans",IF(OR(AND(C18<>"",C18>=F18),AND(B18>=F18,B18<G18)),"D",IF(AND(B18>=G18,B18<10*G18,D18<>"oui"),"C",IF(OR(AND(B18<1000*G18,D18="oui"),AND(B18>=G18*10,B18<1000*G18)),"B",IF(B18>=1000*G18,"A","")))))) -> D | K18: =IF($A18 <> "",VLOOKUP($A18,CSP!$1:$1048576,11,FALSE),"") -> 3000 | L18: =IF($A18 <> "",VLOOKUP($A18,CSP!$1:$1048576,25,FALSE),"") -> 10508.35 | P18: =IF(OR(N18="",O18="",A18=""),"",N18/(2^((TODAY()-O18)/L18))) | W18: =SUMIF($E$11:$E$1004,AA18,AE$11:$AE$1004) -> 0 | X18: =IF(Z18>=1000,"A",IF(OR(Z18>=10,Y18>=1),"B",IF(Z18>=1,"C",IF(W18>=1,"D","sans")))) -> sans | Y18: =SUMIF($E$11:$E$1004,AA18,AD$11:$AD$1004) -> 0 | Z18: =SUMIF($E$11:$E$1004,AA18,AB$11:$AB$1004) -> 0 | AA18: =1+AA17 -> 8 | AB18: =IF(AND(B18<>"",G18<>""),B18/G18,0) -> 3e-07 | AC18: =IF(AB18>=1,1,0) -> 0 | AD18: =IF(AND(B18<>"",D18="oui"),1,0) -> 1 | AE18: =IF(B18<>"",B18/F18,0) -> 30 | AF18: =X18 -> sans | AG18: =IF(B18<>"",IF(J18="sans",0,IF(J18="A",4,IF(J18="B",3,IF(J18="C",2,IF(J18="D",1,""))))),0) -> 1 | AH18: =IF($G$5=E18,AG18,0) -> 0 | AI18: =IF(AND(B18<>"",ISNUMBER(K18),K18<>0),B18/K18,0) -> 0.0001 | AJ18: =IF(AI18>=1,1,0) -> 0 | AK18: =IF(C18<>"",L18,0) -> 0 | AM18: 4 | AN18: A
F19: =IF($A19 <> "",VLOOKUP($A19,CSP!$1:$1048576,10,FALSE)/1000000,"") | G19: =IF($A19 <> "",VLOOKUP($A19,CSP!$1:$1048576,14,FALSE)/1000000,"") | H19: =IF(AND(C19<>0,A19<>""), $C19/$F19,"") | I19: =IF(AND(F19=0,OR(B19<>"",C19<>"")),1,IF(AND(A19<>"",OR(B19<>"",C19<>"")),(B19+C19)/F19,"")) | J19: =IF(OR(AND(B19="",C19=""),A19=""),"",IF(OR(AND(B19<>"",B19<F19),AND(C19<>"",C19<F19)),"sans",IF(OR(AND(C19<>"",C19>=F19),AND(B19>=F19,B19<G19)),"D",IF(AND(B19>=G19,B19<10*G19,D19<>"oui"),"C",IF(OR(AND(B19<1000*G19,D19="oui"),AND(B19>=G19*10,B19<1000*G19)),"B",IF(B19>=1000*G19,"A","")))))) | K19: =IF($A19 <> "",VLOOKUP($A19,CSP!$1:$1048576,11,FALSE),"") | L19: =IF($A19 <> "",VLOOKUP($A19,CSP!$1:$1048576,25,FALSE),"") | P19: =IF(OR(N19="",O19="",A19=""),"",N19/(2^((TODAY()-O19)/L19))) | W19: =SUMIF($E$11:$E$1004,AA19,AE$11:$AE$1004) -> 0 | X19: =IF(Z19>=1000,"A",IF(OR(Z19>=10,Y19>=1),"B",IF(Z19>=1,"C",IF(W19>=1,"D","sans")))) -> sans | Y19: =SUMIF($E$11:$E$1004,AA19,AD$11:$AD$1004) -> 0 | Z19: =SUMIF($E$11:$E$1004,AA19,AB$11:$AB$1004) -> 0 | AA19: =1+AA18 -> 9 | AB19: =IF(AND(B19<>"",G19<>""),B19/G19,0) -> 0 | AC19: =IF(AB19>=1,1,0) -> 0 | AD19: =IF(AND(B19<>"",D19="oui"),1,0) -> 0 | AE19: =IF(B19<>"",B19/F19,0) -> 0 | AF19: =X19 -> sans | AG19: =IF(B19<>"",IF(J19="sans",0,IF(J19="A",4,IF(J19="B",3,IF(J19="C",2,IF(J19="D",1,""))))),0) -> 0 | AH19: =IF($G$5=E19,AG19,0) -> 0 | AI19: =IF(AND(B19<>"",ISNUMBER(K19),K19<>0),B19/K19,0) -> 0 | AJ19: =IF(AI19>=1,1,0) -> 0 | AK19: =IF(C19<>"",L19,0) -> 0
F20: =IF($A20 <> "",VLOOKUP($A20,CSP!$1:$1048576,10,FALSE)/1000000,"") | G20: =IF($A20 <> "",VLOOKUP($A20,CSP!$1:$1048576,14,FALSE)/1000000,"") | H20: =IF(AND(C20<>0,A20<>""), $C20/$F20,"") | I20: =IF(AND(F20=0,OR(B20<>"",C20<>"")),1,IF(AND(A20<>"",OR(B20<>"",C20<>"")),(B20+C20)/F20,"")) | J20: =IF(OR(AND(B20="",C20=""),A20=""),"",IF(OR(AND(B20<>"",B20<F20),AND(C20<>"",C20<F20)),"sans",IF(OR(AND(C20<>"",C20>=F20),AND(B20>=F20,B20<G20)),"D",IF(AND(B20>=G20,B20<10*G20,D20<>"oui"),"C",IF(OR(AND(B20<1000*G20,D20="oui"),AND(B20>=G20*10,B20<1000*G20)),"B",IF(B20>=1000*G20,"A","")))))) | K20: =IF($A20 <> "",VLOOKUP($A20,CSP!$1:$1048576,11,FALSE),"") | L20: =IF($A20 <> "",VLOOKUP($A20,CSP!$1:$1048576,25,FALSE),"") | P20: =IF(OR(N20="",O20="",A20=""),"",N20/(2^((TODAY()-O20)/L20))) | W20: =SUMIF($E$11:$E$1004,AA20,AE$11:$AE$1004) -> 0 | X20: =IF(Z20>=1000,"A",IF(OR(Z20>=10,Y20>=1),"B",IF(Z20>=1,"C",IF(W20>=1,"D","sans")))) -> sans | Y20: =SUMIF($E$11:$E$1004,AA20,AD$11:$AD$1004) -> 0 | Z20: =SUMIF($E$11:$E$1004,AA20,AB$11:$AB$1004) -> 0 | AA20: =1+AA19 -> 10 | AB20: =IF(AND(B20<>"",G20<>""),B20/G20,0) -> 0 | AC20: =IF(AB20>=1,1,0) -> 0 | AD20: =IF(AND(B20<>"",D20="oui"),1,0) -> 0 | AE20: =IF(B20<>"",B20/F20,0) -> 0 | AF20: =X20 -> sans | AG20: =IF(B20<>"",IF(J20="sans",0,IF(J20="A",4,IF(J20="B",3,IF(J20="C",2,IF(J20="D",1,""))))),0) -> 0 | AH20: =IF($G$5=E20,AG20,0) -> 0 | AI20: =IF(AND(B20<>"",ISNUMBER(K20),K20<>0),B20/K20,0) -> 0 | AJ20: =IF(AI20>=1,1,0) -> 0 | AK20: =IF(C20<>"",L20,0) -> 0
F21: =IF($A21 <> "",VLOOKUP($A21,CSP!$1:$1048576,10,FALSE)/1000000,"") | G21: =IF($A21 <> "",VLOOKUP($A21,CSP!$1:$1048576,14,FALSE)/1000000,"") | H21: =IF(AND(C21<>0,A21<>""), $C21/$F21,"") | I21: =IF(AND(F21=0,OR(B21<>"",C21<>"")),1,IF(AND(A21<>"",OR(B21<>"",C21<>"")),(B21+C21)/F21,"")) | J21: =IF(OR(AND(B21="",C21=""),A21=""),"",IF(OR(AND(B21<>"",B21<F21),AND(C21<>"",C21<F21)),"sans",IF(OR(AND(C21<>"",C21>=F21),AND(B21>=F21,B21<G21)),"D",IF(AND(B21>=G21,B21<10*G21,D21<>"oui"),"C",IF(OR(AND(B21<1000*G21,D21="oui"),AND(B21>=G21*10,B21<1000*G21)),"B",IF(B21>=1000*G21,"A","")))))) | K21: =IF($A21 <> "",VLOOKUP($A21,CSP!$1:$1048576,11,FALSE),"") | L21: =IF($A21 <> "",VLOOKUP($A21,CSP!$1:$1048576,25,FALSE),"") | P21: =IF(OR(N21="",O21="",A21=""),"",N21/(2^((TODAY()-O21)/L21))) | W21: =SUMIF($E$11:$E$1004,AA21,AE$11:$AE$1004) -> 0 | X21: =IF(Z21>=1000,"A",IF(OR(Z21>=10,Y21>=1),"B",IF(Z21>=1,"C",IF(W21>=1,"D","sans")))) -> sans | Y21: =SUMIF($E$11:$E$1004,AA21,AD$11:$AD$1004) -> 0 | Z21: =SUMIF($E$11:$E$1004,AA21,AB$11:$AB$1004) -> 0 | AA21: =1+AA20 -> 11 | AB21: =IF(AND(B21<>"",G21<>""),B21/G21,0) -> 0 | AC21: =IF(AB21>=1,1,0) -> 0 | AD21: =IF(AND(B21<>"",D21="oui"),1,0) -> 0 | AE21: =IF(B21<>"",B21/F21,0) -> 0 | AF21: =X21 -> sans | AG21: =IF(B21<>"",IF(J21="sans",0,IF(J21="A",4,IF(J21="B",3,IF(J21="C",2,IF(J21="D",1,""))))),0) -> 0 | AH21: =IF($G$5=E21,AG21,0) -> 0 | AI21: =IF(AND(B21<>"",ISNUMBER(K21),K21<>0),B21/K21,0) -> 0 | AJ21: =IF(AI21>=1,1,0) -> 0 | AK21: =IF(C21<>"",L21,0) -> 0
F22: =IF($A22 <> "",VLOOKUP($A22,CSP!$1:$1048576,10,FALSE)/1000000,"") | G22: =IF($A22 <> "",VLOOKUP($A22,CSP!$1:$1048576,14,FALSE)/1000000,"") | H22: =IF(AND(C22<>0,A22<>""), $C22/$F22,"") | I22: =IF(AND(F22=0,OR(B22<>"",C22<>"")),1,IF(AND(A22<>"",OR(B22<>"",C22<>"")),(B22+C22)/F22,"")) | J22: =IF(OR(AND(B22="",C22=""),A22=""),"",IF(OR(AND(B22<>"",B22<F22),AND(C22<>"",C22<F22)),"sans",IF(OR(AND(C22<>"",C22>=F22),AND(B22>=F22,B22<G22)),"D",IF(AND(B22>=G22,B22<10*G22,D22<>"oui"),"C",IF(OR(AND(B22<1000*G22,D22="oui"),AND(B22>=G22*10,B22<1000*G22)),"B",IF(B22>=1000*G22,"A","")))))) | K22: =IF($A22 <> "",VLOOKUP($A22,CSP!$1:$1048576,11,FALSE),"") | L22: =IF($A22 <> "",VLOOKUP($A22,CSP!$1:$1048576,25,FALSE),"") | P22: =IF(OR(N22="",O22="",A22=""),"",N22/(2^((TODAY()-O22)/L22))) | W22: =SUMIF($E$11:$E$1004,AA22,AE$11:$AE$1004) -> 0 | X22: =IF(Z22>=1000,"A",IF(OR(Z22>=10,Y22>=1),"B",IF(Z22>=1,"C",IF(W22>=1,"D","sans")))) -> sans | Y22: =SUMIF($E$11:$E$1004,AA22,AD$11:$AD$1004) -> 0 | Z22: =SUMIF($E$11:$E$1004,AA22,AB$11:$AB$1004) -> 0 | AA22: =1+AA21 -> 12 | AB22: =IF(AND(B22<>"",G22<>""),B22/G22,0) -> 0 | AC22: =IF(AB22>=1,1,0) -> 0 | AD22: =IF(AND(B22<>"",D22="oui"),1,0) -> 0 | AE22: =IF(B22<>"",B22/F22,0) -> 0 | AF22: =X22 -> sans | AG22: =IF(B22<>"",IF(J22="sans",0,IF(J22="A",4,IF(J22="B",3,IF(J22="C",2,IF(J22="D",1,""))))),0) -> 0 | AH22: =IF($G$5=E22,AG22,0) -> 0 | AI22: =IF(AND(B22<>"",ISNUMBER(K22),K22<>0),B22/K22,0) -> 0 | AJ22: =IF(AI22>=1,1,0) -> 0 | AK22: =IF(C22<>"",L22,0) -> 0
F23: =IF($A23 <> "",VLOOKUP($A23,CSP!$1:$1048576,10,FALSE)/1000000,"") | G23: =IF($A23 <> "",VLOOKUP($A23,CSP!$1:$1048576,14,FALSE)/1000000,"") | H23: =IF(AND(C23<>0,A23<>""), $C23/$F23,"") | I23: =IF(AND(F23=0,OR(B23<>"",C23<>"")),1,IF(AND(A23<>"",OR(B23<>"",C23<>"")),(B23+C23)/F23,"")) | J23: =IF(OR(AND(B23="",C23=""),A23=""),"",IF(OR(AND(B23<>"",B23<F23),AND(C23<>"",C23<F23)),"sans",IF(OR(AND(C23<>"",C23>=F23),AND(B23>=F23,B23<G23)),"D",IF(AND(B23>=G23,B23<10*G23,D23<>"oui"),"C",IF(OR(AND(B23<1000*G23,D23="oui"),AND(B23>=G23*10,B23<1000*G23)),"B",IF(B23>=1000*G23,"A","")))))) | K23: =IF($A23 <> "",VLOOKUP($A23,CSP!$1:$1048576,11,FALSE),"") | L23: =IF($A23 <> "",VLOOKUP($A23,CSP!$1:$1048576,25,FALSE),"") | P23: =IF(OR(N23="",O23="",A23=""),"",N23/(2^((TODAY()-O23)/L23))) | W23: =SUMIF($E$11:$E$1004,AA23,AE$11:$AE$1004) -> 0 | X23: =IF(Z23>=1000,"A",IF(OR(Z23>=10,Y23>=1),"B",IF(Z23>=1,"C",IF(W23>=1,"D","sans")))) -> sans | Y23: =SUMIF($E$11:$E$1004,AA23,AD$11:$AD$1004) -> 0 | Z23: =SUMIF($E$11:$E$1004,AA23,AB$11:$AB$1004) -> 0 | AA23: =1+AA22 -> 13 | AB23: =IF(AND(B23<>"",G23<>""),B23/G23,0) -> 0 | AC23: =IF(AB23>=1,1,0) -> 0 | AD23: =IF(AND(B23<>"",D23="oui"),1,0) -> 0 | AE23: =IF(B23<>"",B23/F23,0) -> 0 | AF23: =X23 -> sans | AG23: =IF(B23<>"",IF(J23="sans",0,IF(J23="A",4,IF(J23="B",3,IF(J23="C",2,IF(J23="D",1,""))))),0) -> 0 | AH23: =IF($G$5=E23,AG23,0) -> 0 | AI23: =IF(AND(B23<>"",ISNUMBER(K23),K23<>0),B23/K23,0) -> 0 | AJ23: =IF(AI23>=1,1,0) -> 0 | AK23: =IF(C23<>"",L23,0) -> 0
F24: =IF($A24 <> "",VLOOKUP($A24,CSP!$1:$1048576,10,FALSE)/1000000,"") | G24: =IF($A24 <> "",VLOOKUP($A24,CSP!$1:$1048576,14,FALSE)/1000000,"") | H24: =IF(AND(C24<>0,A24<>""), $C24/$F24,"") | I24: =IF(AND(F24=0,OR(B24<>"",C24<>"")),1,IF(AND(A24<>"",OR(B24<>"",C24<>"")),(B24+C24)/F24,"")) | J24: =IF(OR(AND(B24="",C24=""),A24=""),"",IF(OR(AND(B24<>"",B24<F24),AND(C24<>"",C24<F24)),"sans",IF(OR(AND(C24<>"",C24>=F24),AND(B24>=F24,B24<G24)),"D",IF(AND(B24>=G24,B24<10*G24,D24<>"oui"),"C",IF(OR(AND(B24<1000*G24,D24="oui"),AND(B24>=G24*10,B24<1000*G24)),"B",IF(B24>=1000*G24,"A","")))))) | K24: =IF($A24 <> "",VLOOKUP($A24,CSP!$1:$1048576,11,FALSE),"") | L24: =IF($A24 <> "",VLOOKUP($A24,CSP!$1:$1048576,25,FALSE),"") | P24: =IF(OR(N24="",O24="",A24=""),"",N24/(2^((TODAY()-O24)/L24))) | W24: =SUMIF($E$11:$E$1004,AA24,AE$11:$AE$1004) -> 0 | X24: =IF(Z24>=1000,"A",IF(OR(Z24>=10,Y24>=1),"B",IF(Z24>=1,"C",IF(W24>=1,"D","sans")))) -> sans | Y24: =SUMIF($E$11:$E$1004,AA24,AD$11:$AD$1004) -> 0 | Z24: =SUMIF($E$11:$E$1004,AA24,AB$11:$AB$1004) -> 0 | AA24: =1+AA23 -> 14 | AB24: =IF(AND(B24<>"",G24<>""),B24/G24,0) -> 0 | AC24: =IF(AB24>=1,1,0) -> 0 | AD24: =IF(AND(B24<>"",D24="oui"),1,0) -> 0 | AE24: =IF(B24<>"",B24/F24,0) -> 0 | AF24: =X24 -> sans | AG24: =IF(B24<>"",IF(J24="sans",0,IF(J24="A",4,IF(J24="B",3,IF(J24="C",2,IF(J24="D",1,""))))),0) -> 0 | AH24: =IF($G$5=E24,AG24,0) -> 0 | AI24: =IF(AND(B24<>"",ISNUMBER(K24),K24<>0),B24/K24,0) -> 0 | AJ24: =IF(AI24>=1,1,0) -> 0 | AK24: =IF(C24<>"",L24,0) -> 0
F25: =IF($A25 <> "",VLOOKUP($A25,CSP!$1:$1048576,10,FALSE)/1000000,"") | G25: =IF($A25 <> "",VLOOKUP($A25,CSP!$1:$1048576,14,FALSE)/1000000,"") | H25: =IF(AND(C25<>0,A25<>""), $C25/$F25,"") | I25: =IF(AND(F25=0,OR(B25<>"",C25<>"")),1,IF(AND(A25<>"",OR(B25<>"",C25<>"")),(B25+C25)/F25,"")) | J25: =IF(OR(AND(B25="",C25=""),A25=""),"",IF(OR(AND(B25<>"",B25<F25),AND(C25<>"",C25<F25)),"sans",IF(OR(AND(C25<>"",C25>=F25),AND(B25>=F25,B25<G25)),"D",IF(AND(B25>=G25,B25<10*G25,D25<>"oui"),"C",IF(OR(AND(B25<1000*G25,D25="oui"),AND(B25>=G25*10,B25<1000*G25)),"B",IF(B25>=1000*G25,"A","")))))) | K25: =IF($A25 <> "",VLOOKUP($A25,CSP!$1:$1048576,11,FALSE),"") | L25: =IF($A25 <> "",VLOOKUP($A25,CSP!$1:$1048576,25,FALSE),"") | P25: =IF(OR(N25="",O25="",A25=""),"",N25/(2^((TODAY()-O25)/L25))) | W25: =SUMIF($E$11:$E$1004,AA25,AE$11:$AE$1004) -> 0 | X25: =IF(Z25>=1000,"A",IF(OR(Z25>=10,Y25>=1),"B",IF(Z25>=1,"C",IF(W25>=1,"D","sans")))) -> sans | Y25: =SUMIF($E$11:$E$1004,AA25,AD$11:$AD$1004) -> 0 | Z25: =SUMIF($E$11:$E$1004,AA25,AB$11:$AB$1004) -> 0 | AA25: =1+AA24 -> 15 | AB25: =IF(AND(B25<>"",G25<>""),B25/G25,0) -> 0 | AC25: =IF(AB25>=1,1,0) -> 0 | AD25: =IF(AND(B25<>"",D25="oui"),1,0) -> 0 | AE25: =IF(B25<>"",B25/F25,0) -> 0 | AF25: =X25 -> sans | AG25: =IF(B25<>"",IF(J25="sans",0,IF(J25="A",4,IF(J25="B",3,IF(J25="C",2,IF(J25="D",1,""))))),0) -> 0 | AH25: =IF($G$5=E25,AG25,0) -> 0 | AI25: =IF(AND(B25<>"",ISNUMBER(K25),K25<>0),B25/K25,0) -> 0 | AJ25: =IF(AI25>=1,1,0) -> 0 | AK25: =IF(C25<>"",L25,0) -> 0
F26: =IF($A26 <> "",VLOOKUP($A26,CSP!$1:$1048576,10,FALSE)/1000000,"") | G26: =IF($A26 <> "",VLOOKUP($A26,CSP!$1:$1048576,14,FALSE)/1000000,"") | H26: =IF(AND(C26<>0,A26<>""), $C26/$F26,"") | I26: =IF(AND(F26=0,OR(B26<>"",C26<>"")),1,IF(AND(A26<>"",OR(B26<>"",C26<>"")),(B26+C26)/F26,"")) | J26: =IF(OR(AND(B26="",C26=""),A26=""),"",IF(OR(AND(B26<>"",B26<F26),AND(C26<>"",C26<F26)),"sans",IF(OR(AND(C26<>"",C26>=F26),AND(B26>=F26,B26<G26)),"D",IF(AND(B26>=G26,B26<10*G26,D26<>"oui"),"C",IF(OR(AND(B26<1000*G26,D26="oui"),AND(B26>=G26*10,B26<1000*G26)),"B",IF(B26>=1000*G26,"A","")))))) | K26: =IF($A26 <> "",VLOOKUP($A26,CSP!$1:$1048576,11,FALSE),"") | L26: =IF($A26 <> "",VLOOKUP($A26,CSP!$1:$1048576,25,FALSE),"") | P26: =IF(OR(N26="",O26="",A26=""),"",N26/(2^((TODAY()-O26)/L26))) | W26: =SUMIF($E$11:$E$1004,AA26,AE$11:$AE$1004) -> 0 | X26: =IF(Z26>=1000,"A",IF(OR(Z26>=10,Y26>=1),"B",IF(Z26>=1,"C",IF(W26>=1,"D","sans")))) -> sans | Y26: =SUMIF($E$11:$E$1004,AA26,AD$11:$AD$1004) -> 0 | Z26: =SUMIF($E$11:$E$1004,AA26,AB$11:$AB$1004) -> 0 | AA26: =1+AA25 -> 16 | AB26: =IF(AND(B26<>"",G26<>""),B26/G26,0) -> 0 | AC26: =IF(AB26>=1,1,0) -> 0 | AD26: =IF(AND(B26<>"",D26="oui"),1,0) -> 0 | AE26: =IF(B26<>"",B26/F26,0) -> 0 | AF26: =X26 -> sans | AG26: =IF(B26<>"",IF(J26="sans",0,IF(J26="A",4,IF(J26="B",3,IF(J26="C",2,IF(J26="D",1,""))))),0) -> 0 | AH26: =IF($G$5=E26,AG26,0) -> 0 | AI26: =IF(AND(B26<>"",ISNUMBER(K26),K26<>0),B26/K26,0) -> 0 | AJ26: =IF(AI26>=1,1,0) -> 0 | AK26: =IF(C26<>"",L26,0) -> 0
F27: =IF($A27 <> "",VLOOKUP($A27,CSP!$1:$1048576,10,FALSE)/1000000,"") | G27: =IF($A27 <> "",VLOOKUP($A27,CSP!$1:$1048576,14,FALSE)/1000000,"") | H27: =IF(AND(C27<>0,A27<>""), $C27/$F27,"") | I27: =IF(AND(F27=0,OR(B27<>"",C27<>"")),1,IF(AND(A27<>"",OR(B27<>"",C27<>"")),(B27+C27)/F27,"")) | J27: =IF(OR(AND(B27="",C27=""),A27=""),"",IF(OR(AND(B27<>"",B27<F27),AND(C27<>"",C27<F27)),"sans",IF(OR(AND(C27<>"",C27>=F27),AND(B27>=F27,B27<G27)),"D",IF(AND(B27>=G27,B27<10*G27,D27<>"oui"),"C",IF(OR(AND(B27<1000*G27,D27="oui"),AND(B27>=G27*10,B27<1000*G27)),"B",IF(B27>=1000*G27,"A","")))))) | K27: =IF($A27 <> "",VLOOKUP($A27,CSP!$1:$1048576,11,FALSE),"") | L27: =IF($A27 <> "",VLOOKUP($A27,CSP!$1:$1048576,25,FALSE),"") | P27: =IF(OR(N27="",O27="",A27=""),"",N27/(2^((TODAY()-O27)/L27))) | W27: =SUMIF($E$11:$E$1004,AA27,AE$11:$AE$1004) -> 0 | X27: =IF(Z27>=1000,"A",IF(OR(Z27>=10,Y27>=1),"B",IF(Z27>=1,"C",IF(W27>=1,"D","sans")))) -> sans | Y27: =SUMIF($E$11:$E$1004,AA27,AD$11:$AD$1004) -> 0 | Z27: =SUMIF($E$11:$E$1004,AA27,AB$11:$AB$1004) -> 0 | AA27: =1+AA26 -> 17 | AB27: =IF(AND(B27<>"",G27<>""),B27/G27,0) -> 0 | AC27: =IF(AB27>=1,1,0) -> 0 | AD27: =IF(AND(B27<>"",D27="oui"),1,0) -> 0 | AE27: =IF(B27<>"",B27/F27,0) -> 0 | AF27: =X27 -> sans | AG27: =IF(B27<>"",IF(J27="sans",0,IF(J27="A",4,IF(J27="B",3,IF(J27="C",2,IF(J27="D",1,""))))),0) -> 0 | AH27: =IF($G$5=E27,AG27,0) -> 0 | AI27: =IF(AND(B27<>"",ISNUMBER(K27),K27<>0),B27/K27,0) -> 0 | AJ27: =IF(AI27>=1,1,0) -> 0 | AK27: =IF(C27<>"",L27,0) -> 0
F28: =IF($A28 <> "",VLOOKUP($A28,CSP!$1:$1048576,10,FALSE)/1000000,"") | G28: =IF($A28 <> "",VLOOKUP($A28,CSP!$1:$1048576,14,FALSE)/1000000,"") | H28: =IF(AND(C28<>0,A28<>""), $C28/$F28,"") | I28: =IF(AND(F28=0,OR(B28<>"",C28<>"")),1,IF(AND(A28<>"",OR(B28<>"",C28<>"")),(B28+C28)/F28,"")) | J28: =IF(OR(AND(B28="",C28=""),A28=""),"",IF(OR(AND(B28<>"",B28<F28),AND(C28<>"",C28<F28)),"sans",IF(OR(AND(C28<>"",C28>=F28),AND(B28>=F28,B28<G28)),"D",IF(AND(B28>=G28,B28<10*G28,D28<>"oui"),"C",IF(OR(AND(B28<1000*G28,D28="oui"),AND(B28>=G28*10,B28<1000*G28)),"B",IF(B28>=1000*G28,"A","")))))) | K28: =IF($A28 <> "",VLOOKUP($A28,CSP!$1:$1048576,11,FALSE),"") | L28: =IF($A28 <> "",VLOOKUP($A28,CSP!$1:$1048576,25,FALSE),"") | P28: =IF(OR(N28="",O28="",A28=""),"",N28/(2^((TODAY()-O28)/L28))) | W28: =SUMIF($E$11:$E$1004,AA28,AE$11:$AE$1004) -> 0 | X28: =IF(Z28>=1000,"A",IF(OR(Z28>=10,Y28>=1),"B",IF(Z28>=1,"C",IF(W28>=1,"D","sans")))) -> sans | Y28: =SUMIF($E$11:$E$1004,AA28,AD$11:$AD$1004) -> 0 | Z28: =SUMIF($E$11:$E$1004,AA28,AB$11:$AB$1004) -> 0 | AA28: =1+AA27 -> 18 | AB28: =IF(AND(B28<>"",G28<>""),B28/G28,0) -> 0 | AC28: =IF(AB28>=1,1,0) -> 0 | AD28: =IF(AND(B28<>"",D28="oui"),1,0) -> 0 | AE28: =IF(B28<>"",B28/F28,0) -> 0 | AF28: =X28 -> sans | AG28: =IF(B28<>"",IF(J28="sans",0,IF(J28="A",4,IF(J28="B",3,IF(J28="C",2,IF(J28="D",1,""))))),0) -> 0 | AH28: =IF($G$5=E28,AG28,0) -> 0 | AI28: =IF(AND(B28<>"",ISNUMBER(K28),K28<>0),B28/K28,0) -> 0 | AJ28: =IF(AI28>=1,1,0) -> 0 | AK28: =IF(C28<>"",L28,0) -> 0
F29: =IF($A29 <> "",VLOOKUP($A29,CSP!$1:$1048576,10,FALSE)/1000000,"") | G29: =IF($A29 <> "",VLOOKUP($A29,CSP!$1:$1048576,14,FALSE)/1000000,"") | H29: =IF(AND(C29<>0,A29<>""), $C29/$F29,"") | I29: =IF(AND(F29=0,OR(B29<>"",C29<>"")),1,IF(AND(A29<>"",OR(B29<>"",C29<>"")),(B29+C29)/F29,"")) | J29: =IF(OR(AND(B29="",C29=""),A29=""),"",IF(OR(AND(B29<>"",B29<F29),AND(C29<>"",C29<F29)),"sans",IF(OR(AND(C29<>"",C29>=F29),AND(B29>=F29,B29<G29)),"D",IF(AND(B29>=G29,B29<10*G29,D29<>"oui"),"C",IF(OR(AND(B29<1000*G29,D29="oui"),AND(B29>=G29*10,B29<1000*G29)),"B",IF(B29>=1000*G29,"A","")))))) | K29: =IF($A29 <> "",VLOOKUP($A29,CSP!$1:$1048576,11,FALSE),"") | L29: =IF($A29 <> "",VLOOKUP($A29,CSP!$1:$1048576,25,FALSE),"") | P29: =IF(OR(N29="",O29="",A29=""),"",N29/(2^((TODAY()-O29)/L29))) | W29: =SUMIF($E$11:$E$1004,AA29,AE$11:$AE$1004) -> 0 | X29: =IF(Z29>=1000,"A",IF(OR(Z29>=10,Y29>=1),"B",IF(Z29>=1,"C",IF(W29>=1,"D","sans")))) -> sans | Y29: =SUMIF($E$11:$E$1004,AA29,AD$11:$AD$1004) -> 0 | Z29: =SUMIF($E$11:$E$1004,AA29,AB$11:$AB$1004) -> 0 | AA29: =1+AA28 -> 19 | AB29: =IF(AND(B29<>"",G29<>""),B29/G29,0) -> 0 | AC29: =IF(AB29>=1,1,0) -> 0 | AD29: =IF(AND(B29<>"",D29="oui"),1,0) -> 0 | AE29: =IF(B29<>"",B29/F29,0) -> 0 | AF29: =X29 -> sans | AG29: =IF(B29<>"",IF(J29="sans",0,IF(J29="A",4,IF(J29="B",3,IF(J29="C",2,IF(J29="D",1,""))))),0) -> 0 | AH29: =IF($G$5=E29,AG29,0) -> 0 | AI29: =IF(AND(B29<>"",ISNUMBER(K29),K29<>0),B29/K29,0) -> 0 | AJ29: =IF(AI29>=1,1,0) -> 0 | AK29: =IF(C29<>"",L29,0) -> 0
F30: =IF($A30 <> "",VLOOKUP($A30,CSP!$1:$1048576,10,FALSE)/1000000,"") | G30: =IF($A30 <> "",VLOOKUP($A30,CSP!$1:$1048576,14,FALSE)/1000000,"") | H30: =IF(AND(C30<>0,A30<>""), $C30/$F30,"") | I30: =IF(AND(F30=0,OR(B30<>"",C30<>"")),1,IF(AND(A30<>"",OR(B30<>"",C30<>"")),(B30+C30)/F30,"")) | J30: =IF(OR(AND(B30="",C30=""),A30=""),"",IF(OR(AND(B30<>"",B30<F30),AND(C30<>"",C30<F30)),"sans",IF(OR(AND(C30<>"",C30>=F30),AND(B30>=F30,B30<G30)),"D",IF(AND(B30>=G30,B30<10*G30,D30<>"oui"),"C",IF(OR(AND(B30<1000*G30,D30="oui"),AND(B30>=G30*10,B30<1000*G30)),"B",IF(B30>=1000*G30,"A","")))))) | K30: =IF($A30 <> "",VLOOKUP($A30,CSP!$1:$1048576,11,FALSE),"") | L30: =IF($A30 <> "",VLOOKUP($A30,CSP!$1:$1048576,25,FALSE),"") | P30: =IF(OR(N30="",O30="",A30=""),"",N30/(2^((TODAY()-O30)/L30))) | W30: =SUMIF($E$11:$E$1004,AA30,AE$11:$AE$1004) -> 0 | X30: =IF(Z30>=1000,"A",IF(OR(Z30>=10,Y30>=1),"B",IF(Z30>=1,"C",IF(W30>=1,"D","sans")))) -> sans | Y30: =SUMIF($E$11:$E$1004,AA30,AD$11:$AD$1004) -> 0 | Z30: =SUMIF($E$11:$E$1004,AA30,AB$11:$AB$1004) -> 0 | AA30: =1+AA29 -> 20 | AB30: =IF(AND(B30<>"",G30<>""),B30/G30,0) -> 0 | AC30: =IF(AB30>=1,1,0) -> 0 | AD30: =IF(AND(B30<>"",D30="oui"),1,0) -> 0 | AE30: =IF(B30<>"",B30/F30,0) -> 0 | AF30: =X30 -> sans | AG30: =IF(B30<>"",IF(J30="sans",0,IF(J30="A",4,IF(J30="B",3,IF(J30="C",2,IF(J30="D",1,""))))),0) -> 0 | AH30: =IF($G$5=E30,AG30,0) -> 0 | AI30: =IF(AND(B30<>"",ISNUMBER(K30),K30<>0),B30/K30,0) -> 0 | AJ30: =IF(AI30>=1,1,0) -> 0 | AK30: =IF(C30<>"",L30,0) -> 0
... F1000: =IF($A1000 <> "",VLOOKUP($A1000,CSP!$1:$1048576,10,FALSE)/1000000,"") | G1000: =IF($A1000 <> "",VLOOKUP($A1000,CSP!$1:$1048576,14,FALSE)/1000000,"") | H1000: =IF(AND(C1000<>0,A1000<>""), $C1000/$F1000,"") | I1000: =IF(AND(F1000=0,OR(B1000<>"",C1000<>"")),1,IF(AND(A1000<>"",OR(B1000<>"",C1000<>"")),(B1000+C1000)/F1000,"")) | J1000: =IF(OR(AND(B1000="",C1000=""),A1000=""),"",IF(OR(AND(B1000<>"",B1000<F1000),AND(C1000<>"",C1000<F1000)),"sans",IF(OR(AND(C1000<>"",C1000>=F1000),AND(B1000>=F1000,B1000<G1000)),"D",IF(AND(B1000>=G1000,B1000<10*G1000,D1000<>"oui"),"C",IF(OR(AND(B1000<1000*G1000,D1000="oui"),AND(B1000>=G1000*10,B1000<1000*G1000)),"B",IF(B1000>=1000*G1000,"A","")))))) | K1000: =IF($A1000 <> "",VLOOKUP($A1000,CSP!$1:$1048576,11,FALSE),"") | L1000: =IF($A1000 <> "",VLOOKUP($A1000,CSP!$1:$1048576,25,FALSE),"") | P1000: =IF(OR(N1000="",O1000="",A1000=""),"",N1000/(2^((TODAY()-O1000)/L1000))) | W1000: =SUMIF($E$11:$E$1004,AA1000,AE$11:$AE$1004) -> 0 | X1000: =IF(Z1000>=1000,"A",IF(OR(Z1000>=10,Y1000>=1),"B",IF(Z1000>=1,"C",IF(W1000>=1,"D","sans")))) -> sans | Y1000: =SUMIF($E$11:$E$1004,AA1000,AD$11:$AD$1004) -> 0 | Z1000: =SUMIF($E$11:$E$1004,AA1000,AB$11:$AB$1004) -> 0 | AA1000: =1+AA999 -> 990 | AB1000: =IF(AND(B1000<>"",G1000<>""),B1000/G1000,0) -> 0 | AC1000: =IF(AB1000>=1,1,0) -> 0 | AD1000: =IF(AND(B1000<>"",D1000="oui"),1,0) -> 0 | AE1000: =IF(B1000<>"",B1000/F1000,0) -> 0 | AF1000: =X1000 -> sans | AG1000: =IF(B1000<>"",IF(J1000="sans",0,IF(J1000="A",4,IF(J1000="B",3,IF(J1000="C",2,IF(J1000="D",1,""))))),0) -> 0 | AH1000: =IF($G$5=E1000,AG1000,0) -> 0 | AI1000: =IF(AND(B1000<>"",ISNUMBER(K1000),K1000<>0),B1000/K1000,0) -> 0 | AJ1000: =IF(AI1000>=1,1,0) -> 0 | AK1000: =IF(C1000<>"",L1000,0) -> 0
F1001: =IF($A1001 <> "",VLOOKUP($A1001,CSP!$1:$1048576,10,FALSE)/1000000,"") | G1001: =IF($A1001 <> "",VLOOKUP($A1001,CSP!$1:$1048576,14,FALSE)/1000000,"") | H1001: =IF(AND(C1001<>0,A1001<>""), $C1001/$F1001,"") | I1001: =IF(AND(F1001=0,OR(B1001<>"",C1001<>"")),1,IF(AND(A1001<>"",OR(B1001<>"",C1001<>"")),(B1001+C1001)/F1001,"")) | J1001: =IF(OR(AND(B1001="",C1001=""),A1001=""),"",IF(OR(AND(B1001<>"",B1001<F1001),AND(C1001<>"",C1001<F1001)),"sans",IF(OR(AND(C1001<>"",C1001>=F1001),AND(B1001>=F1001,B1001<G1001)),"D",IF(AND(B1001>=G1001,B1001<10*G1001,D1001<>"oui"),"C",IF(OR(AND(B1001<1000*G1001,D1001="oui"),AND(B1001>=G1001*10,B1001<1000*G1001)),"B",IF(B1001>=1000*G1001,"A","")))))) | K1001: =IF($A1001 <> "",VLOOKUP($A1001,CSP!$1:$1048576,11,FALSE),"") | L1001: =IF($A1001 <> "",VLOOKUP($A1001,CSP!$1:$1048576,25,FALSE),"") | P1001: =IF(OR(N1001="",O1001="",A1001=""),"",N1001/(2^((TODAY()-O1001)/L1001))) | W1001: =SUMIF($E$11:$E$1004,AA1001,AE$11:$AE$1004) -> 0 | X1001: =IF(Z1001>=1000,"A",IF(OR(Z1001>=10,Y1001>=1),"B",IF(Z1001>=1,"C",IF(W1001>=1,"D","sans")))) -> sans | Y1001: =SUMIF($E$11:$E$1004,AA1001,AD$11:$AD$1004) -> 0 | Z1001: =SUMIF($E$11:$E$1004,AA1001,AB$11:$AB$1004) -> 0 | AB1001: =IF(AND(B1001<>"",G1001<>""),B1001/G1001,0) -> 0 | AC1001: =IF(AB1001>=1,1,0) -> 0 | AD1001: =IF(AND(B1001<>"",D1001="oui"),1,0) -> 0 | AE1001: =IF(B1001<>"",B1001/F1001,0) -> 0 | AF1001: =X1001 -> sans | AG1001: =IF(B1001<>"",IF(J1001="sans",0,IF(J1001="A",4,IF(J1001="B",3,IF(J1001="C",2,IF(J1001="D",1,""))))),0) -> 0 | AH1001: =IF($G$5=E1001,AG1001,0) -> 0 | AI1001: =IF(AND(B1001<>"",ISNUMBER(K1001),K1001<>0),B1001/K1001,0) -> 0 | AJ1001: =IF(AI1001>=1,1,0) -> 0 | AK1001: =IF(C1001<>"",L1001,0) -> 0
F1002: =IF($A1002 <> "",VLOOKUP($A1002,CSP!$1:$1048576,10,FALSE)/1000000,"") | G1002: =IF($A1002 <> "",VLOOKUP($A1002,CSP!$1:$1048576,14,FALSE)/1000000,"") | H1002: =IF(AND(C1002<>0,A1002<>""), $C1002/$F1002,"") | I1002: =IF(AND(F1002=0,OR(B1002<>"",C1002<>"")),1,IF(AND(A1002<>"",OR(B1002<>"",C1002<>"")),(B1002+C1002)/F1002,"")) | J1002: =IF(OR(AND(B1002="",C1002=""),A1002=""),"",IF(OR(AND(B1002<>"",B1002<F1002),AND(C1002<>"",C1002<F1002)),"sans",IF(OR(AND(C1002<>"",C1002>=F1002),AND(B1002>=F1002,B1002<G1002)),"D",IF(AND(B1002>=G1002,B1002<10*G1002,D1002<>"oui"),"C",IF(OR(AND(B1002<1000*G1002,D1002="oui"),AND(B1002>=G1002*10,B1002<1000*G1002)),"B",IF(B1002>=1000*G1002,"A","")))))) | K1002: =IF($A1002 <> "",VLOOKUP($A1002,CSP!$1:$1048576,11,FALSE),"") | L1002: =IF($A1002 <> "",VLOOKUP($A1002,CSP!$1:$1048576,25,FALSE),"") | P1002: =IF(OR(N1002="",O1002="",A1002=""),"",N1002/(2^((TODAY()-O1002)/L1002))) | W1002: =SUMIF($E$11:$E$1004,AA1002,AE$11:$AE$1004) -> 0 | X1002: =IF(Z1002>=1000,"A",IF(OR(Z1002>=10,Y1002>=1),"B",IF(Z1002>=1,"C",IF(W1002>=1,"D","sans")))) -> sans | Y1002: =SUMIF($E$11:$E$1004,AA1002,AD$11:$AD$1004) -> 0 | Z1002: =SUMIF($E$11:$E$1004,AA1002,AB$11:$AB$1004) -> 0 | AB1002: =IF(AND(B1002<>"",G1002<>""),B1002/G1002,0) -> 0 | AC1002: =IF(AB1002>=1,1,0) -> 0 | AD1002: =IF(AND(B1002<>"",D1002="oui"),1,0) -> 0 | AE1002: =IF(B1002<>"",B1002/F1002,0) -> 0 | AF1002: =X1002 -> sans | AG1002: =IF(B1002<>"",IF(J1002="sans",0,IF(J1002="A",4,IF(J1002="B",3,IF(J1002="C",2,IF(J1002="D",1,""))))),0) -> 0 | AH1002: =IF($G$5=E1002,AG1002,0) -> 0 | AI1002: =IF(AND(B1002<>"",ISNUMBER(K1002),K1002<>0),B1002/K1002,0) -> 0 | AJ1002: =IF(AI1002>=1,1,0) -> 0 | AK1002: =IF(C1002<>"",L1002,0) -> 0
F1003: =IF($A1003 <> "",VLOOKUP($A1003,CSP!$1:$1048576,10,FALSE)/1000000,"") | G1003: =IF($A1003 <> "",VLOOKUP($A1003,CSP!$1:$1048576,14,FALSE)/1000000,"") | H1003: =IF(AND(C1003<>0,A1003<>""), $C1003/$F1003,"") | I1003: =IF(AND(F1003=0,OR(B1003<>"",C1003<>"")),1,IF(AND(A1003<>"",OR(B1003<>"",C1003<>"")),(B1003+C1003)/F1003,"")) | J1003: =IF(OR(AND(B1003="",C1003=""),A1003=""),"",IF(OR(AND(B1003<>"",B1003<F1003),AND(C1003<>"",C1003<F1003)),"sans",IF(OR(AND(C1003<>"",C1003>=F1003),AND(B1003>=F1003,B1003<G1003)),"D",IF(AND(B1003>=G1003,B1003<10*G1003,D1003<>"oui"),"C",IF(OR(AND(B1003<1000*G1003,D1003="oui"),AND(B1003>=G1003*10,B1003<1000*G1003)),"B",IF(B1003>=1000*G1003,"A","")))))) | K1003: =IF($A1003 <> "",VLOOKUP($A1003,CSP!$1:$1048576,11,FALSE),"") | L1003: =IF($A1003 <> "",VLOOKUP($A1003,CSP!$1:$1048576,25,FALSE),"") | P1003: =IF(OR(N1003="",O1003="",A1003=""),"",N1003/(2^((TODAY()-O1003)/L1003))) | W1003: =SUMIF($E$11:$E$1004,AA1003,AE$11:$AE$1004) -> 0 | X1003: =IF(Z1003>=1000,"A",IF(OR(Z1003>=10,Y1003>=1),"B",IF(Z1003>=1,"C",IF(W1003>=1,"D","sans")))) -> sans | Y1003: =SUMIF($E$11:$E$1004,AA1003,AD$11:$AD$1004) -> 0 | Z1003: =SUMIF($E$11:$E$1004,AA1003,AB$11:$AB$1004) -> 0 | AB1003: =IF(AND(B1003<>"",G1003<>""),B1003/G1003,0) -> 0 | AC1003: =IF(AB1003>=1,1,0) -> 0 | AD1003: =IF(AND(B1003<>"",D1003="oui"),1,0) -> 0 | AE1003: =IF(B1003<>"",B1003/F1003,0) -> 0 | AF1003: =X1003 -> sans | AG1003: =IF(B1003<>"",IF(J1003="sans",0,IF(J1003="A",4,IF(J1003="B",3,IF(J1003="C",2,IF(J1003="D",1,""))))),0) -> 0 | AH1003: =IF($G$5=E1003,AG1003,0) -> 0 | AI1003: =IF(AND(B1003<>"",ISNUMBER(K1003),K1003<>0),B1003/K1003,0) -> 0 | AJ1003: =IF(AI1003>=1,1,0) -> 0 | AK1003: =IF(C1003<>"",L1003,0) -> 0
F1004: =IF($A1004 <> "",VLOOKUP($A1004,CSP!$1:$1048576,10,FALSE)/1000000,"") | G1004: =IF($A1004 <> "",VLOOKUP($A1004,CSP!$1:$1048576,14,FALSE)/1000000,"") | H1004: =IF(AND(C1004<>0,A1004<>""), $C1004/$F1004,"") | I1004: =IF(AND(F1004=0,OR(B1004<>"",C1004<>"")),1,IF(AND(A1004<>"",OR(B1004<>"",C1004<>"")),(B1004+C1004)/F1004,"")) | J1004: =IF(OR(AND(B1004="",C1004=""),A1004=""),"",IF(OR(AND(B1004<>"",B1004<F1004),AND(C1004<>"",C1004<F1004)),"sans",IF(OR(AND(C1004<>"",C1004>=F1004),AND(B1004>=F1004,B1004<G1004)),"D",IF(AND(B1004>=G1004,B1004<10*G1004,D1004<>"oui"),"C",IF(OR(AND(B1004<1000*G1004,D1004="oui"),AND(B1004>=G1004*10,B1004<1000*G1004)),"B",IF(B1004>=1000*G1004,"A","")))))) | K1004: =IF($A1004 <> "",VLOOKUP($A1004,CSP!$1:$1048576,11,FALSE),"") | L1004: =IF($A1004 <> "",VLOOKUP($A1004,CSP!$1:$1048576,25,FALSE),"") | P1004: =IF(OR(N1004="",O1004="",A1004=""),"",N1004/(2^((TODAY()-O1004)/L1004))) | W1004: =SUMIF($E$11:$E$1004,AA1004,AE$11:$AE$1004) -> 0 | X1004: =IF(Z1004>=1000,"A",IF(OR(Z1004>=10,Y1004>=1),"B",IF(Z1004>=1,"C",IF(W1004>=1,"D","sans")))) -> sans | Y1004: =SUMIF($E$11:$E$1004,AA1004,AD$11:$AD$1004) -> 0 | Z1004: =SUMIF($E$11:$E$1004,AA1004,AB$11:$AB$1004) -> 0 | AB1004: =IF(AND(B1004<>"",G1004<>""),B1004/G1004,0) -> 0 | AC1004: =IF(AB1004>=1,1,0) -> 0 | AD1004: =IF(AND(B1004<>"",D1004="oui"),1,0) -> 0 | AE1004: =IF(B1004<>"",B1004/F1004,0) -> 0 | AF1004: =X1004 -> sans | AG1004: =IF(B1004<>"",IF(J1004="sans",0,IF(J1004="A",4,IF(J1004="B",3,IF(J1004="C",2,IF(J1004="D",1,""))))),0) -> 0 | AH1004: =IF($G$5=E1004,AG1004,0) -> 0 | AI1004: =IF(AND(B1004<>"",ISNUMBER(K1004),K1004<>0),B1004/K1004,0) -> 0 | AJ1004: =IF(AI1004>=1,1,0) -> 0 | AK1004: =IF(C1004<>"",L1004,0) -> 0

Sheet CSP
A1: Radionucléide | B1: RN pour SIGIS | C1: RN pour SIGIS | D1: RN | E1: N Atom | F1: Etension 1 | G1: Extension 2 | H1: Exemption (MBq) (old) | I1: Exemption (Bq) (old) | J1: Exemption (Bq) (new) | K1: SSHA (MBq) (old) | L1: SSHA (Bq) (old) | M1: D value (MBq) | N1: SSHA (Bq) (new) | O1: Seuil CPE Etalonnage (MBq) | P1: Ancien seuil CSP (< 2002) MBq | Q1: Groupe Radiotoxicité | R1: Commentaire (Exemption) | S1: Exemption (kBq/kg) (old) | T1: Exemption (kBq/kg) (new) | U1: Déclaration (kBq/kg) (new) | V1: Commentaire CPE | W1: Commentaire SSHA | X1: Commentaire D value | Y1: Période (Jours) | Z1: Période (Jours) | AA1: années | AB1: heures | AC1: minutes | AD1: secondes
A2: 3H | B2: H3 | C2: H3 | D2: H | E2: 3 | H2: 1000 | I2: 1000000000 | J2: 1000000000 | K2: 400000 | L2: 400000000000 | M2: 2000000000 | N2: 2e+15 | O2: 50 | P2: 5 | Q2: 4 | S2: 1000000 | T2: 100 | U2: 1000000 | Y2: =Z2+AA2*365+AB2/24+AC2/(24*60)+AD2/(24*3600) -> 4496.8 | AA2: 12.32
A3: 7Be | B3: Be7 | C3: Be7 | D3: Be | E3: 7 | H3: 10 | I3: 10000000 | J3: 10000000 | K3: 200000 | L3: 200000000000 | M3: 1000000 | N3: 1000000000000 | O3: 50 | P3: 5 | Q3: 4 | S3: 1000 | T3: 10 | U3: 1000 | Y3: =Z3+AA3*365+AB3/24+AC3/(24*60)+AD3/(24*3600) -> 53.22 | Z3: 53.22
A4: 10Be | B4: Be10 | C4: Be10 | D4: Be | E4: 10 | H4: 1 | I4: 1000000 | J4: 1000000 | K4: 400000 | L4: 400000000000 | M4: 30000000 | N4: 30000000000000 | O4: 5 | P4: 0.05 | Q4: 2 | S4: 10000 | T4: / | U4: / | Y4: =Z4+AA4*365+AB4/24+AC4/(24*60)+AD4/(24*3600) -> 551150000 | AA4: 1510000
A5: 11C dioxyde | B5: C11 dioxyde | C5: C11 dioxyde | D5: C | E5: 11 | F5: dioxyde | H5: 1000 | I5: 1000000000 | J5: 1000000000 | K5: 400000 | L5: 400000000000 | M5: 60000 | N5: 60000000000 | O5: 50 | P5: 5 | Q5: 4 | S5: 10 | T5: / | U5: / | V5: La CPE ne fait pas de # sur la forme physico-chimique | Y5: =Z5+AA5*365+AB5/24+AC5/(24*60)+AD5/(24*3600) -> 0.014141667 | AC5: 20.364
A6: 11C monoxyde | B6: C11 monoxyde | C6: C11 monoxyde | D6: C | E6: 11 | F6: monoxyde | H6: 1000 | I6: 1000000000 | J6: 1000000000 | K6: 400000 | L6: 400000000000 | M6: 60000 | N6: 60000000000 | O6: 50 | P6: 5 | Q6: 4 | S6: 10 | T6: / | U6: / | V6: La CPE ne fait pas de # sur la forme physico-chimique | Y6: =Z6+AA6*365+AB6/24+AC6/(24*60)+AD6/(24*3600) -> 0.014141667 | AC6: 20.364
A7: 11C | B7: C11 | C7: C11 | D7: C | E7: 11 | H7: 1 | I7: 1000000 | J7: 1000000 | K7: 10000 | L7: 10000000000 | M7: 60000 | N7: 60000000000 | O7: 50 | P7: 5 | Q7: 4 | S7: 10 | T7: / | U7: / | Y7: =Z7+AA7*365+AB7/24+AC7/(24*60)+AD7/(24*3600) -> 0.014141667 | AC7: 20.364
A8: 13N | B8: N13 | C8: N13 | D8: N | E8: 13 | H8: 1000 | I8: 1000000000 | J8: 1000000000 | K8: 9000 | L8: 9000000000 | M8: 60000 | N8: 60000000000 | S8: 100 | T8: / | U8: / | Y8: =Z8+AA8*365+AB8/24+AC8/(24*60)+AD8/(24*3600) -> 0.0069201389 | AC8: 9.965
A9: 14C dioxyde | B9: C14 dioxyde | C9: C14 dioxyde | D9: C | E9: 14 | F9: dioxyde | H9: 1e-05 | I9: 10 | J9: 10 | K9: 400000 | L9: 400000000000 | M9: 50000000 | N9: 50000000000000 | O9: 5 | P9: 0.5 | Q9: 3 | S9: 10000000 | T9: / | U9: / | V9: La CPE ne fait pas de # sur la forme physico-chimique | Y9: =Z9+AA9*365+AB9/24+AC9/(24*60)+AD9/(24*3600) -> 2080500 | AA9: 5700
A10: 14C monoxyde | B10: C14 monoxyde | C10: C14 monoxyde | D10: C | E10: 14 | F10: monoxyde | H10: 1e-05 | I10: 10 | J10: 10 | K10: 400000 | L10: 400000000000 | M10: 50000000 | N10: 50000000000000 | O10: 5 | P10: 0.5 | Q10: 3 | S10: 100000000 | T10: / | U10: / | V10: La CPE ne fait pas de # sur la forme physico-chimique | Y10: =Z10+AA10*365+AB10/24+AC10/(24*60)+AD10/(24*3600) -> 2080500 | AA10: 5700
A11: 14C | B11: C14 | C11: C14 | D11: C | E11: 14 | H11: 10 | I11: 10000000 | J11: 10000000 | K11: 400000 | L11: 400000000000 | M11: 50000000 | N11: 50000000000000 | O11: 5 | P11: 0.5 | Q11: 3 | S11: 10000 | T11: 1 | U11: 10000 | Y11: =Z11+AA11*365+AB11/24+AC11/(24*60)+AD11/(24*3600) -> 2080500 | AA11: 5700
A12: 15O | B12: O15 | C12: O15 | D12: O | E12: 15 | H12: 1000 | I12: 1000000000 | J12: 1000000000 | L12: NA | N12: NA | Q12: - | S12: 100 | T12: / | U12: 100 | Y12: =Z12+AA12*365+AB12/24+AC12/(24*60)+AD12/(24*3600) -> 0.0014173611 | AC12: 2.041
A13: 18F | B13: F18 | C13: F18 | D13: F | E13: 18 | H13: 1 | I13: 1000000 | J13: 1000000 | K13: 10000 | L13: 10000000000 | M13: 60000 | N13: 60000000000 | O13: 50 | P13: 5 | Q13: 4 | S13: 10 | T13: 10 | U13: 10 | Y13: =Z13+AA13*365+AB13/24+AC13/(24*60)+AD13/(24*3600) -> 0.0762 | AB13: 1.8288
A14: 19Ne | B14: Ne19 | C14: Ne19 | D14: Ne | E14: 19 | H14: 1000 | I14: 1000000000 | J14: 1000000000 | L14: NA | N14: NA | Q14: - | S14: 100 | T14: / | U14: / | Y14: =Z14+AA14*365+AB14/24+AC14/(24*60)+AD14/(24*3600) -> 0.00019930556 | AD14: 17.22
A15: 22Na | B15: Na22 | C15: Na22 | D15: Na | E15: 22 | H15: 1 | I15: 1000000 | J15: 1000000 | K15: 5000 | L15: 5000000000 | M15: 30000 | N15: 30000000000 | O15: 5 | P15: 0.5 | Q15: 3 | S15: 10 | T15: 0.1 | U15: 10 | Y15: =Z15+AA15*365+AB15/24+AC15/(24*60)+AD15/(24*3600) -> 949.657 | AA15: 2.6018
A16: 24Na | B16: Na24 | C16: Na24 | D16: Na | E16: 24 | H16: 0.1 | I16: 100000 | J16: 100000 | K16: 2000 | L16: 2000000000 | M16: 20000 | N16: 20000000000 | O16: 5 | P16: 0.5 | Q16: 3 | S16: 10 | T16: 1 | U16: 10 | Y16: =Z16+AA16*365+AB16/24+AC16/(24*60)+AD16/(24*3600) -> 0.624875 | AB16: 14.997
A17: 26Al | B17: Al26 | C17: Al26 | D17: Al | E17: 26 | H17: 0.1 | I17: 100000 | J17: 100000 | K17: 1000 | L17: 1000000000 | M17: 30000 | N17: 30000000000 | O17: 5 | P17: 0.05 | Q17: 2 | S17: 10 | T17: / | U17: / | Y17: =Z17+AA17*365+AB17/24+AC17/(24*60)+AD17/(24*3600) -> 261705000 | AA17: 717000
A18: 28Mg | B18: Mg28 | C18: Mg28 | D18: Mg | E18: 28 | H18: 0.1 | I18: 100000 | J18: 100000 | K18: 3000 | L18: 3000000000 | M18: 20000 | N18: 20000000000 | O18: 5 | P18: 0.5 | Q18: 3 | R18: + | S18: 10 | T18: / | U18: / | W18: (a) | Y18: =Z18+AA18*365+AB18/24+AC18/(24*60)+AD18/(24*3600) -> 0.87145833 | AB18: 20.915
A19: 31Si | B19: Si31 | C19: Si31 | D19: Si | E19: 31 | H19: 1 | I19: 1000000 | J19: 1000000 | K19: 6000 | L19: 6000000000 | M19: 10000000 | N19: 10000000000000 | O19: 50 | P19: 5 | Q19: 4 | S19: 1000 | T19: 1000 | U19: 1000 | Y19: =Z19+AA19*365+AB19/24+AC19/(24*60)+AD19/(24*3600) -> 0.10927778 | AC19: 157.36
A20: 32P | B20: P32 | C20: P32 | D20: P | E20: 32 | H20: 0.1 | I20: 100000 | J20: 100000 | K20: 5000 | L20: 5000000000 | M20: 10000000 | N20: 10000000000000 | O20: 5 | P20: 0.5 | Q20: 3 | S20: 1000 | T20: 1000 | U20: 1000 | Y20: =Z20+AA20*365+AB20/24+AC20/(24*60)+AD20/(24*3600) -> 14.284 | Z20: 14.284
A21: 32Si | B21: Si32 | C21: Si32 | D21: Si | E21: 32 | H21: 1 | I21: 1000000 | J21: 1000000 | K21: 400000 | L21: 400000000000 | M21: 7000000 | N21: 7000000000000 | O21: 5 | P21: 0.05 | Q21: 2 | S21: 1000 | T21: / | U21: / | Y21: =Z21+AA21*365+AB21/24+AC21/(24*60)+AD21/(24*3600) -> 55845 | AA21: 153
A22: 33P | B22: P33 | C22: P33 | D22: P | E22: 33 | H22: 100 | I22: 100000000 | J22: 100000000 | K22: 400000 | L22: 400000000000 | M22: 200000000 | N22: 200000000000000 | O22: 5 | P22: 0.5 | Q22: 3 | S22: 100000 | T22: 1000 | U22: 100000 | Y22: =Z22+AA22*365+AB22/24+AC22/(24*60)+AD22/(24*3600) -> 25.35 | Z22: 25.35
A23: 35S composé organique | B23: S35 composé organique | C23: S35 composé organique | D23: S | E23: 35 | F23: composé organique | H23: 100 | I23: 100000000 | J23: 100000000 | K23: 400000 | L23: 400000000000 | M23: 60000000 | N23: 60000000000000 | O23: 50 | P23: 5 | Q23: 4 | S23: 100000 | T23: / | U23: / | V23: La CPE ne fait pas de # sur la forme physico-chimique | Y23: =Z23+AA23*365+AB23/24+AC23/(24*60)+AD23/(24*3600) -> 87.37 | Z23: 87.37
A24: 35S vapeur | B24: S35 vapeur | C24: S35 vapeur | D24: S | E24: 35 | F24: vapeur | H24: 1000 | I24: 1000000000 | J24: 1000000000 | K24: 400000 | L24: 400000000000 | M24: 60000000 | N24: 60000000000000 | O24: 50 | P24: 5 | Q24: 4 | S24: 1000000 | T24: / | U24: / | V24: La CPE ne fait pas de # sur la forme physico-chimique | Y24: =Z24+AA24*365+AB24/24+AC24/(24*60)+AD24/(24*3600) -> 87.37 | Z24: 87.37
A25: 35S | B25: S35 | C25: S35 | D25: S | E25: 35 | H25: 100 | I25: 100000000 | J25: 100000000 | K25: 400000 | L25: 400000000000 | M25: 60000000 | N25: 60000000000000 | O25: 50 | P25: 5 | Q25: 4 | S25: 100000 | T25: 100 | U25: 100000 | Y25: =Z25+AA25*365+AB25/24+AC25/(24*60)+AD25/(24*3600) -> 87.37 | Z25: 87.37
A26: 36Cl | B26: Cl36 | C26: Cl36 | D26: Cl | E26: 36 | H26: 1 | I26: 1000000 | J26: 1000000 | K26: 100000 | L26: 100000000000 | M26: 20000000 | N26: 20000000000000 | O26: 5 | P26: 0.5 | Q26: 3 | S26: 10000 | T26: 1 | U26: 10000 | X26: d | Y26: =Z26+AA26*365+AB26/24+AC26/(24*60)+AD26/(24*3600) -> 109865000 | AA26: 301000
A27: 37Ar | B27: Ar37 | C27: Ar37 | D27: Ar | E27: 37 | H27: 100 | I27: 100000000 | J27: 100000000 | K27: 400000 | L27: 400000000000 | M27: Illimité | N27: NA | O27: 50 | P27: 5 | Q27: 4 | S27: 1000000 | T27: / | U27: 1000000 | X27: e | Y27: =Z27+AA27*365+AB27/24+AC27/(24*60)+AD27/(24*3600) -> 35.011 | Z27: 35.011
A28: 38Cl | B28: Cl38 | C28: Cl38 | D28: Cl | E28: 38 | H28: 0.1 | I28: 100000 | J28: 100000 | K28: 2000 | L28: 2000000000 | M28: 50000 | N28: 50000000000 | O28: 50 | P28: 5 | Q28: 4 | S28: 10 | T28: 10 | U28: 10 | Y28: =Z28+AA28*365+AB28/24+AC28/(24*60)+AD28/(24*3600) -> 0.025861111 | AC28: 37.24
A29: 39Ar | B29: Ar39 | C29: Ar39 | D29: Ar | E29: 39 | H29: 0.01 | I29: 10000 | J29: 10000 | K29: 400000 | L29: 400000000000 | M29: 300000000 | N29: 300000000000000 | O29: 50 | P29: 5 | Q29: 4 | S29: 10000000 | T29: / | U29: / | Y29: =Z29+AA29*365+AB29/24+AC29/(24*60)+AD29/(24*3600) -> 98185 | AA29: 269
A30: 39Cl | B30: Cl39 | C30: Cl39 | D30: Cl | E30: 39 | H30: 0.1 | I30: 100000 | J30: 100000 | L30: NA | N30: NA | O30: 50 | P30: 5 | Q30: 4 | S30: 10 | T30: / | U30: / | Y30: =Z30+AA30*365+AB30/24+AC30/(24*60)+AD30/(24*3600) -> 0.039027778 | AC30: 56.2
A31: 40K | B31: K40 | C31: K40 | D31: K | E31: 40 | H31: 1 | I31: 1000000 | J31: 1000000 | K31: 9000 | L31: 9000000000 | M31: Illimité | N31: NA | O31: 50 | P31: 5 | Q31: 4 | S31: 100 | T31: / | U31: 100 | X31: e | Y31: =Z31+AA31*365+AB31/24+AC31/(24*60)+AD31/(24*3600) -> 455520000000 | AA31: 1248000000
A32: 41Ar | B32: Ar41 | C32: Ar41 | D32: Ar | E32: 41 | H32: 1000 | I32: 1000000000 | J32: 1000000000 | K32: 3000 | L32: 3000000000 | M32: 50000 | N32: 50000000000 | O32: 5 | P32: 0.5 | Q32: 3 | S32: 100 | T32: / | U32: 100 | Y32: =Z32+AA32*365+AB32/24+AC32/(24*60)+AD32/(24*3600) -> 0.076118056 | AC32: 109.61
A33: 41Ca | B33: Ca41 | C33: Ca41 | D33: Ca | E33: 41 | H33: 10 | I33: 10000000 | J33: 10000000 | L33: Illimité | M33: Illimité | N33: NA | O33: 50 | P33: 5 | Q33: 4 | S33: 100000 | T33: / | U33: / | X33: e | Y33: =Z33+AA33*365+AB33/24+AC33/(24*60)+AD33/(24*3600) -> 36281000 | AA33: 99400
A34: 42K | B34: K42 | C34: K42 | D34: K | E34: 42 | H34: 1 | I34: 1000000 | J34: 1000000 | K34: 2000 | L34: 2000000000 | M34: 200000 | N34: 200000000000 | O34: 5 | P34: 0.5 | Q34: 3 | S34: 100 | T34: 100 | U34: 100 | Y34: =Z34+AA34*365+AB34/24+AC34/(24*60)+AD34/(24*3600) -> 0.51479167 | AB34: 12.355
A35: 43K | B35: K43 | C35: K43 | D35: K | E35: 43 | H35: 1 | I35: 1000000 | J35: 1000000 | K35: 7000 | L35: 7000000000 | M35: 70000 | N35: 70000000000 | O35: 5 | P35: 0.5 | Q35: 3 | S35: 10 | T35: 10 | U35: 10 | Y35: =Z35+AA35*365+AB35/24+AC35/(24*60)+AD35/(24*3600) -> 0.92916667 | AB35: 22.3
A36: 43Sc | B36: Sc43 | C36: Sc43 | D36: Sc | E36: 43 | H36: 1 | I36: 1000000 | J36: 1000000 | L36: NA | N36: NA | O36: 50 | P36: 5 | Q36: 4 | S36: 10 | T36: / | U36: / | Y36: =Z36+AA36*365+AB36/24+AC36/(24*60)+AD36/(24*3600) -> 0.162125 | AB36: 3.891
A37: 44K | B37: K44 | C37: K44 | D37: K | E37: 44 | H37: 0.1 | I37: 100000 | J37: 100000 | L37: NA | N37: NA | O37: 50 | P37: 5 | Q37: 4 | S37: 10 | T37: / | U37: / | Y37: =Z37+AA37*365+AB37/24+AC37/(24*60)+AD37/(24*3600) -> 0.015368056 | AC37: 22.13
A38: 44Sc m | B38: Sc44 m | C38: Sc44 m | D38: Sc | E38: 44 | F38: m | H38: 10 | I38: 10000000 | J38: 10000000 | L38: NA | N38: NA | O38: 5 | P38: 0.5 | Q38: 3 | S38: 100 | T38: / | U38: / | Y38: =Z38+AA38*365+AB38/24+AC38/(24*60)+AD38/(24*3600) -> 2.4420833 | AB38: 58.61
A39: 44Sc | B39: Sc44 | C39: Sc44 | D39: Sc | E39: 44 | H39: 0.1 | I39: 100000 | J39: 100000 | K39: 5000 | L39: 5000000000 | M39: 30000 | N39: 30000000000 | O39: 5 | P39: 0.5 | Q39: 3 | S39: 10 | T39: / | U39: / | Y39: =Z39+AA39*365+AB39/24+AC39/(24*60)+AD39/(24*3600) -> 0.16541667 | AB39: 3.97
A40: 44Ti | B40: Ti44 | C40: Ti44 | D40: Ti | E40: 44 | H40: 0.1 | I40: 100000 | J40: 100000 | K40: 5000 | L40: 5000000000 | M40: 30000 | N40: 30000000000 | O40: 5 | P40: 0.05 | Q40: 2 | R40: + | S40: 10 | T40: / | U40: / | W40: (a) | Y40: =Z40+AA40*365+AB40/24+AC40/(24*60)+AD40/(24*3600) -> 21571.5 | AA40: 59.1
A41: 45Ca | B41: Ca45 | C41: Ca45 | D41: Ca | E41: 45 | H41: 10 | I41: 10000000 | J41: 10000000 | K41: 400000 | L41: 400000000000 | M41: 100000000 | N41: 100000000000000 | O41: 5 | P41: 0.5 | Q41: 3 | S41: 10000 | T41: 100 | U41: 10000 | Y41: =Z41+AA41*365+AB41/24+AC41/(24*60)+AD41/(24*3600) -> 163 | Z41: 163
A42: 45K | B42: K45 | C42: K45 | D42: K | E42: 45 | H42: 0.1 | I42: 100000 | J42: 100000 | L42: NA | N42: NA | O42: 50 | P42: 5 | Q42: 4 | S42: 10 | T42: / | U42: / | Y42: =Z42+AA42*365+AB42/24+AC42/(24*60)+AD42/(24*3600) -> 0.012368056 | AC42: 17.81
A43: 45Ti | B43: Ti45 | C43: Ti45 | D43: Ti | E43: 45 | H43: 1 | I43: 1000000 | J43: 1000000 | L43: NA | N43: NA | O43: 50 | P43: 5 | Q43: 4 | S43: 10 | T43: / | U43: / | Y43: =Z43+AA43*365+AB43/24+AC43/(24*60)+AD43/(24*3600) -> 0.12833333 | AC43: 184.8
A44: 46Sc | B44: Sc46 | C44: Sc46 | D44: Sc | E44: 46 | H44: 1 | I44: 1000000 | J44: 1000000 | K44: 5000 | L44: 5000000000 | M44: 30000 | N44: 30000000000 | O44: 5 | P44: 0.5 | Q44: 3 | S44: 10 | T44: 0.1 | U44: 10 | Y44: =Z44+AA44*365+AB44/24+AC44/(24*60)+AD44/(24*3600) -> 83.788 | Z44: 83.788
A45: 47Ca | B45: Ca47 | C45: Ca47 | D45: Ca | E45: 47 | H45: 1 | I45: 1000000 | J45: 1000000 | K45: 30000 | L45: 30000000000 | M45: 60000 | N45: 60000000000 | O45: 5 | P45: 0.5 | Q45: 3 | S45: 10 | T45: 10 | U45: 10 | W45: (a) | Y45: =Z45+AA45*365+AB45/24+AC45/(24*60)+AD45/(24*3600) -> 4.536 | Z45: 4.536
A46: 47Sc | B46: Sc47 | C46: Sc47 | D46: Sc | E46: 47 | H46: 1 | I46: 1000000 | J46: 1000000 | K46: 100000 | L46: 100000000000 | M46: 700000 | N46: 700000000000 | O46: 5 | P46: 0.5 | Q46: 3 | S46: 100 | T46: 100 | U46: 100 | Y46: =Z46+AA46*365+AB46/24+AC46/(24*60)+AD46/(24*3600) -> 3.3492 | Z46: 3.3492
A47: 47V | B47: V47 | C47: V47 | D47: V | E47: 47 | H47: 0.1 | I47: 100000 | J47: 100000 | L47: NA | N47: NA | O47: 50 | P47: 5 | Q47: 4 | S47: 10 | T47: / | U47: / | Y47: =Z47+AA47*365+AB47/24+AC47/(24*60)+AD47/(24*3600) -> 0.022638889 | AC47: 32.6
A48: 48Cr | B48: Cr48 | C48: Cr48 | D48: Cr | E48: 48 | H48: 1 | I48: 1000000 | J48: 1000000 | L48: NA | N48: NA | O48: 5 | P48: 0.5 | Q48: 3 | S48: 100 | T48: / | U48: / | Y48: =Z48+AA48*365+AB48/24+AC48/(24*60)+AD48/(24*3600) -> 0.89833333 | AB48: 21.56
A49: 48Sc | B49: Sc48 | C49: Sc48 | D49: Sc | E49: 48 | H49: 0.1 | I49: 100000 | J49: 100000 | K49: 3000 | L49: 3000000000 | M49: 20000 | N49: 20000000000 | O49: 5 | P49: 0.5 | Q49: 3 | S49: 10 | T49: 1 | U49: 10 | Y49: =Z49+AA49*365+AB49/24+AC49/(24*60)+AD49/(24*3600) -> 1.8195833 | AB49: 43.67
A50: 48V | B50: V48 | C50: V48 | D50: V | E50: 48 | H50: 0.1 | I50: 100000 | J50: 100000 | K50: 4000 | L50: 4000000000 | M50: 20000 | N50: 20000000000 | O50: 5 | P50: 0.5 | Q50: 3 | S50: 10 | T50: 1 | U50: 10 | Y50: =Z50+AA50*365+AB50/24+AC50/(24*60)+AD50/(24*3600) -> 15.9735 | Z50: 15.9735
A51: 49Cr | B51: Cr49 | C51: Cr49 | D51: Cr | E51: 49 | H51: 1 | I51: 1000000 | J51: 1000000 | L51: NA | N51: NA | O51: 50 | P51: 5 | Q51: 4 | S51: 10 | T51: / | U51: / | Y51: =Z51+AA51*365+AB51/24+AC51/(24*60)+AD51/(24*3600) -> 0.029375 | AC51: 42.3
A52: 49Sc | B52: Sc49 | C52: Sc49 | D52: Sc | E52: 49 | H52: 0.1 | I52: 100000 | J52: 100000 | L52: NA | N52: NA | O52: 50 | P52: 5 | Q52: 4 | S52: 1000 | T52: / | U52: / | Y52: =Z52+AA52*365+AB52/24+AC52/(24*60)+AD52/(24*3600) -> 0.039708333 | AC52: 57.18
A53: 49V | B53: V49 | C53: V49 | D53: V | E53: 49 | H53: 10 | I53: 10000000 | J53: 10000000 | K53: 400000 | L53: 400000000000 | M53: 2000000000 | N53: 2e+15 | O53: 50 | P53: 5 | Q53: 4 | S53: 10000 | T53: / | U53: / | Y53: =Z53+AA53*365+AB53/24+AC53/(24*60)+AD53/(24*3600) -> 330 | Z53: 330
A54: 51Cr | B54: Cr51 | C54: Cr51 | D54: Cr | E54: 51 | H54: 10 | I54: 10000000 | J54: 10000000 | K54: 300000 | L54: 300000000000 | M54: 2000000 | N54: 2000000000000 | O54: 50 | P54: 5 | Q54: 4 | S54: 1000 | T54: 100 | U54: 1000 | Y54: =Z54+AA54*365+AB54/24+AC54/(24*60)+AD54/(24*3600) -> 27.704 | Z54: 27.704
A55: 51Mn | B55: Mn51 | C55: Mn51 | D55: Mn | E55: 51 | H55: 0.1 | I55: 100000 | J55: 100000 | L55: NA | N55: NA | O55: 50 | P55: 5 | Q55: 4 | S55: 10 | T55: 10 | U55: 10 | Y55: =Z55+AA55*365+AB55/24+AC55/(24*60)+AD55/(24*3600) -> 0.032083333 | AC55: 46.2
A56: 52Fe | B56: Fe52 | C56: Fe52 | D56: Fe | E56: 52 | H56: 1 | I56: 1000000 | J56: 1000000 | K56: 3000 | L56: 3000000000 | M56: 20000 | N56: 20000000000 | O56: 5 | P56: 0.5 | Q56: 3 | S56: 10 | T56: 10 | U56: 10 | W56: (a) | Y56: =Z56+AA56*365+AB56/24+AC56/(24*60)+AD56/(24*3600) -> 0.34479167 | AB56: 8.275
A57: 52Mn m | B57: Mn52 m | C57: Mn52 m | D57: Mn | E57: 52 | F57: m | H57: 0.1 | I57: 100000 | J57: 100000 | L57: NA | N57: NA | O57: 50 | P57: 5 | Q57: 4 | S57: 10 | T57: 10 | U57: 10 | Y57: =Z57+AA57*365+AB57/24+AC57/(24*60)+AD57/(24*3600) -> 0.014652778 | AC57: 21.1
A58: 52Mn | B58: Mn52 | C58: Mn52 | D58: Mn | E58: 52 | H58: 0.1 | I58: 100000 | J58: 100000 | K58: 3000 | L58: 3000000000 | M58: 20000 | N58: 20000000000 | O58: 5 | P58: 0.5 | Q58: 3 | S58: 10 | T58: 1 | U58: 10 | Y58: =Z58+AA58*365+AB58/24+AC58/(24*60)+AD58/(24*3600) -> 5.591 | Z58: 5.591
A59: 53Mn | B59: Mn53 | C59: Mn53 | D59: Mn | E59: 53 | H59: 1000 | I59: 1000000000 | J59: 1000000000 | L59: Illimité | M59: Illimité | N59: NA | O59: 50 | P59: 5 | Q59: 4 | S59: 10000 | T59: 100 | U59: 10000 | X59: e | Y59: =Z59+AA59*365+AB59/24+AC59/(24*60)+AD59/(24*3600) -> 1365100000 | AA59: 3740000
A60: 54Mn | B60: Mn54 | C60: Mn54 | D60: Mn | E60: 54 | H60: 1 | I60: 1000000 | J60: 1000000 | K60: 10000 | L60: 10000000000 | M60: 80000 | N60: 80000000000 | O60: 5 | P60: 0.5 | Q60: 3 | S60: 10 | T60: 0.1 | U60: 10 | Y60: =Z60+AA60*365+AB60/24+AC60/(24*60)+AD60/(24*3600) -> 312.2 | Z60: 312.2
A61: 55Co | B61: Co55 | C61: Co55 | D61: Co | E61: 55 | H61: 1 | I61: 1000000 | J61: 1000000 | K61: 5000 | L61: 5000000000 | M61: 30000 | N61: 30000000000 | O61: 5 | P61: 0.5 | Q61: 3 | S61: 10 | T61: 10 | U61: 10 | Y61: =Z61+AA61*365+AB61/24+AC61/(24*60)+AD61/(24*3600) -> 0.73041667 | AB61: 17.53
A62: 55Fe | B62: Fe55 | C62: Fe55 | D62: Fe | E62: 55 | H62: 1 | I62: 1000000 | J62: 1000000 | K62: 400000 | L62: 400000000000 | M62: 800000000 | N62: 800000000000000 | O62: 5 | P62: 0.5 | Q62: 3 | S62: 10000 | T62: 1000 | U62: 10000 | Y62: =Z62+AA62*365+AB62/24+AC62/(24*60)+AD62/(24*3600) -> 1001.56 | AA62: 2.744
A63: 56Co | B63: Co56 | C63: Co56 | D63: Co | E63: 56 | H63: 0.1 | I63: 100000 | J63: 100000 | K63: 3000 | L63: 3000000000 | M63: 20000 | N63: 20000000000 | O63: 5 | P63: 0.5 | Q63: 3 | S63: 10 | T63: 0.1 | U63: 10 | Y63: =Z63+AA63*365+AB63/24+AC63/(24*60)+AD63/(24*3600) -> 77.236 | Z63: 77.236
A64: 56Mn | B64: Mn56 | C64: Mn56 | D64: Mn | E64: 56 | H64: 0.1 | I64: 100000 | J64: 100000 | K64: 3000 | L64: 3000000000 | M64: 40000 | N64: 40000000000 | O64: 50 | P64: 5 | Q64: 4 | S64: 10 | T64: 10 | U64: 10 | Y64: =Z64+AA64*365+AB64/24+AC64/(24*60)+AD64/(24*3600) -> 0.10744917 | AB64: 2.57878
A65: 56Ni | B65: Ni56 | C65: Ni56 | D65: Ni | E65: 56 | H65: 1 | I65: 1000000 | J65: 1000000 | L65: NA | N65: NA | O65: 5 | P65: 0.5 | Q65: 3 | S65: 10 | T65: / | U65: / | Y65: =Z65+AA65*365+AB65/24+AC65/(24*60)+AD65/(24*3600) -> 6.075 | Z65: 6.075
A66: 57Co | B66: Co57 | C66: Co57 | D66: Co | E66: 57 | H66: 1 | I66: 1000000 | J66: 1000000 | K66: 100000 | L66: 100000000000 | M66: 700000 | N66: 700000000000 | O66: 5 | P66: 0.5 | Q66: 3 | S66: 100 | T66: 1 | U66: 100 | Y66: =Z66+AA66*365+AB66/24+AC66/(24*60)+AD66/(24*3600) -> 271.74 | Z66: 271.74
A67: 57Ni | B67: Ni57 | C67: Ni57 | D67: Ni | E67: 57 | H67: 1 | I67: 1000000 | J67: 1000000 | L67: NA | N67: NA | O67: 5 | P67: 0.5 | Q67: 3 | S67: 10 | T67: / | U67: / | Y67: =Z67+AA67*365+AB67/24+AC67/(24*60)+AD67/(24*3600) -> 1.4833333 | AB67: 35.6
A68: 58Co m | B68: Co58 m | C68: Co58 m | D68: Co | E68: 58 | F68: m | H68: 10 | I68: 10000000 | J68: 10000000 | K68: 400000 | L68: 400000000000 | M68: 70000 | N68: 70000000000 | O68: 50 | P68: 5 | Q68: 4 | S68: 10000 | T68: 10000 | U68: 10000 | Y68: =Z68+AA68*365+AB68/24+AC68/(24*60)+AD68/(24*3600) -> 0.37916667 | AB68: 9.1
A69: 58Co | B69: Co58 | C69: Co58 | D69: Co | E69: 58 | H69: 1 | I69: 1000000 | J69: 1000000 | K69: 10000 | L69: 10000000000 | M69: 70000 | N69: 70000000000 | O69: 5 | P69: 0.5 | Q69: 3 | S69: 10 | T69: 1 | U69: 10 | Y69: =Z69+AA69*365+AB69/24+AC69/(24*60)+AD69/(24*3600) -> 70.86 | Z69: 70.86
A70: 59Fe | B70: Fe59 | C70: Fe59 | D70: Fe | E70: 59 | H70: 1 | I70: 1000000 | J70: 1000000 | K70: 9000 | L70: 9000000000 | M70: 60000 | N70: 60000000000 | O70: 5 | P70: 0.5 | Q70: 3 | S70: 10 | T70: 1 | U70: 10 | Y70: =Z70+AA70*365+AB70/24+AC70/(24*60)+AD70/(24*3600) -> 44.495 | Z70: 44.495
A71: 59Ni | B71: Ni59 | C71: Ni59 | D71: Ni | E71: 59 | H71: 100 | I71: 100000000 | J71: 100000000 | L71: Illimité | M71: 1000000000 | N71: 1e+15 | O71: 50 | P71: 5 | Q71: 4 | S71: 10000 | T71: 100 | U71: 10000 | X71: d | Y71: =Z71+AA71*365+AB71/24+AC71/(24*60)+AD71/(24*3600) -> 27740000 | AA71: 76000
A72: 60Co m | B72: Co60 m | C72: Co60 m | D72: Co | E72: 60 | F72: m | H72: 1 | I72: 1000000 | J72: 1000000 | L72: NA | N72: NA | O72: 50 | P72: 5 | Q72: 4 | S72: 1000 | T72: 1000 | U72: 1000 | Y72: =Z72+AA72*365+AB72/24+AC72/(24*60)+AD72/(24*3600) -> 0.00726875 | AC72: 10.467
A73: 60Co | B73: Co60 | C73: Co60 | D73: Co | E73: 60 | H73: 0.1 | I73: 100000 | J73: 100000 | K73: 4000 | L73: 4000000000 | M73: 30000 | N73: 30000000000 | O73: 5 | P73: 0.05 | Q73: 2 | S73: 10 | T73: 0.1 | U73: 10 | Y73: =Z73+AA73*365+AB73/24+AC73/(24*60)+AD73/(24*3600) -> 1923.915 | AA73: 5.271
A74: 60Cu | B74: Cu60 | C74: Cu60 | D74: Cu | E74: 60 | H74: 0.1 | I74: 100000 | J74: 100000 | L74: NA | N74: NA | O74: 50 | P74: 5 | Q74: 4 | S74: 10 | T74: / | U74: / | Y74: =Z74+AA74*365+AB74/24+AC74/(24*60)+AD74/(24*3600) -> 0.016458333 | AC74: 23.7
A75: 60Fe | B75: Fe60 | C75: Fe60 | D75: Fe | E75: 60 | H75: 0.1 | I75: 100000 | J75: 100000 | K75: 400000 | L75: 400000000000 | M75: 60000 | N75: 60000000000 | O75: 5 | P75: 0.05 | Q75: 2 | R75: + | S75: 100 | T75: / | U75: / | W75: (a) | Y75: =Z75+AA75*365+AB75/24+AC75/(24*60)+AD75/(24*3600) -> 956300000 | AA75: 2620000
A76: 61Co | B76: Co61 | C76: Co61 | D76: Co | E76: 61 | H76: 1 | I76: 1000000 | J76: 1000000 | L76: NA | N76: NA | O76: 50 | P76: 5 | Q76: 4 | S76: 100 | T76: 100 | U76: 100 | Y76: =Z76+AA76*365+AB76/24+AC76/(24*60)+AD76/(24*3600) -> 0.068708333 | AB76: 1.649
A77: 61Cu | B77: Cu61 | C77: Cu61 | D77: Cu | E77: 61 | H77: 1 | I77: 1000000 | J77: 1000000 | L77: NA | N77: NA | O77: 50 | P77: 5 | Q77: 4 | S77: 10 | T77: / | U77: / | Y77: =Z77+AA77*365+AB77/24+AC77/(24*60)+AD77/(24*3600) -> 0.139125 | AB77: 3.339
A78: 62Co m | B78: Co62 m | C78: Co62 m | D78: Co | E78: 62 | F78: m | H78: 0.1 | I78: 100000 | J78: 100000 | L78: NA | N78: NA | O78: 50 | P78: 5 | Q78: 4 | S78: 10 | T78: 10 | U78: 10 | Y78: =Z78+AA78*365+AB78/24+AC78/(24*60)+AD78/(24*3600) -> 0.009625 | AC78: 13.86
A79: 62Zn | B79: Zn62 | C79: Zn62 | D79: Zn | E79: 62 | H79: 1 | I79: 1000000 | J79: 1000000 | L79: NA | N79: NA | O79: 5 | P79: 0.5 | Q79: 3 | S79: 100 | T79: / | U79: / | Y79: =Z79+AA79*365+AB79/24+AC79/(24*60)+AD79/(24*3600) -> 0.38304167 | AB79: 9.193
A80: 63Ni | B80: Ni63 | C80: Ni63 | D80: Ni | E80: 63 | H80: 100 | I80: 100000000 | J80: 100000000 | K80: 400000 | L80: 400000000000 | M80: 60000000 | N80: 60000000000000 | O80: 5 | P80: 0.5 | Q80: 3 | S80: 100000 | T80: 100 | U80: 100000 | Y80: =Z80+AA80*365+AB80/24+AC80/(24*60)+AD80/(24*3600) -> 36938 | AA80: 101.2
A81: 63Zn | B81: Zn63 | C81: Zn63 | D81: Zn | E81: 63 | H81: 0.1 | I81: 100000 | J81: 100000 | L81: NA | N81: NA | O81: 50 | P81: 5 | Q81: 4 | S81: 10 | T81: / | U81: / | Y81: =Z81+AA81*365+AB81/24+AC81/(24*60)+AD81/(24*3600) -> 0.026715278 | AC81: 38.47
A82: 64Cu | B82: Cu64 | C82: Cu64 | D82: Cu | E82: 64 | H82: 1 | I82: 1000000 | J82: 1000000 | K82: 60000 | L82: 60000000000 | M82: 300000 | N82: 300000000000 | O82: 50 | P82: 5 | Q82: 4 | S82: 100 | T82: 100 | U82: 100 | Y82: =Z82+AA82*365+AB82/24+AC82/(24*60)+AD82/(24*3600) -> 0.52920833 | AB82: 12.701
A83: 65Ga | B83: Ga65 | C83: Ga65 | D83: Ga | E83: 65 | H83: 0.1 | I83: 100000 | J83: 100000 | L83: NA | N83: NA | O83: 50 | P83: 5 | Q83: 4 | S83: 10 | T83: / | U83: / | Y83: =Z83+AA83*365+AB83/24+AC83/(24*60)+AD83/(24*3600) -> 0.010555556 | AC83: 15.2
A84: 65Ni | B84: Ni65 | C84: Ni65 | D84: Ni | E84: 65 | H84: 1 | I84: 1000000 | J84: 1000000 | K84: 4000 | L84: 4000000000 | M84: 100000 | N84: 100000000000 | O84: 50 | P84: 5 | Q84: 4 | S84: 10 | T84: 10 | U84: 10 | Y84: =Z84+AA84*365+AB84/24+AC84/(24*60)+AD84/(24*3600) -> 0.10488333 | AB84: 2.5172
A85: 65Zn | B85: Zn65 | C85: Zn65 | D85: Zn | E85: 65 | H85: 1 | I85: 1000000 | J85: 1000000 | K85: 20000 | L85: 20000000000 | M85: 100000 | N85: 100000000000 | O85: 5 | P85: 0.5 | Q85: 3 | S85: 10 | T85: 0.1 | U85: 10 | Y85: =Z85+AA85*365+AB85/24+AC85/(24*60)+AD85/(24*3600) -> 243.93 | Z85: 243.93
A86: 66Ga | B86: Ga66 | C86: Ga66 | D86: Ga | E86: 66 | H86: 0.1 | I86: 100000 | J86: 100000 | L86: NA | N86: NA | O86: 5 | P86: 0.5 | Q86: 3 | S86: 10 | T86: / | U86: / | Y86: =Z86+AA86*365+AB86/24+AC86/(24*60)+AD86/(24*3600) -> 0.39541667 | AB86: 9.49
A87: 66Ge | B87: Ge66 | C87: Ge66 | D87: Ge | E87: 66 | H87: 1 | I87: 1000000 | J87: 1000000 | L87: NA | N87: NA | O87: 50 | P87: 5 | Q87: 4 | S87: 10 | T87: / | U87: / | Y87: =Z87+AA87*365+AB87/24+AC87/(24*60)+AD87/(24*3600) -> 0.094166667 | AB87: 2.26
A88: 66Ni | B88: Ni66 | C88: Ni66 | D88: Ni | E88: 66 | H88: 10 | I88: 10000000 | J88: 10000000 | L88: NA | N88: NA | O88: 5 | P88: 0.5 | Q88: 3 | S88: 10000 | T88: / | U88: / | Y88: =Z88+AA88*365+AB88/24+AC88/(24*60)+AD88/(24*3600) -> 2.275 | AB88: 54.6
A89: 67Cu | B89: Cu67 | C89: Cu67 | D89: Cu | E89: 67 | H89: 1 | I89: 1000000 | J89: 1000000 | K89: 100000 | L89: 100000000000 | M89: 700000 | N89: 700000000000 | O89: 5 | P89: 0.5 | Q89: 3 | S89: 100 | T89: / | U89: / | Y89: =Z89+AA89*365+AB89/24+AC89/(24*60)+AD89/(24*3600) -> 2.66 | Z89: 2.66
A90: 67Ga | B90: Ga67 | C90: Ga67 | D90: Ga | E90: 67 | H90: 1 | I90: 1000000 | J90: 1000000 | K90: 70000 | L90: 70000000000 | M90: 500000 | N90: 500000000000 | O90: 5 | P90: 0.5 | Q90: 3 | S90: 100 | T90: / | U90: / | Y90: =Z90+AA90*365+AB90/24+AC90/(24*60)+AD90/(24*3600) -> 3.2617 | Z90: 3.2617
A91: 67Ge | B91: Ge67 | C91: Ge67 | D91: Ge | E91: 67 | H91: 0.1 | I91: 100000 | J91: 100000 | L91: NA | N91: NA | O91: 50 | P91: 5 | Q91: 4 | S91: 10 | T91: / | U91: / | Y91: =Z91+AA91*365+AB91/24+AC91/(24*60)+AD91/(24*3600) -> 0.013125 | AC91: 18.9
A92: 68Ga | B92: Ga68 | C92: Ga68 | D92: Ga | E92: 68 | H92: 0.1 | I92: 100000 | J92: 100000 | K92: 5000 | L92: 5000000000 | M92: 70000 | N92: 70000000000 | O92: 50 | P92: 5 | Q92: 4 | S92: 10 | T92: / | U92: / | Y92: =Z92+AA92*365+AB92/24+AC92/(24*60)+AD92/(24*3600) -> 0.047020833 | AC92: 67.71
A93: 68Ge | B93: Ge68 | C93: Ge68 | D93: Ge | E93: 68 | H93: 0.1 | I93: 100000 | J93: 100000 | K93: 5000 | L93: 5000000000 | M93: 70000 | N93: 70000000000 | O93: 5 | P93: 0.05 | Q93: 2 | R93: + | S93: 10 | T93: / | U93: / | W93: (a) | Y93: =Z93+AA93*365+AB93/24+AC93/(24*60)+AD93/(24*3600) -> 270.93 | Z93: 270.93
A94: 69As | B94: As69 | C94: As69 | D94: As | E94: 69 | H94: 0.1 | I94: 100000 | J94: 100000 | L94: NA | N94: NA | O94: 50 | P94: 5 | Q94: 4 | S94: 10 | T94: / | U94: / | Y94: =Z94+AA94*365+AB94/24+AC94/(24*60)+AD94/(24*3600) -> 0.010555556 | AC94: 15.2
A95: 69Ge | B95: Ge69 | C95: Ge69 | D95: Ge | E95: 69 | H95: 1 | I95: 1000000 | J95: 1000000 | L95: NA | N95: NA | O95: 5 | P95: 0.5 | Q95: 3 | S95: 10 | T95: / | U95: / | Y95: =Z95+AA95*365+AB95/24+AC95/(24*60)+AD95/(24*3600) -> 1.6270833 | AB95: 39.05
A96: 69Zn m | B96: Zn69 m | C96: Zn69 m | D96: Zn | E96: 69 | F96: m | H96: 1 | I96: 1000000 | J96: 1000000 | K96: 30000 | L96: 30000000000 | M96: 200000 | N96: 200000000000 | O96: 5 | P96: 0.5 | Q96: 3 | S96: 100 | T96: 10 | U96: 100 | W96: (a) | Y96: =Z96+AA96*365+AB96/24+AC96/(24*60)+AD96/(24*3600) -> 0.57316667 | AB96: 13.756
A97: 69Zn | B97: Zn69 | C97: Zn69 | D97: Zn | E97: 69 | H97: 1 | I97: 1000000 | J97: 1000000 | K97: 30000 | L97: 30000000000 | M97: 30000000 | N97: 30000000000000 | O97: 50 | P97: 5 | Q97: 4 | S97: 10000 | T97: 1000 | U97: 10000 | Y97: =Z97+AA97*365+AB97/24+AC97/(24*60)+AD97/(24*3600) -> 0.039166667 | AC97: 56.4
A98: 70As | B98: As70 | C98: As70 | D98: As | E98: 70 | H98: 0.1 | I98: 100000 | J98: 100000 | L98: NA | N98: NA | O98: 50 | P98: 5 | Q98: 4 | S98: 10 | T98: / | U98: / | Y98: =Z98+AA98*365+AB98/24+AC98/(24*60)+AD98/(24*3600) -> 0.036527778 | AC98: 52.6
A99: 70Ga | B99: Ga70 | C99: Ga70 | D99: Ga | E99: 70 | H99: 1 | I99: 1000000 | J99: 1000000 | L99: NA | N99: NA | O99: 50 | P99: 5 | Q99: 4 | S99: 1000 | T99: / | U99: / | Y99: =Z99+AA99*365+AB99/24+AC99/(24*60)+AD99/(24*3600) -> 0.014680556 | AC99: 21.14
A100: 70Se | B100: Se70 | C100: Se70 | D100: Se | E100: 70 | H100: 1 | I100: 1000000 | J100: 1000000 | L100: NA | N100: NA | O100: 50 | P100: 5 | Q100: 4 | S100: 10 | T100: / | U100: / | Y100: =Z100+AA100*365+AB100/24+AC100/(24*60)+AD100/(24*3600) -> 0.028541667 | AC100: 41.1
...

Sheet CSP avec formules
A1: Radionicléide | B1: RN pour SIGIS | C1: RN pour SIGIS | D1: RN | E1: N Atom | F1: Etension 1 | G1: Extension 2 | H1: Exemption (MBq) (old) | I1: Exemption (Bq) (old) | J1: Exemption (Bq) (new) | K1: SSHA (MBq) (old) | L1: SSHA (Bq) (old) | M1: D value (MBq) | N1: SSHA (Bq) (new) | O1: Seuil CPE Etalonnage (MBq) | P1: Ancien seuil CSP (< 2002) MBq | Q1: Groupe Radiotoxicité | R1: Commentaire (Exemption) | S1: Exemption (kBq/Kg) (old) | T1: Exemption (kBq/Kg) (new) | U1: Déclaration (kBq/Kg) (new) | V1: Commentaire CPE | W1: Commentaire SSHA | X1: Commentaire D value | Y1: Période (Jours)
A2: =TRIM($E2&$D2&" " &$F2&" " &$G2) -> 3H | B2: =TRIM($D2&$E2&" " &$F2&" " &$G2) -> H3 | C2: H3 | D2: H | E2: 3 | H2: 1000 | I2: =VLOOKUP(A2,'Anciens seuils'!$B$2:$D$786,2,FALSE) -> 1000000000 | J2: =VLOOKUP(A2,'Nouveaux seuils'!$B$7:$C$796,2,FALSE) -> 1000000000 | K2: 400000 | L2: =VLOOKUP(A2,'Anciens seuils'!$B$2:$D$786,3,FALSE) -> 400000000000 | M2: 2000000000 | N2: =VLOOKUP(A2,'Nouveaux seuils'!$B$7:$F$796,5,FALSE) -> 2e+15 | O2: 50 | P2: 5 | Q2: 4 | S2: 1000000 | T2: =VLOOKUP(A2,'Nouveaux seuils'!$B$7:$E$796,3,FALSE) -> 100 | U2: =VLOOKUP(A2,'Nouveaux seuils'!$B$7:$E$796,4,FALSE) -> 1000000
A3: =TRIM(E3&D3&" " &F3&" " &G3) -> 7Be | B3: =TRIM($D3&$E3&" " &$F3&" " &$G3) -> Be7 | C3: Be7 | D3: Be | E3: 7 | H3: 10 | I3: =VLOOKUP(A3,'Anciens seuils'!$B$2:$D$786,2,FALSE) -> 10000000 | J3: =VLOOKUP(A3,'Nouveaux seuils'!$B$7:$C$796,2,FALSE) -> 10000000 | K3: 200000 | L3: =VLOOKUP(A3,'Anciens seuils'!$B$2:$D$786,3,FALSE) -> 200000000000 | M3: 1000000 | N3: =VLOOKUP(A3,'Nouveaux seuils'!$B$7:$F$796,5,FALSE) -> 1000000000000 | O3: 50 | P3: 5 | Q3: 4 | S3: 1000 | T3: =VLOOKUP(A3,'Nouveaux seuils'!$B$7:$E$796,3,FALSE) -> 10 | U3: =VLOOKUP(A3,'Nouveaux seuils'!$B$7:$E$796,4,FALSE) -> 1000
A4: =TRIM(E4&D4&" " &F4&" " &G4) -> 10Be | B4: =TRIM($D4&$E4&" " &$F4&" " &$G4) -> Be10 | C4: Be10 | D4: Be | E4: 10 | H4: 1 | I4: =VLOOKUP(A4,'Anciens seuils'!$B$2:$D$786,2,FALSE) -> 1000000 | J4: =VLOOKUP(A4,'Nouveaux seuils'!$B$7:$C$796,2,FALSE) -> 1000000 | K4: 400000 | L4: =VLOOKUP(A4,'Anciens seuils'!$B$2:$D$786,3,FALSE) -> 400000000000 | M4: 30000000 | N4: =VLOOKUP(A4,'Nouveaux seuils'!$B$7:$F$796,5,FALSE) -> 30000000000000 | O4: 5 | P4: 0.05 | Q4: 2 | S4: 10000 | T4: =VLOOKUP(A4,'Nouveaux seuils'!$B$7:$E$796,3,FALSE) -> / | U4: =VLOOKUP(A4,'Nouveaux seuils'!$B$7:$E$796,4,FALSE) -> /
A5: =TRIM(E5&D5&" " &F5&" " &G5) -> 11C dioxyde | B5: =TRIM($D5&$E5&" " &$F5&" " &$G5) -> C11 dioxyde | C5: C11 dioxyde | D5: C | E5: 11 | F5: dioxyde | H5: 1000 | I5: =VLOOKUP(A5,'Anciens seuils'!$B$2:$D$786,2,FALSE) -> 1000000000 | J5: =VLOOKUP(A5,'Nouveaux seuils'!$B$7:$C$796,2,FALSE) -> 1000000000 | K5: 400000 | L5: 400000000000 | M5: 60000000000 | N5: =VLOOKUP(A5,'Nouveaux seuils'!$B$7:$F$796,5,FALSE) -> 60000000000 | O5: 50 | P5: 5 | Q5: 4 | S5: 10 | T5: =VLOOKUP(A5,'Nouveaux seuils'!$B$7:$E$796,3,FALSE) -> / | U5: =VLOOKUP(A5,'Nouveaux seuils'!$B$7:$E$796,4,FALSE) -> / | V5: La CPE ne fait pas de # sur la forme physico-chimique
A6: =TRIM(E6&D6&" " &F6&" " &G6) -> 11C monoxyde | B6: =TRIM($D6&$E6&" " &$F6&" " &$G6) -> C11 monoxyde | C6: C11 monoxyde | D6: C | E6: 11 | F6: monoxyde | H6: 1000 | I6: =VLOOKUP(A6,'Anciens seuils'!$B$2:$D$786,2,FALSE) -> 1000000000 | J6: =VLOOKUP(A6,'Nouveaux seuils'!$B$7:$C$796,2,FALSE) -> 1000000000 | K6: 400000 | L6: 400000000000 | M6: 60000000000 | N6: =VLOOKUP(A6,'Nouveaux seuils'!$B$7:$F$796,5,FALSE) -> 60000000000 | O6: 50 | P6: 5 | Q6: 4 | S6: 10 | T6: =VLOOKUP(A6,'Nouveaux seuils'!$B$7:$E$796,3,FALSE) -> / | U6: =VLOOKUP(A6,'Nouveaux seuils'!$B$7:$E$796,4,FALSE) -> / | V6: La CPE ne fait pas de # sur la forme physico-chimique
A7: =TRIM(E7&D7&" " &F7&" " &G7) -> 11C | B7: =TRIM($D7&$E7&" " &$F7&" " &$G7) -> C11 | C7: C11 | D7: C | E7: 11 | H7: 1 | I7: =VLOOKUP(A7,'Anciens seuils'!$B$2:$D$786,2,FALSE) -> 1000000 | J7: =VLOOKUP(A7,'Nouveaux seuils'!$B$7:$C$796,2,FALSE) -> 1000000 | K7: 10000 | L7: =VLOOKUP(A7,'Anciens seuils'!$B$2:$D$786,3,FALSE) -> 10000000000 | M7: 60000 | N7: =VLOOKUP(A7,'Nouveaux seuils'!$B$7:$F$796,5,FALSE) -> 60000000000 | O7: 50 | P7: 5 | Q7: 4 | S7: 10 | T7: =VLOOKUP(A7,'Nouveaux seuils'!$B$7:$E$796,3,FALSE) -> / | U7: =VLOOKUP(A7,'Nouveaux seuils'!$B$7:$E$796,4,FALSE) -> /
A8: =TRIM(E8&D8&" " &F8&" " &G8) -> 13N | B8: =TRIM($D8&$E8&" " &$F8&" " &$G8) -> N13 | C8: N13 | D8: N | E8: 13 | H8: 1000 | I8: =VLOOKUP(A8,'Anciens seuils'!$B$2:$D$786,2,FALSE) -> 1000000000 | J8: =VLOOKUP(A8,'Nouveaux seuils'!$B$7:$C$796,2,FALSE) -> 1000000000 | K8: 9000 | L8: =VLOOKUP(A8,'Anciens seuils'!$B$2:$D$786,3,FALSE) -> 9000000000 | M8: 60000 | N8: =VLOOKUP(A8,'Nouveaux seuils'!$B$7:$F$796,5,FALSE) -> 60000000000 | S8: 100 | T8: =VLOOKUP(A8,'Nouveaux seuils'!$B$7:$E$796,3,FALSE) -> / | U8: =VLOOKUP(A8,'Nouveaux seuils'!$B$7:$E$796,4,FALSE) -> /
A9: =TRIM(E9&D9&" " &F9&" " &G9) -> 14C dioxyde | B9: =TRIM($D9&$E9&" " &$F9&" " &$G9) -> C14 dioxyde | C9: C14 dioxyde | D9: C | E9: 14 | F9: dioxyde | H9: 1e-05 | I9: =VLOOKUP(A9,'Anciens seuils'!$B$2:$D$786,2,FALSE) -> 10 | J9: =VLOOKUP(A9,'Nouveaux seuils'!$B$7:$C$796,2,FALSE) -> 10 | K9: 400000 | L9: 400000000000 | M9: 50000000000000 | N9: =VLOOKUP(A9,'Nouveaux seuils'!$B$7:$F$796,5,FALSE) -> 50000000000000 | O9: 5 | P9: 0.5 | Q9: 3 | S9: 10000000 | T9: =VLOOKUP(A9,'Nouveaux seuils'!$B$7:$E$796,3,FALSE) -> / | U9: =VLOOKUP(A9,'Nouveaux seuils'!$B$7:$E$796,4,FALSE) -> / | V9: La CPE ne fait pas de # sur la forme physico-chimique
A10: =TRIM(E10&D10&" " &F10&" " &G10) -> 14C monoxyde | B10: =TRIM($D10&$E10&" " &$F10&" " &$G10) -> C14 monoxyde | C10: C14 monoxyde | D10: C | E10: 14 | F10: monoxyde | H10: 1e-05 | I10: =VLOOKUP(A10,'Anciens seuils'!$B$2:$D$786,2,FALSE) -> 10 | J10: =VLOOKUP(A10,'Nouveaux seuils'!$B$7:$C$796,2,FALSE) -> 10 | K10: 400000 | L10: 400000000000 | M10: 50000000000000 | N10: =VLOOKUP(A10,'Nouveaux seuils'!$B$7:$F$796,5,FALSE) -> 50000000000000 | O10: 5 | P10: 0.5 | Q10: 3 | S10: 100000000 | T10: =VLOOKUP(A10,'Nouveaux seuils'!$B$7:$E$796,3,FALSE) -> / | U10: =VLOOKUP(A10,'Nouveaux seuils'!$B$7:$E$796,4,FALSE) -> / | V10: La CPE ne fait pas de # sur la forme physico-chimique
A11: =TRIM(E11&D11&" " &F11&" " &G11) -> 14C | B11: =TRIM($D11&$E11&" " &$F11&" " &$G11) -> C14 | C11: C14 | D11: C | E11: 14 | H11: 10 | I11: =VLOOKUP(A11,'Anciens seuils'!$B$2:$D$786,2,FALSE) -> 10000000 | J11: =VLOOKUP(A11,'Nouveaux seuils'!$B$7:$C$796,2,FALSE) -> 10000000 | K11: 400000 | L11: =VLOOKUP(A11,'Anciens seuils'!$B$2:$D$786,3,FALSE) -> 400000000000 | M11: 50000000 | N11: =VLOOKUP(A11,'Nouveaux seuils'!$B$7:$F$796,5,FALSE) -> 50000000000000 | O11: 5 | P11: 0.5 | Q11: 3 | S11: 10000 | T11: =VLOOKUP(A11,'Nouveaux seuils'!$B$7:$E$796,3,FALSE) -> 1 | U11: =VLOOKUP(A11,'Nouveaux seuils'!$B$7:$E$796,4,FALSE) -> 10000
A12: =TRIM(E12&D12&" " &F12&" " &G12) -> 15O | B12: =TRIM($D12&$E12&" " &$F12&" " &$G12) -> O15 | C12: O15 | D12: O | E12: 15 | H12: 1000 | I12: =VLOOKUP(A12,'Anciens seuils'!$B$2:$D$786,2,FALSE) -> 1000000000 | J12: =VLOOKUP(A12,'Nouveaux seuils'!$B$7:$C$796,2,FALSE) -> 1000000000 | L12: =VLOOKUP(A12,'Anciens seuils'!$B$2:$D$786,3,FALSE) -> NA | N12: =VLOOKUP(A12,'Nouveaux seuils'!$B$7:$F$796,5,FALSE) -> NA | Q12: - | S12: 100 | T12: =VLOOKUP(A12,'Nouveaux seuils'!$B$7:$E$796,3,FALSE) -> / | U12: =VLOOKUP(A12,'Nouveaux seuils'!$B$7:$E$796,4,FALSE) -> 100
A13: =TRIM(E13&D13&" " &F13&" " &G13) -> 18F | B13: =TRIM($D13&$E13&" " &$F13&" " &$G13) -> F18 | C13: F18 | D13: F | E13: 18 | H13: 1 | I13: =VLOOKUP(A13,'Anciens seuils'!$B$2:$D$786,2,FALSE) -> 1000000 | J13: =VLOOKUP(A13,'Nouveaux seuils'!$B$7:$C$796,2,FALSE) -> 1000000 | K13: 10000 | L13: =VLOOKUP(A13,'Anciens seuils'!$B$2:$D$786,3,FALSE) -> 10000000000 | M13: 60000 | N13: =VLOOKUP(A13,'Nouveaux seuils'!$B$7:$F$796,5,FALSE) -> 60000000000 | O13: 50 | P13: 5 | Q13: 4 | S13: 10 | T13: =VLOOKUP(A13,'Nouveaux seuils'!$B$7:$E$796,3,FALSE) -> 10 | U13: =VLOOKUP(A13,'Nouveaux seuils'!$B$7:$E$796,4,FALSE) -> 10
A14: =TRIM(E14&D14&" " &F14&" " &G14) -> 19Ne | B14: =TRIM($D14&$E14&" " &$F14&" " &$G14) -> Ne19 | C14: Ne19 | D14: Ne | E14: 19 | H14: 1000 | I14: =VLOOKUP(A14,'Anciens seuils'!$B$2:$D$786,2,FALSE) -> 1000000000 | J14: =VLOOKUP(A14,'Nouveaux seuils'!$B$7:$C$796,2,FALSE) -> 1000000000 | L14: =VLOOKUP(A14,'Anciens seuils'!$B$2:$D$786,3,FALSE) -> NA | N14: =VLOOKUP(A14,'Nouveaux seuils'!$B$7:$F$796,5,FALSE) -> NA | Q14: - | S14: 100 | T14: =VLOOKUP(A14,'Nouveaux seuils'!$B$7:$E$796,3,FALSE) -> / | U14: =VLOOKUP(A14,'Nouveaux seuils'!$B$7:$E$796,4,FALSE) -> /
A15: =TRIM(E15&D15&" " &F15&" " &G15) -> 22Na | B15: =TRIM($D15&$E15&" " &$F15&" " &$G15) -> Na22 | C15: Na22 | D15: Na | E15: 22 | H15: 1 | I15: =VLOOKUP(A15,'Anciens seuils'!$B$2:$D$786,2,FALSE) -> 1000000 | J15: =VLOOKUP(A15,'Nouveaux seuils'!$B$7:$C$796,2,FALSE) -> 1000000 | K15: 5000 | L15: =VLOOKUP(A15,'Anciens seuils'!$B$2:$D$786,3,FALSE) -> 5000000000 | M15: 30000 | N15: =VLOOKUP(A15,'Nouveaux seuils'!$B$7:$F$796,5,FALSE) -> 30000000000 | O15: 5 | P15: 0.5 | Q15: 3 | S15: 10 | T15: =VLOOKUP(A15,'Nouveaux seuils'!$B$7:$E$796,3,FALSE) -> 0.1 | U15: =VLOOKUP(A15,'Nouveaux seuils'!$B$7:$E$796,4,FALSE) -> 10
A16: =TRIM(E16&D16&" " &F16&" " &G16) -> 24Na | B16: =TRIM($D16&$E16&" " &$F16&" " &$G16) -> Na24 | C16: Na24 | D16: Na | E16: 24 | H16: 0.1 | I16: =VLOOKUP(A16,'Anciens seuils'!$B$2:$D$786,2,FALSE) -> 100000 | J16: =VLOOKUP(A16,'Nouveaux seuils'!$B$7:$C$796,2,FALSE) -> 100000 | K16: 2000 | L16: =VLOOKUP(A16,'Anciens seuils'!$B$2:$D$786,3,FALSE) -> 2000000000 | M16: 20000 | N16: =VLOOKUP(A16,'Nouveaux seuils'!$B$7:$F$796,5,FALSE) -> 20000000000 | O16: 5 | P16: 0.5 | Q16: 3 | S16: 10 | T16: =VLOOKUP(A16,'Nouveaux seuils'!$B$7:$E$796,3,FALSE) -> 1 | U16: =VLOOKUP(A16,'Nouveaux seuils'!$B$7:$E$796,4,FALSE) -> 10
A17: =TRIM(E17&D17&" " &F17&" " &G17) -> 26Al | B17: =TRIM($D17&$E17&" " &$F17&" " &$G17) -> Al26 | C17: Al26 | D17: Al | E17: 26 | H17: 0.1 | I17: =VLOOKUP(A17,'Anciens seuils'!$B$2:$D$786,2,FALSE) -> 100000 | J17: =VLOOKUP(A17,'Nouveaux seuils'!$B$7:$C$796,2,FALSE) -> 100000 | K17: 1000 | L17: =VLOOKUP(A17,'Anciens seuils'!$B$2:$D$786,3,FALSE) -> 1000000000 | M17: 30000 | N17: =VLOOKUP(A17,'Nouveaux seuils'!$B$7:$F$796,5,FALSE) -> 30000000000 | O17: 5 | P17: 0.05 | Q17: 2 | S17: 10 | T17: =VLOOKUP(A17,'Nouveaux seuils'!$B$7:$E$796,3,FALSE) -> / | U17: =VLOOKUP(A17,'Nouveaux seuils'!$B$7:$E$796,4,FALSE) -> /
A18: =TRIM(E18&D18&" " &F18&" " &G18) -> 28Mg | B18: =TRIM($D18&$E18&" " &$F18&" " &$G18) -> Mg28 | C18: Mg28 | D18: Mg | E18: 28 | H18: 0.1 | I18: =VLOOKUP(A18,'Anciens seuils'!$B$2:$D$786,2,FALSE) -> 100000 | J18: =VLOOKUP(A18,'Nouveaux seuils'!$B$7:$C$796,2,FALSE) -> 100000 | K18: 3000 | L18: =VLOOKUP(A18,'Anciens seuils'!$B$2:$D$786,3,FALSE) -> 3000000000 | M18: 20000 | N18: =VLOOKUP(A18,'Nouveaux seuils'!$B$7:$F$796,5,FALSE) -> 20000000000 | O18: 5 | P18: 0.5 | Q18: 3 | R18: + | S18: 10 | T18: =VLOOKUP(A18,'Nouveaux seuils'!$B$7:$E$796,3,FALSE) -> / | U18: =VLOOKUP(A18,'Nouveaux seuils'!$B$7:$E$796,4,FALSE) -> / | W18: (a)
A19: =TRIM(E19&D19&" " &F19&" " &G19) -> 31Si | B19: =TRIM($D19&$E19&" " &$F19&" " &$G19) -> Si31 | C19: Si31 | D19: Si | E19: 31 | H19: 1 | I19: =VLOOKUP(A19,'Anciens seuils'!$B$2:$D$786,2,FALSE) -> 1000000 | J19: =VLOOKUP(A19,'Nouveaux seuils'!$B$7:$C$796,2,FALSE) -> 1000000 | K19: 6000 | L19: =VLOOKUP(A19,'Anciens seuils'!$B$2:$D$786,3,FALSE) -> 6000000000 | M19: 10000000000000 | N19: =VLOOKUP(A19,'Nouveaux seuils'!$B$7:$F$796,5,FALSE) -> 10000000000000 | O19: 50 | P19: 5 | Q19: 4 | S19: 1000 | T19: =VLOOKUP(A19,'Nouveaux seuils'!$B$7:$E$796,3,FALSE) -> 1000 | U19: =VLOOKUP(A19,'Nouveaux seuils'!$B$7:$E$796,4,FALSE) -> 1000
A20: =TRIM(E20&D20&" " &F20&" " &G20) -> 32P | B20: =TRIM($D20&$E20&" " &$F20&" " &$G20) -> P32 | C20: P32 | D20: P | E20: 32 | H20: 0.1 | I20: =VLOOKUP(A20,'Anciens seuils'!$B$2:$D$786,2,FALSE) -> 100000 | J20: =VLOOKUP(A20,'Nouveaux seuils'!$B$7:$C$796,2,FALSE) -> 100000 | K20: 5000 | L20: =VLOOKUP(A20,'Anciens seuils'!$B$2:$D$786,3,FALSE) -> 5000000000 | M20: 10000000 | N20: =VLOOKUP(A20,'Nouveaux seuils'!$B$7:$F$796,5,FALSE) -> 10000000000000 | O20: 5 | P20: 0.5 | Q20: 3 | S20: 1000 | T20: =VLOOKUP(A20,'Nouveaux seuils'!$B$7:$E$796,3,FALSE) -> 1000 | U20: =VLOOKUP(A20,'Nouveaux seuils'!$B$7:$E$796,4,FALSE) -> 1000
A21: =TRIM(E21&D21&" " &F21&" " &G21) -> 32Si | B21: =TRIM($D21&$E21&" " &$F21&" " &$G21) -> Si32 | C21: Si32 | D21: Si | E21: 32 | H21: 1 | I21: =VLOOKUP(A21,'Anciens seuils'!$B$2:$D$786,2,FALSE) -> 1000000 | J21: =VLOOKUP(A21,'Nouveaux seuils'!$B$7:$C$796,2,FALSE) -> 1000000 | K21: 400000 | L21: =VLOOKUP(A21,'Anciens seuils'!$B$2:$D$786,3,FALSE) -> 400000000000 | M21: 7000000000000 | N21: =VLOOKUP(A21,'Nouveaux seuils'!$B$7:$F$796,5,FALSE) -> 7000000000000 | O21: 5 | P21: 0.05 | Q21: 2 | S21: 1000 | T21: =VLOOKUP(A21,'Nouveaux seuils'!$B$7:$E$796,3,FALSE) -> / | U21: =VLOOKUP(A21,'Nouveaux seuils'!$B$7:$E$796,4,FALSE) -> /
A22: =TRIM(E22&D22&" " &F22&" " &G22) -> 33P | B22: =TRIM($D22&$E22&" " &$F22&" " &$G22) -> P33 | C22: P33 | D22: P | E22: 33 | H22: 100 | I22: =VLOOKUP(A22,'Anciens seuils'!$B$2:$D$786,2,FALSE) -> 100000000 | J22: =VLOOKUP(A22,'Nouveaux seuils'!$B$7:$C$796,2,FALSE) -> 100000000 | K22: 400000 | L22: =VLOOKUP(A22,'Anciens seuils'!$B$2:$D$786,3,FALSE) -> 400000000000 | M22: 200000000 | N22: =VLOOKUP(A22,'Nouveaux seuils'!$B$7:$F$796,5,FALSE) -> 200000000000000 | O22: 5 | P22: 0.5 | Q22: 3 | S22: 100000 | T22: =VLOOKUP(A22,'Nouveaux seuils'!$B$7:$E$796,3,FALSE) -> 1000 | U22: =VLOOKUP(A22,'Nouveaux seuils'!$B$7:$E$796,4,FALSE) -> 100000
A23: =TRIM(E23&D23&" " &F23&" " &G23) -> 35S composé organique | B23: =TRIM($D23&$E23&" " &$F23&" " &$G23) -> S35 composé organique | C23: S35 composé organique | D23: S | E23: 35 | F23: composé organique | H23: 100 | I23: =VLOOKUP(A23,'Anciens seuils'!$B$2:$D$786,2,FALSE) -> 100000000 | J23: =VLOOKUP(A23,'Nouveaux seuils'!$B$7:$C$796,2,FALSE) -> 100000000 | K23: 400000 | L23: 400000000000 | M23: 60000000000000 | N23: =VLOOKUP(A23,'Nouveaux seuils'!$B$7:$F$796,5,FALSE) -> 60000000000000 | O23: 50 | P23: 5 | Q23: 4 | S23: 100000 | T23: =VLOOKUP(A23,'Nouveaux seuils'!$B$7:$E$796,3,FALSE) -> / | U23: =VLOOKUP(A23,'Nouveaux seuils'!$B$7:$E$796,4,FALSE) -> / | V23: La CPE ne fait pas de # sur la forme physico-chimique
A24: =TRIM(E24&D24&" " &F24&" " &G24) -> 35S vapeur | B24: =TRIM($D24&$E24&" " &$F24&" " &$G24) -> S35 vapeur | C24: S35 vapeur | D24: S | E24: 35 | F24: vapeur | H24: 1000 | I24: =VLOOKUP(A24,'Anciens seuils'!$B$2:$D$786,2,FALSE) -> 1000000000 | J24: =VLOOKUP(A24,'Nouveaux seuils'!$B$7:$C$796,2,FALSE) -> 1000000000 | K24: 400000 | L24: 400000000000 | M24: 60000000000000 | N24: =VLOOKUP(A24,'Nouveaux seuils'!$B$7:$F$796,5,FALSE) -> 60000000000000 | O24: 50 | P24: 5 | Q24: 4 | S24: 1000000 | T24: =VLOOKUP(A24,'Nouveaux seuils'!$B$7:$E$796,3,FALSE) -> / | U24: =VLOOKUP(A24,'Nouveaux seuils'!$B$7:$E$796,4,FALSE) -> / | V24: La CPE ne fait pas de # sur la forme physico-chimique
A25: =TRIM(E25&D25&" " &F25&" " &G25) -> 35S | B25: =TRIM($D25&$E25&" " &$F25&" " &$G25) -> S35 | C25: S35 | D25: S | E25: 35 | H25: 100 | I25: =VLOOKUP(A25,'Anciens seuils'!$B$2:$D$786,2,FALSE) -> 100000000 | J25: =VLOOKUP(A25,'Nouveaux seuils'!$B$7:$C$796,2,FALSE) -> 100000000 | K25: 400000 | L25: =VLOOKUP(A25,'Anciens seuils'!$B$2:$D$786,3,FALSE) -> 400000000000 | M25: 60000000 | N25: =VLOOKUP(A25,'Nouveaux seuils'!$B$7:$F$796,5,FALSE) -> 60000000000000 | O25: 50 | P25: 5 | Q25: 4 | S25: 100000 | T25: =VLOOKUP(A25,'Nouveaux seuils'!$B$7:$E$796,3,FALSE) -> 100 | U25: =VLOOKUP(A25,'Nouveaux seuils'!$B$7:$E$796,4,FALSE) -> 100000
A26: =TRIM(E26&D26&" " &F26&" " &G26) -> 36Cl | B26: =TRIM($D26&$E26&" " &$F26&" " &$G26) -> Cl36 | C26: Cl36 | D26: Cl | E26: 36 | H26: 1 | I26: =VLOOKUP(A26,'Anciens seuils'!$B$2:$D$786,2,FALSE) -> 1000000 | J26: =VLOOKUP(A26,'Nouveaux seuils'!$B$7:$C$796,2,FALSE) -> 1000000 | K26: 100000 | L26: =VLOOKUP(A26,'Anciens seuils'!$B$2:$D$786,3,FALSE) -> 100000000000 | M26: 20000000 | N26: =VLOOKUP(A26,'Nouveaux seuils'!$B$7:$F$796,5,FALSE) -> 20000000000000 | O26: 5 | P26: 0.5 | Q26: 3 | S26: 10000 | T26: =VLOOKUP(A26,'Nouveaux seuils'!$B$7:$E$796,3,FALSE) -> 1 | U26: =VLOOKUP(A26,'Nouveaux seuils'!$B$7:$E$796,4,FALSE) -> 10000 | X26: d
A27: =TRIM(E27&D27&" " &F27&" " &G27) -> 37Ar | B27: =TRIM($D27&$E27&" " &$F27&" " &$G27) -> Ar37 | C27: Ar37 | D27: Ar | E27: 37 | H27: 100 | I27: =VLOOKUP(A27,'Anciens seuils'!$B$2:$D$786,2,FALSE) -> 100000000 | J27: =VLOOKUP(A27,'Nouveaux seuils'!$B$7:$C$796,2,FALSE) -> 100000000 | K27: 400000 | L27: =VLOOKUP(A27,'Anciens seuils'!$B$2:$D$786,3,FALSE) -> 400000000000 | M27: Illimité | N27: =VLOOKUP(A27,'Nouveaux seuils'!$B$7:$F$796,5,FALSE) -> NA | O27: 50 | P27: 5 | Q27: 4 | S27: 1000000 | T27: =VLOOKUP(A27,'Nouveaux seuils'!$B$7:$E$796,3,FALSE) -> / | U27: =VLOOKUP(A27,'Nouveaux seuils'!$B$7:$E$796,4,FALSE) -> 1000000 | X27: e
A28: =TRIM(E28&D28&" " &F28&" " &G28) -> 38Cl | B28: =TRIM($D28&$E28&" " &$F28&" " &$G28) -> Cl38 | C28: Cl38 | D28: Cl | E28: 38 | H28: 0.1 | I28: =VLOOKUP(A28,'Anciens seuils'!$B$2:$D$786,2,FALSE) -> 100000 | J28: =VLOOKUP(A28,'Nouveaux seuils'!$B$7:$C$796,2,FALSE) -> 100000 | K28: 2000 | L28: =VLOOKUP(A28,'Anciens seuils'!$B$2:$D$786,3,FALSE) -> 2000000000 | M28: 50000 | N28: =VLOOKUP(A28,'Nouveaux seuils'!$B$7:$F$796,5,FALSE) -> 50000000000 | O28: 50 | P28: 5 | Q28: 4 | S28: 10 | T28: =VLOOKUP(A28,'Nouveaux seuils'!$B$7:$E$796,3,FALSE) -> 10 | U28: =VLOOKUP(A28,'Nouveaux seuils'!$B$7:$E$796,4,FALSE) -> 10
A29: =TRIM(E29&D29&" " &F29&" " &G29) -> 39Ar | B29: =TRIM($D29&$E29&" " &$F29&" " &$G29) -> Ar39 | C29: Ar39 | D29: Ar | E29: 39 | H29: 0.01 | I29: =VLOOKUP(A29,'Anciens seuils'!$B$2:$D$786,2,FALSE) -> 10000 | J29: =VLOOKUP(A29,'Nouveaux seuils'!$B$7:$C$796,2,FALSE) -> 10000 | K29: 400000 | L29: =VLOOKUP(A29,'Anciens seuils'!$B$2:$D$786,3,FALSE) -> 400000000000 | M29: 300000000 | N29: =VLOOKUP(A29,'Nouveaux seuils'!$B$7:$F$796,5,FALSE) -> 300000000000000 | O29: 50 | P29: 5 | Q29: 4 | S29: 10000000 | T29: =VLOOKUP(A29,'Nouveaux seuils'!$B$7:$E$796,3,FALSE) -> / | U29: =VLOOKUP(A29,'Nouveaux seuils'!$B$7:$E$796,4,FALSE) -> /
A30: =TRIM(E30&D30&" " &F30&" " &G30) -> 39Cl | B30: =TRIM($D30&$E30&" " &$F30&" " &$G30) -> Cl39 | C30: Cl39 | D30: Cl | E30: 39 | H30: 0.1 | I30: =VLOOKUP(A30,'Anciens seuils'!$B$2:$D$786,2,FALSE) -> 100000 | J30: =VLOOKUP(A30,'Nouveaux seuils'!$B$7:$C$796,2,FALSE) -> 100000 | L30: =VLOOKUP(A30,'Anciens seuils'!$B$2:$D$786,3,FALSE) -> NA | N30: =VLOOKUP(A30,'Nouveaux seuils'!$B$7:$F$796,5,FALSE) -> NA | O30: 50 | P30: 5 | Q30: 4 | S30: 10 | T30: =VLOOKUP(A30,'Nouveaux seuils'!$B$7:$E$796,3,FALSE) -> / | U30: =VLOOKUP(A30,'Nouveaux seuils'!$B$7:$E$796,4,FALSE) -> /
A31: =TRIM(E31&D31&" " &F31&" " &G31) -> 40K | B31: =TRIM($D31&$E31&" " &$F31&" " &$G31) -> K40 | C31: K40 | D31: K | E31: 40 | H31: 1 | I31: =VLOOKUP(A31,'Anciens seuils'!$B$2:$D$786,2,FALSE) -> 1000000 | J31: =VLOOKUP(A31,'Nouveaux seuils'!$B$7:$C$796,2,FALSE) -> 1000000 | K31: 9000 | L31: =VLOOKUP(A31,'Anciens seuils'!$B$2:$D$786,3,FALSE) -> 9000000000 | M31: Illimité | N31: =VLOOKUP(A31,'Nouveaux seuils'!$B$7:$F$796,5,FALSE) -> NA | O31: 50 | P31: 5 | Q31: 4 | S31: 100 | T31: =VLOOKUP(A31,'Nouveaux seuils'!$B$7:$E$796,3,FALSE) -> / | U31: =VLOOKUP(A31,'Nouveaux seuils'!$B$7:$E$796,4,FALSE) -> 100 | X31: e
A32: =TRIM(E32&D32&" " &F32&" " &G32) -> 41Ar | B32: =TRIM($D32&$E32&" " &$F32&" " &$G32) -> Ar41 | C32: Ar41 | D32: Ar | E32: 41 | H32: 1000 | I32: =VLOOKUP(A32,'Anciens seuils'!$B$2:$D$786,2,FALSE) -> 1000000000 | J32: =VLOOKUP(A32,'Nouveaux seuils'!$B$7:$C$796,2,FALSE) -> 1000000000 | K32: 3000 | L32: =VLOOKUP(A32,'Anciens seuils'!$B$2:$D$786,3,FALSE) -> 3000000000 | M32: 50000 | N32: =VLOOKUP(A32,'Nouveaux seuils'!$B$7:$F$796,5,FALSE) -> 50000000000 | O32: 5 | P32: 0.5 | Q32: 3 | S32: 100 | T32: =VLOOKUP(A32,'Nouveaux seuils'!$B$7:$E$796,3,FALSE) -> / | U32: =VLOOKUP(A32,'Nouveaux seuils'!$B$7:$E$796,4,FALSE) -> 100
A33: =TRIM(E33&D33&" " &F33&" " &G33) -> 41Ca | B33: =TRIM($D33&$E33&" " &$F33&" " &$G33) -> Ca41 | C33: Ca41 | D33: Ca | E33: 41 | H33: 10 | I33: =VLOOKUP(A33,'Anciens seuils'!$B$2:$D$786,2,FALSE) -> 10000000 | J33: =VLOOKUP(A33,'Nouveaux seuils'!$B$7:$C$796,2,FALSE) -> 10000000 | K33: Illimité | L33: =VLOOKUP(A33,'Anciens seuils'!$B$2:$D$786,3,FALSE) -> Illimité | M33: Illimité | N33: =VLOOKUP(A33,'Nouveaux seuils'!$B$7:$F$796,5,FALSE) -> NA | O33: 50 | P33: 5 | Q33: 4 | S33: 100000 | T33: =VLOOKUP(A33,'Nouveaux seuils'!$B$7:$E$796,3,FALSE) -> / | U33: =VLOOKUP(A33,'Nouveaux seuils'!$B$7:$E$796,4,FALSE) -> / | X33: e
A34: =TRIM(E34&D34&" " &F34&" " &G34) -> 42K | B34: =TRIM($D34&$E34&" " &$F34&" " &$G34) -> K42 | C34: K42 | D34: K | E34: 42 | H34: 1 | I34: =VLOOKUP(A34,'Anciens seuils'!$B$2:$D$786,2,FALSE) -> 1000000 | J34: =VLOOKUP(A34,'Nouveaux seuils'!$B$7:$C$796,2,FALSE) -> 1000000 | K34: 2000 | L34: =VLOOKUP(A34,'Anciens seuils'!$B$2:$D$786,3,FALSE) -> 2000000000 | M34: 200000 | N34: =VLOOKUP(A34,'Nouveaux seuils'!$B$7:$F$796,5,FALSE) -> 200000000000 | O34: 5 | P34: 0.5 | Q34: 3 | S34: 100 | T34: =VLOOKUP(A34,'Nouveaux seuils'!$B$7:$E$796,3,FALSE) -> 100 | U34: =VLOOKUP(A34,'Nouveaux seuils'!$B$7:$E$796,4,FALSE) -> 100
A35: =TRIM(E35&D35&" " &F35&" " &G35) -> 43K | B35: =TRIM($D35&$E35&" " &$F35&" " &$G35) -> K43 | C35: K43 | D35: K | E35: 43 | H35: 1 | I35: =VLOOKUP(A35,'Anciens seuils'!$B$2:$D$786,2,FALSE) -> 1000000 | J35: =VLOOKUP(A35,'Nouveaux seuils'!$B$7:$C$796,2,FALSE) -> 1000000 | K35: 7000 | L35: =VLOOKUP(A35,'Anciens seuils'!$B$2:$D$786,3,FALSE) -> 7000000000 | M35: 70000 | N35: =VLOOKUP(A35,'Nouveaux seuils'!$B$7:$F$796,5,FALSE) -> 70000000000 | O35: 5 | P35: 0.5 | Q35: 3 | S35: 10 | T35: =VLOOKUP(A35,'Nouveaux seuils'!$B$7:$E$796,3,FALSE) -> 10 | U35: =VLOOKUP(A35,'Nouveaux seuils'!$B$7:$E$796,4,FALSE) -> 10
A36: =TRIM(E36&D36&" " &F36&" " &G36) -> 43Sc | B36: =TRIM($D36&$E36&" " &$F36&" " &$G36) -> Sc43 | C36: Sc43 | D36: Sc | E36: 43 | H36: 1 | I36: =VLOOKUP(A36,'Anciens seuils'!$B$2:$D$786,2,FALSE) -> 1000000 | J36: =VLOOKUP(A36,'Nouveaux seuils'!$B$7:$C$796,2,FALSE) -> 1000000 | L36: =VLOOKUP(A36,'Anciens seuils'!$B$2:$D$786,3,FALSE) -> NA | N36: =VLOOKUP(A36,'Nouveaux seuils'!$B$7:$F$796,5,FALSE) -> NA | O36: 50 | P36: 5 | Q36: 4 | S36: 10 | T36: =VLOOKUP(A36,'Nouveaux seuils'!$B$7:$E$796,3,FALSE) -> / | U36: =VLOOKUP(A36,'Nouveaux seuils'!$B$7:$E$796,4,FALSE) -> /
A37: =TRIM(E37&D37&" " &F37&" " &G37) -> 44K | B37: =TRIM($D37&$E37&" " &$F37&" " &$G37) -> K44 | C37: K44 | D37: K | E37: 44 | H37: 0.1 | I37: =VLOOKUP(A37,'Anciens seuils'!$B$2:$D$786,2,FALSE) -> 100000 | J37: =VLOOKUP(A37,'Nouveaux seuils'!$B$7:$C$796,2,FALSE) -> 100000 | L37: =VLOOKUP(A37,'Anciens seuils'!$B$2:$D$786,3,FALSE) -> NA | N37: =VLOOKUP(A37,'Nouveaux seuils'!$B$7:$F$796,5,FALSE) -> NA | O37: 50 | P37: 5 | Q37: 4 | S37: 10 | T37: =VLOOKUP(A37,'Nouveaux seuils'!$B$7:$E$796,3,FALSE) -> / | U37: =VLOOKUP(A37,'Nouveaux seuils'!$B$7:$E$796,4,FALSE) -> /
A38: =TRIM(E38&D38&" " &F38&" " &G38) -> 44Sc m | B38: =TRIM($D38&$E38&" " &$F38&" " &$G38) -> Sc44 m | C38: Sc44 m | D38: Sc | E38: 44 | F38: m | H38: 10 | I38: =VLOOKUP(A38,'Anciens seuils'!$B$2:$D$786,2,FALSE) -> 10000000 | J38: =VLOOKUP(A38,'Nouveaux seuils'!$B$7:$C$796,2,FALSE) -> 10000000 | L38: =VLOOKUP(A38,'Anciens seuils'!$B$2:$D$786,3,FALSE) -> NA | N38: =VLOOKUP(A38,'Nouveaux seuils'!$B$7:$F$796,5,FALSE) -> NA | O38: 5 | P38: 0.5 | Q38: 3 | S38: 100 | T38: =VLOOKUP(A38,'Nouveaux seuils'!$B$7:$E$796,3,FALSE) -> / | U38: =VLOOKUP(A38,'Nouveaux seuils'!$B$7:$E$796,4,FALSE) -> /
A39: =TRIM(E39&D39&" " &F39&" " &G39) -> 44Sc | B39: =TRIM($D39&$E39&" " &$F39&" " &$G39) -> Sc44 | C39: Sc44 | D39: Sc | E39: 44 | H39: 0.1 | I39: =VLOOKUP(A39,'Anciens seuils'!$B$2:$D$786,2,FALSE) -> 100000 | J39: =VLOOKUP(A39,'Nouveaux seuils'!$B$7:$C$796,2,FALSE) -> 100000 | K39: 5000 | L39: =VLOOKUP(A39,'Anciens seuils'!$B$2:$D$786,3,FALSE) -> 5000000000 | M39: 30000 | N39: =VLOOKUP(A39,'Nouveaux seuils'!$B$7:$F$796,5,FALSE) -> 30000000000 | O39: 5 | P39: 0.5 | Q39: 3 | S39: 10 | T39: =VLOOKUP(A39,'Nouveaux seuils'!$B$7:$E$796,3,FALSE) -> / | U39: =VLOOKUP(A39,'Nouveaux seuils'!$B$7:$E$796,4,FALSE) -> /
A40: =TRIM(E40&D40&" " &F40&" " &G40) -> 44Ti | B40: =TRIM($D40&$E40&" " &$F40&" " &$G40) -> Ti44 | C40: Ti44 | D40: Ti | E40: 44 | H40: 0.1 | I40: =VLOOKUP(A40,'Anciens seuils'!$B$2:$D$786,2,FALSE) -> 100000 | J40: =VLOOKUP(A40,'Nouveaux seuils'!$B$7:$C$796,2,FALSE) -> 100000 | K40: 5000 | L40: =VLOOKUP(A40,'Anciens seuils'!$B$2:$D$786,3,FALSE) -> 5000000000 | M40: 30000 | N40: =VLOOKUP(A40,'Nouveaux seuils'!$B$7:$F$796,5,FALSE) -> 30000000000 | O40: 5 | P40: 0.05 | Q40: 2 | R40: + | S40: 10 | T40: =VLOOKUP(A40,'Nouveaux seuils'!$B$7:$E$796,3,FALSE) -> / | U40: =VLOOKUP(A40,'Nouveaux seuils'!$B$7:$E$796,4,FALSE) -> / | W40: (a)
A41: =TRIM(E41&D41&" " &F41&" " &G41) -> 45Ca | B41: =TRIM($D41&$E41&" " &$F41&" " &$G41) -> Ca45 | C41: Ca45 | D41: Ca | E41: 45 | H41: 10 | I41: =VLOOKUP(A41,'Anciens seuils'!$B$2:$D$786,2,FALSE) -> 10000000 | J41: =VLOOKUP(A41,'Nouveaux seuils'!$B$7:$C$796,2,FALSE) -> 10000000 | K41: 400000 | L41: =VLOOKUP(A41,'Anciens seuils'!$B$2:$D$786,3,FALSE) -> 400000000000 | M41: 100000000 | N41: =VLOOKUP(A41,'Nouveaux seuils'!$B$7:$F$796,5,FALSE) -> 100000000000000 | O41: 5 | P41: 0.5 | Q41: 3 | S41: 10000 | T41: =VLOOKUP(A41,'Nouveaux seuils'!$B$7:$E$796,3,FALSE) -> 100 | U41: =VLOOKUP(A41,'Nouveaux seuils'!$B$7:$E$796,4,FALSE) -> 10000
A42: =TRIM(E42&D42&" " &F42&" " &G42) -> 45K | B42: =TRIM($D42&$E42&" " &$F42&" " &$G42) -> K45 | C42: K45 | D42: K | E42: 45 | H42: 0.1 | I42: =VLOOKUP(A42,'Anciens seuils'!$B$2:$D$786,2,FALSE) -> 100000 | J42: =VLOOKUP(A42,'Nouveaux seuils'!$B$7:$C$796,2,FALSE) -> 100000 | L42: =VLOOKUP(A42,'Anciens seuils'!$B$2:$D$786,3,FALSE) -> NA | N42: =VLOOKUP(A42,'Nouveaux seuils'!$B$7:$F$796,5,FALSE) -> NA | O42: 50 | P42: 5 | Q42: 4 | S42: 10 | T42: =VLOOKUP(A42,'Nouveaux seuils'!$B$7:$E$796,3,FALSE) -> / | U42: =VLOOKUP(A42,'Nouveaux seuils'!$B$7:$E$796,4,FALSE) -> /
A43: =TRIM(E43&D43&" " &F43&" " &G43) -> 45Ti | B43: =TRIM($D43&$E43&" " &$F43&" " &$G43) -> Ti45 | C43: Ti45 | D43: Ti | E43: 45 | H43: 1 | I43: =VLOOKUP(A43,'Anciens seuils'!$B$2:$D$786,2,FALSE) -> 1000000 | J43: =VLOOKUP(A43,'Nouveaux seuils'!$B$7:$C$796,2,FALSE) -> 1000000 | L43: =VLOOKUP(A43,'Anciens seuils'!$B$2:$D$786,3,FALSE) -> NA | N43: =VLOOKUP(A43,'Nouveaux seuils'!$B$7:$F$796,5,FALSE) -> NA | O43: 50 | P43: 5 | Q43: 4 | S43: 10 | T43: =VLOOKUP(A43,'Nouveaux seuils'!$B$7:$E$796,3,FALSE) -> / | U43: =VLOOKUP(A43,'Nouveaux seuils'!$B$7:$E$796,4,FALSE) -> /
A44: =TRIM(E44&D44&" " &F44&" " &G44) -> 46Sc | B44: =TRIM($D44&$E44&" " &$F44&" " &$G44) -> Sc46 | C44: Sc46 | D44: Sc | E44: 46 | H44: 1 | I44: =VLOOKUP(A44,'Anciens seuils'!$B$2:$D$786,2,FALSE) -> 1000000 | J44: =VLOOKUP(A44,'Nouveaux seuils'!$B$7:$C$796,2,FALSE) -> 1000000 | K44: 5000 | L44: =VLOOKUP(A44,'Anciens seuils'!$B$2:$D$786,3,FALSE) -> 5000000000 | M44: 30000 | N44: =VLOOKUP(A44,'Nouveaux seuils'!$B$7:$F$796,5,FALSE) -> 30000000000 | O44: 5 | P44: 0.5 | Q44: 3 | S44: 10 | T44: =VLOOKUP(A44,'Nouveaux seuils'!$B$7:$E$796,3,FALSE) -> 0.1 | U44: =VLOOKUP(A44,'Nouveaux seuils'!$B$7:$E$796,4,FALSE) -> 10
A45: =TRIM(E45&D45&" " &F45&" " &G45) -> 47Ca | B45: =TRIM($D45&$E45&" " &$F45&" " &$G45) -> Ca47 | C45: Ca47 | D45: Ca | E45: 47 | H45: 1 | I45: =VLOOKUP(A45,'Anciens seuils'!$B$2:$D$786,2,FALSE) -> 1000000 | J45: =VLOOKUP(A45,'Nouveaux seuils'!$B$7:$C$796,2,FALSE) -> 1000000 | K45: 30000 | L45: =VLOOKUP(A45,'Anciens seuils'!$B$2:$D$786,3,FALSE) -> 30000000000 | M45: 60000 | N45: =VLOOKUP(A45,'Nouveaux seuils'!$B$7:$F$796,5,FALSE) -> 60000000000 | O45: 5 | P45: 0.5 | Q45: 3 | S45: 10 | T45: =VLOOKUP(A45,'Nouveaux seuils'!$B$7:$E$796,3,FALSE) -> 10 | U45: =VLOOKUP(A45,'Nouveaux seuils'!$B$7:$E$796,4,FALSE) -> 10 | W45: (a)
A46: =TRIM(E46&D46&" " &F46&" " &G46) -> 47Sc | B46: =TRIM($D46&$E46&" " &$F46&" " &$G46) -> Sc47 | C46: Sc47 | D46: Sc | E46: 47 | H46: 1 | I46: =VLOOKUP(A46,'Anciens seuils'!$B$2:$D$786,2,FALSE) -> 1000000 | J46: =VLOOKUP(A46,'Nouveaux seuils'!$B$7:$C$796,2,FALSE) -> 1000000 | K46: 100000 | L46: =VLOOKUP(A46,'Anciens seuils'!$B$2:$D$786,3,FALSE) -> 100000000000 | M46: 700000 | N46: =VLOOKUP(A46,'Nouveaux seuils'!$B$7:$F$796,5,FALSE) -> 700000000000 | O46: 5 | P46: 0.5 | Q46: 3 | S46: 100 | T46: =VLOOKUP(A46,'Nouveaux seuils'!$B$7:$E$796,3,FALSE) -> 100 | U46: =VLOOKUP(A46,'Nouveaux seuils'!$B$7:$E$796,4,FALSE) -> 100
A47: =TRIM(E47&D47&" " &F47&" " &G47) -> 47V | B47: =TRIM($D47&$E47&" " &$F47&" " &$G47) -> V47 | C47: V47 | D47: V | E47: 47 | H47: 0.1 | I47: =VLOOKUP(A47,'Anciens seuils'!$B$2:$D$786,2,FALSE) -> 100000 | J47: =VLOOKUP(A47,'Nouveaux seuils'!$B$7:$C$796,2,FALSE) -> 100000 | L47: =VLOOKUP(A47,'Anciens seuils'!$B$2:$D$786,3,FALSE) -> NA | N47: =VLOOKUP(A47,'Nouveaux seuils'!$B$7:$F$796,5,FALSE) -> NA | O47: 50 | P47: 5 | Q47: 4 | S47: 10 | T47: =VLOOKUP(A47,'Nouveaux seuils'!$B$7:$E$796,3,FALSE) -> / | U47: =VLOOKUP(A47,'Nouveaux seuils'!$B$7:$E$796,4,FALSE) -> /
A48: =TRIM(E48&D48&" " &F48&" " &G48) -> 48Cr | B48: =TRIM($D48&$E48&" " &$F48&" " &$G48) -> Cr48 | C48: Cr48 | D48: Cr | E48: 48 | H48: 1 | I48: =VLOOKUP(A48,'Anciens seuils'!$B$2:$D$786,2,FALSE) -> 1000000 | J48: =VLOOKUP(A48,'Nouveaux seuils'!$B$7:$C$796,2,FALSE) -> 1000000 | L48: =VLOOKUP(A48,'Anciens seuils'!$B$2:$D$786,3,FALSE) -> NA | N48: =VLOOKUP(A48,'Nouveaux seuils'!$B$7:$F$796,5,FALSE) -> NA | O48: 5 | P48: 0.5 | Q48: 3 | S48: 100 | T48: =VLOOKUP(A48,'Nouveaux seuils'!$B$7:$E$796,3,FALSE) -> / | U48: =VLOOKUP(A48,'Nouveaux seuils'!$B$7:$E$796,4,FALSE) -> /
A49: =TRIM(E49&D49&" " &F49&" " &G49) -> 48Sc | B49: =TRIM($D49&$E49&" " &$F49&" " &$G49) -> Sc48 | C49: Sc48 | D49: Sc | E49: 48 | H49: 0.1 | I49: =VLOOKUP(A49,'Anciens seuils'!$B$2:$D$786,2,FALSE) -> 100000 | J49: =VLOOKUP(A49,'Nouveaux seuils'!$B$7:$C$796,2,FALSE) -> 100000 | K49: 3000 | L49: =VLOOKUP(A49,'Anciens seuils'!$B$2:$D$786,3,FALSE) -> 3000000000 | M49: 20000 | N49: =VLOOKUP(A49,'Nouveaux seuils'!$B$7:$F$796,5,FALSE) -> 20000000000 | O49: 5 | P49: 0.5 | Q49: 3 | S49: 10 | T49: =VLOOKUP(A49,'Nouveaux seuils'!$B$7:$E$796,3,FALSE) -> 1 | U49: =VLOOKUP(A49,'Nouveaux seuils'!$B$7:$E$796,4,FALSE) -> 10
A50: =TRIM(E50&D50&" " &F50&" " &G50) -> 48V | B50: =TRIM($D50&$E50&" " &$F50&" " &$G50) -> V48 | C50: V48 | D50: V | E50: 48 | H50: 0.1 | I50: =VLOOKUP(A50,'Anciens seuils'!$B$2:$D$786,2,FALSE) -> 100000 | J50: =VLOOKUP(A50,'Nouveaux seuils'!$B$7:$C$796,2,FALSE) -> 100000 | K50: 4000 | L50: =VLOOKUP(A50,'Anciens seuils'!$B$2:$D$786,3,FALSE) -> 4000000000 | M50: 20000 | N50: =VLOOKUP(A50,'Nouveaux seuils'!$B$7:$F$796,5,FALSE) -> 20000000000 | O50: 5 | P50: 0.5 | Q50: 3 | S50: 10 | T50: =VLOOKUP(A50,'Nouveaux seuils'!$B$7:$E$796,3,FALSE) -> 1 | U50: =VLOOKUP(A50,'Nouveaux seuils'!$B$7:$E$796,4,FALSE) -> 10
A51: =TRIM(E51&D51&" " &F51&" " &G51) -> 49Cr | B51: =TRIM($D51&$E51&" " &$F51&" " &$G51) -> Cr49 | C51: Cr49 | D51: Cr | E51: 49 | H51: 1 | I51: =VLOOKUP(A51,'Anciens seuils'!$B$2:$D$786,2,FALSE) -> 1000000 | J51: =VLOOKUP(A51,'Nouveaux seuils'!$B$7:$C$796,2,FALSE) -> 1000000 | L51: =VLOOKUP(A51,'Anciens seuils'!$B$2:$D$786,3,FALSE) -> NA | N51: =VLOOKUP(A51,'Nouveaux seuils'!$B$7:$F$796,5,FALSE) -> NA | O51: 50 | P51: 5 | Q51: 4 | S51: 10 | T51: =VLOOKUP(A51,'Nouveaux seuils'!$B$7:$E$796,3,FALSE) -> / | U51: =VLOOKUP(A51,'Nouveaux seuils'!$B$7:$E$796,4,FALSE) -> /
A52: =TRIM(E52&D52&" " &F52&" " &G52) -> 49Sc | B52: =TRIM($D52&$E52&" " &$F52&" " &$G52) -> Sc49 | C52: Sc49 | D52: Sc | E52: 49 | H52: 0.1 | I52: =VLOOKUP(A52,'Anciens seuils'!$B$2:$D$786,2,FALSE) -> 100000 | J52: =VLOOKUP(A52,'Nouveaux seuils'!$B$7:$C$796,2,FALSE) -> 100000 | L52: =VLOOKUP(A52,'Anciens seuils'!$B$2:$D$786,3,FALSE) -> NA | N52: =VLOOKUP(A52,'Nouveaux seuils'!$B$7:$F$796,5,FALSE) -> NA | O52: 50 | P52: 5 | Q52: 4 | S52: 1000 | T52: =VLOOKUP(A52,'Nouveaux seuils'!$B$7:$E$796,3,FALSE) -> / | U52: =VLOOKUP(A52,'Nouveaux seuils'!$B$7:$E$796,4,FALSE) -> /
A53: =TRIM(E53&D53&" " &F53&" " &G53) -> 49V | B53: =TRIM($D53&$E53&" " &$F53&" " &$G53) -> V49 | C53: V49 | D53: V | E53: 49 | H53: 10 | I53: =VLOOKUP(A53,'Anciens seuils'!$B$2:$D$786,2,FALSE) -> 10000000 | J53: =VLOOKUP(A53,'Nouveaux seuils'!$B$7:$C$796,2,FALSE) -> 10000000 | K53: 400000 | L53: =VLOOKUP(A53,'Anciens seuils'!$B$2:$D$786,3,FALSE) -> 400000000000 | M53: 2000000000 | N53: =VLOOKUP(A53,'Nouveaux seuils'!$B$7:$F$796,5,FALSE) -> 2e+15 | O53: 50 | P53: 5 | Q53: 4 | S53: 10000 | T53: =VLOOKUP(A53,'Nouveaux seuils'!$B$7:$E$796,3,FALSE) -> / | U53: =VLOOKUP(A53,'Nouveaux seuils'!$B$7:$E$796,4,FALSE) -> /
A54: =TRIM(E54&D54&" " &F54&" " &G54) -> 51Cr | B54: =TRIM($D54&$E54&" " &$F54&" " &$G54) -> Cr51 | C54: Cr51 | D54: Cr | E54: 51 | H54: 10 | I54: =VLOOKUP(A54,'Anciens seuils'!$B$2:$D$786,2,FALSE) -> 10000000 | J54: =VLOOKUP(A54,'Nouveaux seuils'!$B$7:$C$796,2,FALSE) -> 10000000 | K54: 300000 | L54: =VLOOKUP(A54,'Anciens seuils'!$B$2:$D$786,3,FALSE) -> 300000000000 | M54: 2000000 | N54: =VLOOKUP(A54,'Nouveaux seuils'!$B$7:$F$796,5,FALSE) -> 2000000000000 | O54: 50 | P54: 5 | Q54: 4 | S54: 1000 | T54: =VLOOKUP(A54,'Nouveaux seuils'!$B$7:$E$796,3,FALSE) -> 100 | U54: =VLOOKUP(A54,'Nouveaux seuils'!$B$7:$E$796,4,FALSE) -> 1000
A55: =TRIM(E55&D55&" " &F55&" " &G55) -> 51Mn | B55: =TRIM($D55&$E55&" " &$F55&" " &$G55) -> Mn51 | C55: Mn51 | D55: Mn | E55: 51 | H55: 0.1 | I55: =VLOOKUP(A55,'Anciens seuils'!$B$2:$D$786,2,FALSE) -> 100000 | J55: =VLOOKUP(A55,'Nouveaux seuils'!$B$7:$C$796,2,FALSE) -> 100000 | L55: =VLOOKUP(A55,'Anciens seuils'!$B$2:$D$786,3,FALSE) -> NA | N55: =VLOOKUP(A55,'Nouveaux seuils'!$B$7:$F$796,5,FALSE) -> NA | O55: 50 | P55: 5 | Q55: 4 | S55: 10 | T55: =VLOOKUP(A55,'Nouveaux seuils'!$B$7:$E$796,3,FALSE) -> 10 | U55: =VLOOKUP(A55,'Nouveaux seuils'!$B$7:$E$796,4,FALSE) -> 10
A56: =TRIM(E56&D56&" " &F56&" " &G56) -> 52Fe | B56: =TRIM($D56&$E56&" " &$F56&" " &$G56) -> Fe52 | C56: Fe52 | D56: Fe | E56: 52 | H56: 1 | I56: =VLOOKUP(A56,'Anciens seuils'!$B$2:$D$786,2,FALSE) -> 1000000 | J56: =VLOOKUP(A56,'Nouveaux seuils'!$B$7:$C$796,2,FALSE) -> 1000000 | K56: 3000 | L56: =VLOOKUP(A56,'Anciens seuils'!$B$2:$D$786,3,FALSE) -> 3000000000 | M56: 20000 | N56: =VLOOKUP(A56,'Nouveaux seuils'!$B$7:$F$796,5,FALSE) -> 20000000000 | O56: 5 | P56: 0.5 | Q56: 3 | S56: 10 | T56: =VLOOKUP(A56,'Nouveaux seuils'!$B$7:$E$796,3,FALSE) -> 10 | U56: =VLOOKUP(A56,'Nouveaux seuils'!$B$7:$E$796,4,FALSE) -> 10 | W56: (a)
A57: =TRIM(E57&D57&" " &F57&" " &G57) -> 52Mn m | B57: =TRIM($D57&$E57&" " &$F57&" " &$G57) -> Mn52 m | C57: Mn52 m | D57: Mn | E57: 52 | F57: m | H57: 0.1 | I57: =VLOOKUP(A57,'Anciens seuils'!$B$2:$D$786,2,FALSE) -> 100000 | J57: =VLOOKUP(A57,'Nouveaux seuils'!$B$7:$C$796,2,FALSE) -> 100000 | L57: =VLOOKUP(A57,'Anciens seuils'!$B$2:$D$786,3,FALSE) -> NA | N57: =VLOOKUP(A57,'Nouveaux seuils'!$B$7:$F$796,5,FALSE) -> NA | O57: 50 | P57: 5 | Q57: 4 | S57: 10 | T57: =VLOOKUP(A57,'Nouveaux seuils'!$B$7:$E$796,3,FALSE) -> 10 | U57: =VLOOKUP(A57,'Nouveaux seuils'!$B$7:$E$796,4,FALSE) -> 10
A58: =TRIM(E58&D58&" " &F58&" " &G58) -> 52Mn | B58: =TRIM($D58&$E58&" " &$F58&" " &$G58) -> Mn52 | C58: Mn52 | D58: Mn | E58: 52 | H58: 0.1 | I58: =VLOOKUP(A58,'Anciens seuils'!$B$2:$D$786,2,FALSE) -> 100000 | J58: =VLOOKUP(A58,'Nouveaux seuils'!$B$7:$C$796,2,FALSE) -> 100000 | K58: 3000 | L58: =VLOOKUP(A58,'Anciens seuils'!$B$2:$D$786,3,FALSE) -> 3000000000 | M58: 20000 | N58: =VLOOKUP(A58,'Nouveaux seuils'!$B$7:$F$796,5,FALSE) -> 20000000000 | O58: 5 | P58: 0.5 | Q58: 3 | S58: 10 | T58: =VLOOKUP(A58,'Nouveaux seuils'!$B$7:$E$796,3,FALSE) -> 1 | U58: =VLOOKUP(A58,'Nouveaux seuils'!$B$7:$E$796,4,FALSE) -> 10
A59: =TRIM(E59&D59&" " &F59&" " &G59) -> 53Mn | B59: =TRIM($D59&$E59&" " &$F59&" " &$G59) -> Mn53 | C59: Mn53 | D59: Mn | E59: 53 | H59: 1000 | I59: =VLOOKUP(A59,'Anciens seuils'!$B$2:$D$786,2,FALSE) -> 1000000000 | J59: =VLOOKUP(A59,'Nouveaux seuils'!$B$7:$C$796,2,FALSE) -> 1000000000 | K59: Illimité | L59: =VLOOKUP(A59,'Anciens seuils'!$B$2:$D$786,3,FALSE) -> Illimité | M59: Illimité | N59: =VLOOKUP(A59,'Nouveaux seuils'!$B$7:$F$796,5,FALSE) -> NA | O59: 50 | P59: 5 | Q59: 4 | S59: 10000 | T59: =VLOOKUP(A59,'Nouveaux seuils'!$B$7:$E$796,3,FALSE) -> 100 | U59: =VLOOKUP(A59,'Nouveaux seuils'!$B$7:$E$796,4,FALSE) -> 10000 | X59: e
A60: =TRIM(E60&D60&" " &F60&" " &G60) -> 54Mn | B60: =TRIM($D60&$E60&" " &$F60&" " &$G60) -> Mn54 | C60: Mn54 | D60: Mn | E60: 54 | H60: 1 | I60: =VLOOKUP(A60,'Anciens seuils'!$B$2:$D$786,2,FALSE) -> 1000000 | J60: =VLOOKUP(A60,'Nouveaux seuils'!$B$7:$C$796,2,FALSE) -> 1000000 | K60: 10000 | L60: =VLOOKUP(A60,'Anciens seuils'!$B$2:$D$786,3,FALSE) -> 10000000000 | M60: 80000 | N60: =VLOOKUP(A60,'Nouveaux seuils'!$B$7:$F$796,5,FALSE) -> 80000000000 | O60: 5 | P60: 0.5 | Q60: 3 | S60: 10 | T60: =VLOOKUP(A60,'Nouveaux seuils'!$B$7:$E$796,3,FALSE) -> 0.1 | U60: =VLOOKUP(A60,'Nouveaux seuils'!$B$7:$E$796,4,FALSE) -> 10
A61: =TRIM(E61&D61&" " &F61&" " &G61) -> 55Co | B61: =TRIM($D61&$E61&" " &$F61&" " &$G61) -> Co55 | C61: Co55 | D61: Co | E61: 55 | H61: 1 | I61: =VLOOKUP(A61,'Anciens seuils'!$B$2:$D$786,2,FALSE) -> 1000000 | J61: =VLOOKUP(A61,'Nouveaux seuils'!$B$7:$C$796,2,FALSE) -> 1000000 | K61: 5000 | L61: =VLOOKUP(A61,'Anciens seuils'!$B$2:$D$786,3,FALSE) -> 5000000000 | M61: 30000 | N61: =VLOOKUP(A61,'Nouveaux seuils'!$B$7:$F$796,5,FALSE) -> 30000000000 | O61: 5 | P61: 0.5 | Q61: 3 | S61: 10 | T61: =VLOOKUP(A61,'Nouveaux seuils'!$B$7:$E$796,3,FALSE) -> 10 | U61: =VLOOKUP(A61,'Nouveaux seuils'!$B$7:$E$796,4,FALSE) -> 10
A62: =TRIM(E62&D62&" " &F62&" " &G62) -> 55Fe | B62: =TRIM($D62&$E62&" " &$F62&" " &$G62) -> Fe55 | C62: Fe55 | D62: Fe | E62: 55 | H62: 1 | I62: =VLOOKUP(A62,'Anciens seuils'!$B$2:$D$786,2,FALSE) -> 1000000 | J62: =VLOOKUP(A62,'Nouveaux seuils'!$B$7:$C$796,2,FALSE) -> 1000000 | K62: 400000 | L62: =VLOOKUP(A62,'Anciens seuils'!$B$2:$D$786,3,FALSE) -> 400000000000 | M62: 800000000 | N62: =VLOOKUP(A62,'Nouveaux seuils'!$B$7:$F$796,5,FALSE) -> 800000000000000 | O62: 5 | P62: 0.5 | Q62: 3 | S62: 10000 | T62: =VLOOKUP(A62,'Nouveaux seuils'!$B$7:$E$796,3,FALSE) -> 1000 | U62: =VLOOKUP(A62,'Nouveaux seuils'!$B$7:$E$796,4,FALSE) -> 10000
A63: =TRIM(E63&D63&" " &F63&" " &G63) -> 56Co | B63: =TRIM($D63&$E63&" " &$F63&" " &$G63) -> Co56 | C63: Co56 | D63: Co | E63: 56 | H63: 0.1 | I63: =VLOOKUP(A63,'Anciens seuils'!$B$2:$D$786,2,FALSE) -> 100000 | J63: =VLOOKUP(A63,'Nouveaux seuils'!$B$7:$C$796,2,FALSE) -> 100000 | K63: 3000 | L63: =VLOOKUP(A63,'Anciens seuils'!$B$2:$D$786,3,FALSE) -> 3000000000 | M63: 20000 | N63: =VLOOKUP(A63,'Nouveaux seuils'!$B$7:$F$796,5,FALSE) -> 20000000000 | O63: 5 | P63: 0.5 | Q63: 3 | S63: 10 | T63: =VLOOKUP(A63,'Nouveaux seuils'!$B$7:$E$796,3,FALSE) -> 0.1 | U63: =VLOOKUP(A63,'Nouveaux seuils'!$B$7:$E$796,4,FALSE) -> 10
A64: =TRIM(E64&D64&" " &F64&" " &G64) -> 56Mn | B64: =TRIM($D64&$E64&" " &$F64&" " &$G64) -> Mn56 | C64: Mn56 | D64: Mn | E64: 56 | H64: 0.1 | I64: =VLOOKUP(A64,'Anciens seuils'!$B$2:$D$786,2,FALSE) -> 100000 | J64: =VLOOKUP(A64,'Nouveaux seuils'!$B$7:$C$796,2,FALSE) -> 100000 | K64: 3000 | L64: =VLOOKUP(A64,'Anciens seuils'!$B$2:$D$786,3,FALSE) -> 3000000000 | M64: 40000 | N64: =VLOOKUP(A64,'Nouveaux seuils'!$B$7:$F$796,5,FALSE) -> 40000000000 | O64: 50 | P64: 5 | Q64: 4 | S64: 10 | T64: =VLOOKUP(A64,'Nouveaux seuils'!$B$7:$E$796,3,FALSE) -> 10 | U64: =VLOOKUP(A64,'Nouveaux seuils'!$B$7:$E$796,4,FALSE) -> 10
A65: =TRIM(E65&D65&" " &F65&" " &G65) -> 56Ni | B65: =TRIM($D65&$E65&" " &$F65&" " &$G65) -> Ni56 | C65: Ni56 | D65: Ni | E65: 56 | H65: 1 | I65: =VLOOKUP(A65,'Anciens seuils'!$B$2:$D$786,2,FALSE) -> 1000000 | J65: =VLOOKUP(A65,'Nouveaux seuils'!$B$7:$C$796,2,FALSE) -> 1000000 | L65: =VLOOKUP(A65,'Anciens seuils'!$B$2:$D$786,3,FALSE) -> NA | N65: =VLOOKUP(A65,'Nouveaux seuils'!$B$7:$F$796,5,FALSE) -> NA | O65: 5 | P65: 0.5 | Q65: 3 | S65: 10 | T65: =VLOOKUP(A65,'Nouveaux seuils'!$B$7:$E$796,3,FALSE) -> / | U65: =VLOOKUP(A65,'Nouveaux seuils'!$B$7:$E$796,4,FALSE) -> /
A66: =TRIM(E66&D66&" " &F66&" " &G66) -> 57Co | B66: =TRIM($D66&$E66&" " &$F66&" " &$G66) -> Co57 | C66: Co57 | D66: Co | E66: 57 | H66: 1 | I66: =VLOOKUP(A66,'Anciens seuils'!$B$2:$D$786,2,FALSE) -> 1000000 | J66: =VLOOKUP(A66,'Nouveaux seuils'!$B$7:$C$796,2,FALSE) -> 1000000 | K66: 100000 | L66: =VLOOKUP(A66,'Anciens seuils'!$B$2:$D$786,3,FALSE) -> 100000000000 | M66: 700000 | N66: =VLOOKUP(A66,'Nouveaux seuils'!$B$7:$F$796,5,FALSE) -> 700000000000 | O66: 5 | P66: 0.5 | Q66: 3 | S66: 100 | T66: =VLOOKUP(A66,'Nouveaux seuils'!$B$7:$E$796,3,FALSE) -> 1 | U66: =VLOOKUP(A66,'Nouveaux seuils'!$B$7:$E$796,4,FALSE) -> 100
A67: =TRIM(E67&D67&" " &F67&" " &G67) -> 57Ni | B67: =TRIM($D67&$E67&" " &$F67&" " &$G67) -> Ni57 | C67: Ni57 | D67: Ni | E67: 57 | H67: 1 | I67: =VLOOKUP(A67,'Anciens seuils'!$B$2:$D$786,2,FALSE) -> 1000000 | J67: =VLOOKUP(A67,'Nouveaux seuils'!$B$7:$C$796,2,FALSE) -> 1000000 | L67: =VLOOKUP(A67,'Anciens seuils'!$B$2:$D$786,3,FALSE) -> NA | N67: =VLOOKUP(A67,'Nouveaux seuils'!$B$7:$F$796,5,FALSE) -> NA | O67: 5 | P67: 0.5 | Q67: 3 | S67: 10 | T67: =VLOOKUP(A67,'Nouveaux seuils'!$B$7:$E$796,3,FALSE) -> / | U67: =VLOOKUP(A67,'Nouveaux seuils'!$B$7:$E$796,4,FALSE) -> /
A68: =TRIM(E68&D68&" " &F68&" " &G68) -> 58Co m | B68: =TRIM($D68&$E68&" " &$F68&" " &$G68) -> Co58 m | C68: Co58 m | D68: Co | E68: 58 | F68: m | H68: 10 | I68: =VLOOKUP(A68,'Anciens seuils'!$B$2:$D$786,2,FALSE) -> 10000000 | J68: =VLOOKUP(A68,'Nouveaux seuils'!$B$7:$C$796,2,FALSE) -> 10000000 | K68: 400000 | L68: =VLOOKUP(A68,'Anciens seuils'!$B$2:$D$786,3,FALSE) -> 400000000000 | M68: 70000 | N68: =VLOOKUP(A68,'Nouveaux seuils'!$B$7:$F$796,5,FALSE) -> 70000000000 | O68: 50 | P68: 5 | Q68: 4 | S68: 10000 | T68: =VLOOKUP(A68,'Nouveaux seuils'!$B$7:$E$796,3,FALSE) -> 10000 | U68: =VLOOKUP(A68,'Nouveaux seuils'!$B$7:$E$796,4,FALSE) -> 10000
A69: =TRIM(E69&D69&" " &F69&" " &G69) -> 58Co | B69: =TRIM($D69&$E69&" " &$F69&" " &$G69) -> Co58 | C69: Co58 | D69: Co | E69: 58 | H69: 1 | I69: =VLOOKUP(A69,'Anciens seuils'!$B$2:$D$786,2,FALSE) -> 1000000 | J69: =VLOOKUP(A69,'Nouveaux seuils'!$B$7:$C$796,2,FALSE) -> 1000000 | K69: 10000 | L69: =VLOOKUP(A69,'Anciens seuils'!$B$2:$D$786,3,FALSE) -> 10000000000 | M69: 70000 | N69: =VLOOKUP(A69,'Nouveaux seuils'!$B$7:$F$796,5,FALSE) -> 70000000000 | O69: 5 | P69: 0.5 | Q69: 3 | S69: 10 | T69: =VLOOKUP(A69,'Nouveaux seuils'!$B$7:$E$796,3,FALSE) -> 1 | U69: =VLOOKUP(A69,'Nouveaux seuils'!$B$7:$E$796,4,FALSE) -> 10
A70: =TRIM(E70&D70&" " &F70&" " &G70) -> 59Fe | B70: =TRIM($D70&$E70&" " &$F70&" " &$G70) -> Fe59 | C70: Fe59 | D70: Fe | E70: 59 | H70: 1 | I70: =VLOOKUP(A70,'Anciens seuils'!$B$2:$D$786,2,FALSE) -> 1000000 | J70: =VLOOKUP(A70,'Nouveaux seuils'!$B$7:$C$796,2,FALSE) -> 1000000 | K70: 9000 | L70: =VLOOKUP(A70,'Anciens seuils'!$B$2:$D$786,3,FALSE) -> 9000000000 | M70: 60000 | N70: =VLOOKUP(A70,'Nouveaux seuils'!$B$7:$F$796,5,FALSE) -> 60000000000 | O70: 5 | P70: 0.5 | Q70: 3 | S70: 10 | T70: =VLOOKUP(A70,'Nouveaux seuils'!$B$7:$E$796,3,FALSE) -> 1 | U70: =VLOOKUP(A70,'Nouveaux seuils'!$B$7:$E$796,4,FALSE) -> 10
A71: =TRIM(E71&D71&" " &F71&" " &G71) -> 59Ni | B71: =TRIM($D71&$E71&" " &$F71&" " &$G71) -> Ni59 | C71: Ni59 | D71: Ni | E71: 59 | H71: 100 | I71: =VLOOKUP(A71,'Anciens seuils'!$B$2:$D$786,2,FALSE) -> 100000000 | J71: =VLOOKUP(A71,'Nouveaux seuils'!$B$7:$C$796,2,FALSE) -> 100000000 | K71: Illimité | L71: =VLOOKUP(A71,'Anciens seuils'!$B$2:$D$786,3,FALSE) -> Illimité | M71: 1000000000 | N71: =VLOOKUP(A71,'Nouveaux seuils'!$B$7:$F$796,5,FALSE) -> 1e+15 | O71: 50 | P71: 5 | Q71: 4 | S71: 10000 | T71: =VLOOKUP(A71,'Nouveaux seuils'!$B$7:$E$796,3,FALSE) -> 100 | U71: =VLOOKUP(A71,'Nouveaux seuils'!$B$7:$E$796,4,FALSE) -> 10000 | X71: d
A72: =TRIM(E72&D72&" " &F72&" " &G72) -> 60Co m | B72: =TRIM($D72&$E72&" " &$F72&" " &$G72) -> Co60 m | C72: Co60 m | D72: Co | E72: 60 | F72: m | H72: 1 | I72: =VLOOKUP(A72,'Anciens seuils'!$B$2:$D$786,2,FALSE) -> 1000000 | J72: =VLOOKUP(A72,'Nouveaux seuils'!$B$7:$C$796,2,FALSE) -> 1000000 | L72: =VLOOKUP(A72,'Anciens seuils'!$B$2:$D$786,3,FALSE) -> NA | N72: =VLOOKUP(A72,'Nouveaux seuils'!$B$7:$F$796,5,FALSE) -> NA | O72: 50 | P72: 5 | Q72: 4 | S72: 1000 | T72: =VLOOKUP(A72,'Nouveaux seuils'!$B$7:$E$796,3,FALSE) -> 1000 | U72: =VLOOKUP(A72,'Nouveaux seuils'!$B$7:$E$796,4,FALSE) -> 1000
A73: =TRIM(E73&D73&" " &F73&" " &G73) -> 60Co | B73: =TRIM($D73&$E73&" " &$F73&" " &$G73) -> Co60 | C73: Co60 | D73: Co | E73: 60 | H73: 0.1 | I73: =VLOOKUP(A73,'Anciens seuils'!$B$2:$D$786,2,FALSE) -> 100000 | J73: =VLOOKUP(A73,'Nouveaux seuils'!$B$7:$C$796,2,FALSE) -> 100000 | K73: 4000 | L73: =VLOOKUP(A73,'Anciens seuils'!$B$2:$D$786,3,FALSE) -> 4000000000 | M73: 30000 | N73: =VLOOKUP(A73,'Nouveaux seuils'!$B$7:$F$796,5,FALSE) -> 30000000000 | O73: 5 | P73: 0.05 | Q73: 2 | S73: 10 | T73: =VLOOKUP(A73,'Nouveaux seuils'!$B$7:$E$796,3,FALSE) -> 0.1 | U73: =VLOOKUP(A73,'Nouveaux seuils'!$B$7:$E$796,4,FALSE) -> 10
A74: =TRIM(E74&D74&" " &F74&" " &G74) -> 60Cu | B74: =TRIM($D74&$E74&" " &$F74&" " &$G74) -> Cu60 | C74: Cu60 | D74: Cu | E74: 60 | H74: 0.1 | I74: =VLOOKUP(A74,'Anciens seuils'!$B$2:$D$786,2,FALSE) -> 100000 | J74: =VLOOKUP(A74,'Nouveaux seuils'!$B$7:$C$796,2,FALSE) -> 100000 | L74: =VLOOKUP(A74,'Anciens seuils'!$B$2:$D$786,3,FALSE) -> NA | N74: =VLOOKUP(A74,'Nouveaux seuils'!$B$7:$F$796,5,FALSE) -> NA | O74: 50 | P74: 5 | Q74: 4 | S74: 10 | T74: =VLOOKUP(A74,'Nouveaux seuils'!$B$7:$E$796,3,FALSE) -> / | U74: =VLOOKUP(A74,'Nouveaux seuils'!$B$7:$E$796,4,FALSE) -> /
A75: =TRIM(E75&D75&" " &F75&" " &G75) -> 60Fe | B75: =TRIM($D75&$E75&" " &$F75&" " &$G75) -> Fe60 | C75: Fe60 | D75: Fe | E75: 60 | H75: 0.1 | I75: =VLOOKUP(A75,'Anciens seuils'!$B$2:$D$786,2,FALSE) -> 100000 | J75: =VLOOKUP(A75,'Nouveaux seuils'!$B$7:$C$796,2,FALSE) -> 100000 | K75: 400000 | L75: =VLOOKUP(A75,'Anciens seuils'!$B$2:$D$786,3,FALSE) -> 400000000000 | M75: 60000 | N75: =VLOOKUP(A75,'Nouveaux seuils'!$B$7:$F$796,5,FALSE) -> 60000000000 | O75: 5 | P75: 0.05 | Q75: 2 | R75: + | S75: 100 | T75: =VLOOKUP(A75,'Nouveaux seuils'!$B$7:$E$796,3,FALSE) -> / | U75: =VLOOKUP(A75,'Nouveaux seuils'!$B$7:$E$796,4,FALSE) -> / | W75: (a)
A76: =TRIM(E76&D76&" " &F76&" " &G76) -> 61Co | B76: =TRIM($D76&$E76&" " &$F76&" " &$G76) -> Co61 | C76: Co61 | D76: Co | E76: 61 | H76: 1 | I76: =VLOOKUP(A76,'Anciens seuils'!$B$2:$D$786,2,FALSE) -> 1000000 | J76: =VLOOKUP(A76,'Nouveaux seuils'!$B$7:$C$796,2,FALSE) -> 1000000 | L76: =VLOOKUP(A76,'Anciens seuils'!$B$2:$D$786,3,FALSE) -> NA | N76: =VLOOKUP(A76,'Nouveaux seuils'!$B$7:$F$796,5,FALSE) -> NA | O76: 50 | P76: 5 | Q76: 4 | S76: 100 | T76: =VLOOKUP(A76,'Nouveaux seuils'!$B$7:$E$796,3,FALSE) -> 100 | U76: =VLOOKUP(A76,'Nouveaux seuils'!$B$7:$E$796,4,FALSE) -> 100
A77: =TRIM(E77&D77&" " &F77&" " &G77) -> 61Cu | B77: =TRIM($D77&$E77&" " &$F77&" " &$G77) -> Cu61 | C77: Cu61 | D77: Cu | E77: 61 | H77: 1 | I77: =VLOOKUP(A77,'Anciens seuils'!$B$2:$D$786,2,FALSE) -> 1000000 | J77: =VLOOKUP(A77,'Nouveaux seuils'!$B$7:$C$796,2,FALSE) -> 1000000 | L77: =VLOOKUP(A77,'Anciens seuils'!$B$2:$D$786,3,FALSE) -> NA | N77: =VLOOKUP(A77,'Nouveaux seuils'!$B$7:$F$796,5,FALSE) -> NA | O77: 50 | P77: 5 | Q77: 4 | S77: 10 | T77: =VLOOKUP(A77,'Nouveaux seuils'!$B$7:$E$796,3,FALSE) -> / | U77: =VLOOKUP(A77,'Nouveaux seuils'!$B$7:$E$796,4,FALSE) -> /
A78: =TRIM(E78&D78&" " &F78&" " &G78) -> 62Co m | B78: =TRIM($D78&$E78&" " &$F78&" " &$G78) -> Co62 m | C78: Co62 m | D78: Co | E78: 62 | F78: m | H78: 0.1 | I78: =VLOOKUP(A78,'Anciens seuils'!$B$2:$D$786,2,FALSE) -> 100000 | J78: =VLOOKUP(A78,'Nouveaux seuils'!$B$7:$C$796,2,FALSE) -> 100000 | L78: =VLOOKUP(A78,'Anciens seuils'!$B$2:$D$786,3,FALSE) -> NA | N78: =VLOOKUP(A78,'Nouveaux seuils'!$B$7:$F$796,5,FALSE) -> NA | O78: 50 | P78: 5 | Q78: 4 | S78: 10 | T78: =VLOOKUP(A78,'Nouveaux seuils'!$B$7:$E$796,3,FALSE) -> 10 | U78: =VLOOKUP(A78,'Nouveaux seuils'!$B$7:$E$796,4,FALSE) -> 10
A79: =TRIM(E79&D79&" " &F79&" " &G79) -> 62Zn | B79: =TRIM($D79&$E79&" " &$F79&" " &$G79) -> Zn62 | C79: Zn62 | D79: Zn | E79: 62 | H79: 1 | I79: =VLOOKUP(A79,'Anciens seuils'!$B$2:$D$786,2,FALSE) -> 1000000 | J79: =VLOOKUP(A79,'Nouveaux seuils'!$B$7:$C$796,2,FALSE) -> 1000000 | L79: =VLOOKUP(A79,'Anciens seuils'!$B$2:$D$786,3,FALSE) -> NA | N79: =VLOOKUP(A79,'Nouveaux seuils'!$B$7:$F$796,5,FALSE) -> NA | O79: 5 | P79: 0.5 | Q79: 3 | S79: 100 | T79: =VLOOKUP(A79,'Nouveaux seuils'!$B$7:$E$796,3,FALSE) -> / | U79: =VLOOKUP(A79,'Nouveaux seuils'!$B$7:$E$796,4,FALSE) -> /
A80: =TRIM(E80&D80&" " &F80&" " &G80) -> 63Ni | B80: =TRIM($D80&$E80&" " &$F80&" " &$G80) -> Ni63 | C80: Ni63 | D80: Ni | E80: 63 | H80: 100 | I80: =VLOOKUP(A80,'Anciens seuils'!$B$2:$D$786,2,FALSE) -> 100000000 | J80: =VLOOKUP(A80,'Nouveaux seuils'!$B$7:$C$796,2,FALSE) -> 100000000 | K80: 400000 | L80: =VLOOKUP(A80,'Anciens seuils'!$B$2:$D$786,3,FALSE) -> 400000000000 | M80: 60000000 | N80: =VLOOKUP(A80,'Nouveaux seuils'!$B$7:$F$796,5,FALSE) -> 60000000000000 | O80: 5 | P80: 0.5 | Q80: 3 | S80: 100000 | T80: =VLOOKUP(A80,'Nouveaux seuils'!$B$7:$E$796,3,FALSE) -> 100 | U80: =VLOOKUP(A80,'Nouveaux seuils'!$B$7:$E$796,4,FALSE) -> 100000
A81: =TRIM(E81&D81&" " &F81&" " &G81) -> 63Zn | B81: =TRIM($D81&$E81&" " &$F81&" " &$G81) -> Zn63 | C81: Zn63 | D81: Zn | E81: 63 | H81: 0.1 | I81: =VLOOKUP(A81,'Anciens seuils'!$B$2:$D$786,2,FALSE) -> 100000 | J81: =VLOOKUP(A81,'Nouveaux seuils'!$B$7:$C$796,2,FALSE) -> 100000 | L81: =VLOOKUP(A81,'Anciens seuils'!$B$2:$D$786,3,FALSE) -> NA | N81: =VLOOKUP(A81,'Nouveaux seuils'!$B$7:$F$796,5,FALSE) -> NA | O81: 50 | P81: 5 | Q81: 4 | S81: 10 | T81: =VLOOKUP(A81,'Nouveaux seuils'!$B$7:$E$796,3,FALSE) -> / | U81: =VLOOKUP(A81,'Nouveaux seuils'!$B$7:$E$796,4,FALSE) -> /
A82: =TRIM(E82&D82&" " &F82&" " &G82) -> 64Cu | B82: =TRIM($D82&$E82&" " &$F82&" " &$G82) -> Cu64 | C82: Cu64 | D82: Cu | E82: 64 | H82: 1 | I82: =VLOOKUP(A82,'Anciens seuils'!$B$2:$D$786,2,FALSE) -> 1000000 | J82: =VLOOKUP(A82,'Nouveaux seuils'!$B$7:$C$796,2,FALSE) -> 1000000 | K82: 60000 | L82: =VLOOKUP(A82,'Anciens seuils'!$B$2:$D$786,3,FALSE) -> 60000000000 | M82: 300000 | N82: =VLOOKUP(A82,'Nouveaux seuils'!$B$7:$F$796,5,FALSE) -> 300000000000 | O82: 50 | P82: 5 | Q82: 4 | S82: 100 | T82: =VLOOKUP(A82,'Nouveaux seuils'!$B$7:$E$796,3,FALSE) -> 100 | U82: =VLOOKUP(A82,'Nouveaux seuils'!$B$7:$E$796,4,FALSE) -> 100
A83: =TRIM(E83&D83&" " &F83&" " &G83) -> 65Ga | B83: =TRIM($D83&$E83&" " &$F83&" " &$G83) -> Ga65 | C83: Ga65 | D83: Ga | E83: 65 | H83: 0.1 | I83: =VLOOKUP(A83,'Anciens seuils'!$B$2:$D$786,2,FALSE) -> 100000 | J83: =VLOOKUP(A83,'Nouveaux seuils'!$B$7:$C$796,2,FALSE) -> 100000 | L83: =VLOOKUP(A83,'Anciens seuils'!$B$2:$D$786,3,FALSE) -> NA | N83: =VLOOKUP(A83,'Nouveaux seuils'!$B$7:$F$796,5,FALSE) -> NA | O83: 50 | P83: 5 | Q83: 4 | S83: 10 | T83: =VLOOKUP(A83,'Nouveaux seuils'!$B$7:$E$796,3,FALSE) -> / | U83: =VLOOKUP(A83,'Nouveaux seuils'!$B$7:$E$796,4,FALSE) -> /
A84: =TRIM(E84&D84&" " &F84&" " &G84) -> 65Ni | B84: =TRIM($D84&$E84&" " &$F84&" " &$G84) -> Ni65 | C84: Ni65 | D84: Ni | E84: 65 | H84: 1 | I84: =VLOOKUP(A84,'Anciens seuils'!$B$2:$D$786,2,FALSE) -> 1000000 | J84: =VLOOKUP(A84,'Nouveaux seuils'!$B$7:$C$796,2,FALSE) -> 1000000 | K84: 4000 | L84: =VLOOKUP(A84,'Anciens seuils'!$B$2:$D$786,3,FALSE) -> 4000000000 | M84: 100000 | N84: =VLOOKUP(A84,'Nouveaux seuils'!$B$7:$F$796,5,FALSE) -> 100000000000 | O84: 50 | P84: 5 | Q84: 4 | S84: 10 | T84: =VLOOKUP(A84,'Nouveaux seuils'!$B$7:$E$796,3,FALSE) -> 10 | U84: =VLOOKUP(A84,'Nouveaux seuils'!$B$7:$E$796,4,FALSE) -> 10
A85: =TRIM(E85&D85&" " &F85&" " &G85) -> 65Zn | B85: =TRIM($D85&$E85&" " &$F85&" " &$G85) -> Zn65 | C85: Zn65 | D85: Zn | E85: 65 | H85: 1 | I85: =VLOOKUP(A85,'Anciens seuils'!$B$2:$D$786,2,FALSE) -> 1000000 | J85: =VLOOKUP(A85,'Nouveaux seuils'!$B$7:$C$796,2,FALSE) -> 1000000 | K85: 20000 | L85: =VLOOKUP(A85,'Anciens seuils'!$B$2:$D$786,3,FALSE) -> 20000000000 | M85: 100000 | N85: =VLOOKUP(A85,'Nouveaux seuils'!$B$7:$F$796,5,FALSE) -> 100000000000 | O85: 5 | P85: 0.5 | Q85: 3 | S85: 10 | T85: =VLOOKUP(A85,'Nouveaux seuils'!$B$7:$E$796,3,FALSE) -> 0.1 | U85: =VLOOKUP(A85,'Nouveaux seuils'!$B$7:$E$796,4,FALSE) -> 10
A86: =TRIM(E86&D86&" " &F86&" " &G86) -> 66Ga | B86: =TRIM($D86&$E86&" " &$F86&" " &$G86) -> Ga66 | C86: Ga66 | D86: Ga | E86: 66 | H86: 0.1 | I86: =VLOOKUP(A86,'Anciens seuils'!$B$2:$D$786,2,FALSE) -> 100000 | J86: =VLOOKUP(A86,'Nouveaux seuils'!$B$7:$C$796,2,FALSE) -> 100000 | L86: =VLOOKUP(A86,'Anciens seuils'!$B$2:$D$786,3,FALSE) -> NA | N86: =VLOOKUP(A86,'Nouveaux seuils'!$B$7:$F$796,5,FALSE) -> NA | O86: 5 | P86: 0.5 | Q86: 3 | S86: 10 | T86: =VLOOKUP(A86,'Nouveaux seuils'!$B$7:$E$796,3,FALSE) -> / | U86: =VLOOKUP(A86,'Nouveaux seuils'!$B$7:$E$796,4,FALSE) -> /
A87: =TRIM(E87&D87&" " &F87&" " &G87) -> 66Ge | B87: =TRIM($D87&$E87&" " &$F87&" " &$G87) -> Ge66 | C87: Ge66 | D87: Ge | E87: 66 | H87: 1 | I87: =VLOOKUP(A87,'Anciens seuils'!$B$2:$D$786,2,FALSE) -> 1000000 | J87: =VLOOKUP(A87,'Nouveaux seuils'!$B$7:$C$796,2,FALSE) -> 1000000 | L87: =VLOOKUP(A87,'Anciens seuils'!$B$2:$D$786,3,FALSE) -> NA | N87: =VLOOKUP(A87,'Nouveaux seuils'!$B$7:$F$796,5,FALSE) -> NA | O87: 50 | P87: 5 | Q87: 4 | S87: 10 | T87: =VLOOKUP(A87,'Nouveaux seuils'!$B$7:$E$796,3,FALSE) -> / | U87: =VLOOKUP(A87,'Nouveaux seuils'!$B$7:$E$796,4,FALSE) -> /
A88: =TRIM(E88&D88&" " &F88&" " &G88) -> 66Ni | B88: =TRIM($D88&$E88&" " &$F88&" " &$G88) -> Ni66 | C88: Ni66 | D88: Ni | E88: 66 | H88: 10 | I88: =VLOOKUP(A88,'Anciens seuils'!$B$2:$D$786,2,FALSE) -> 10000000 | J88: =VLOOKUP(A88,'Nouveaux seuils'!$B$7:$C$796,2,FALSE) -> 10000000 | L88: =VLOOKUP(A88,'Anciens seuils'!$B$2:$D$786,3,FALSE) -> NA | N88: =VLOOKUP(A88,'Nouveaux seuils'!$B$7:$F$796,5,FALSE) -> NA | O88: 5 | P88: 0.5 | Q88: 3 | S88: 10000 | T88: =VLOOKUP(A88,'Nouveaux seuils'!$B$7:$E$796,3,FALSE) -> / | U88: =VLOOKUP(A88,'Nouveaux seuils'!$B$7:$E$796,4,FALSE) -> /
A89: =TRIM(E89&D89&" " &F89&" " &G89) -> 67Cu | B89: =TRIM($D89&$E89&" " &$F89&" " &$G89) -> Cu67 | C89: Cu67 | D89: Cu | E89: 67 | H89: 1 | I89: =VLOOKUP(A89,'Anciens seuils'!$B$2:$D$786,2,FALSE) -> 1000000 | J89: =VLOOKUP(A89,'Nouveaux seuils'!$B$7:$C$796,2,FALSE) -> 1000000 | K89: 100000 | L89: =VLOOKUP(A89,'Anciens seuils'!$B$2:$D$786,3,FALSE) -> 100000000000 | M89: 700000 | N89: =VLOOKUP(A89,'Nouveaux seuils'!$B$7:$F$796,5,FALSE) -> 700000000000 | O89: 5 | P89: 0.5 | Q89: 3 | S89: 100 | T89: =VLOOKUP(A89,'Nouveaux seuils'!$B$7:$E$796,3,FALSE) -> / | U89: =VLOOKUP(A89,'Nouveaux seuils'!$B$7:$E$796,4,FALSE) -> /
A90: =TRIM(E90&D90&" " &F90&" " &G90) -> 67Ga | B90: =TRIM($D90&$E90&" " &$F90&" " &$G90) -> Ga67 | C90: Ga67 | D90: Ga | E90: 67 | H90: 1 | I90: =VLOOKUP(A90,'Anciens seuils'!$B$2:$D$786,2,FALSE) -> 1000000 | J90: =VLOOKUP(A90,'Nouveaux seuils'!$B$7:$C$796,2,FALSE) -> 1000000 | K90: 70000 | L90: =VLOOKUP(A90,'Anciens seuils'!$B$2:$D$786,3,FALSE) -> 70000000000 | M90: 500000 | N90: =VLOOKUP(A90,'Nouveaux seuils'!$B$7:$F$796,5,FALSE) -> 500000000000 | O90: 5 | P90: 0.5 | Q90: 3 | S90: 100 | T90: =VLOOKUP(A90,'Nouveaux seuils'!$B$7:$E$796,3,FALSE) -> / | U90: =VLOOKUP(A90,'Nouveaux seuils'!$B$7:$E$796,4,FALSE) -> /
A91: =TRIM(E91&D91&" " &F91&" " &G91) -> 67Ge | B91: =TRIM($D91&$E91&" " &$F91&" " &$G91) -> Ge67 | C91: Ge67 | D91: Ge | E91: 67 | H91: 0.1 | I91: =VLOOKUP(A91,'Anciens seuils'!$B$2:$D$786,2,FALSE) -> 100000 | J91: =VLOOKUP(A91,'Nouveaux seuils'!$B$7:$C$796,2,FALSE) -> 100000 | L91: =VLOOKUP(A91,'Anciens seuils'!$B$2:$D$786,3,FALSE) -> NA | N91: =VLOOKUP(A91,'Nouveaux seuils'!$B$7:$F$796,5,FALSE) -> NA | O91: 50 | P91: 5 | Q91: 4 | S91: 10 | T91: =VLOOKUP(A91,'Nouveaux seuils'!$B$7:$E$796,3,FALSE) -> / | U91: =VLOOKUP(A91,'Nouveaux seuils'!$B$7:$E$796,4,FALSE) -> /
A92: =TRIM(E92&D92&" " &F92&" " &G92) -> 68Ga | B92: =TRIM($D92&$E92&" " &$F92&" " &$G92) -> Ga68 | C92: Ga68 | D92: Ga | E92: 68 | H92: 0.1 | I92: =VLOOKUP(A92,'Anciens seuils'!$B$2:$D$786,2,FALSE) -> 100000 | J92: =VLOOKUP(A92,'Nouveaux seuils'!$B$7:$C$796,2,FALSE) -> 100000 | K92: 5000 | L92: =VLOOKUP(A92,'Anciens seuils'!$B$2:$D$786,3,FALSE) -> 5000000000 | M92: 70000 | N92: =VLOOKUP(A92,'Nouveaux seuils'!$B$7:$F$796,5,FALSE) -> 70000000000 | O92: 50 | P92: 5 | Q92: 4 | S92: 10 | T92: =VLOOKUP(A92,'Nouveaux seuils'!$B$7:$E$796,3,FALSE) -> / | U92: =VLOOKUP(A92,'Nouveaux seuils'!$B$7:$E$796,4,FALSE) -> /
A93: =TRIM(E93&D93&" " &F93&" " &G93) -> 68Ge | B93: =TRIM($D93&$E93&" " &$F93&" " &$G93) -> Ge68 | C93: Ge68 | D93: Ge | E93: 68 | H93: 0.1 | I93: =VLOOKUP(A93,'Anciens seuils'!$B$2:$D$786,2,FALSE) -> 100000 | J93: =VLOOKUP(A93,'Nouveaux seuils'!$B$7:$C$796,2,FALSE) -> 100000 | K93: 5000 | L93: 5000000000 | M93: 70000 | N93: =VLOOKUP(A93,'Nouveaux seuils'!$B$7:$F$796,5,FALSE) -> 70000000000 | O93: 5 | P93: 0.05 | Q93: 2 | R93: + | S93: 10 | T93: =VLOOKUP(A93,'Nouveaux seuils'!$B$7:$E$796,3,FALSE) -> / | U93: =VLOOKUP(A93,'Nouveaux seuils'!$B$7:$E$796,4,FALSE) -> / | W93: (a)
A94: =TRIM(E94&D94&" " &F94&" " &G94) -> 69As | B94: =TRIM($D94&$E94&" " &$F94&" " &$G94) -> As69 | C94: As69 | D94: As | E94: 69 | H94: 0.1 | I94: =VLOOKUP(A94,'Anciens seuils'!$B$2:$D$786,2,FALSE) -> 100000 | J94: =VLOOKUP(A94,'Nouveaux seuils'!$B$7:$C$796,2,FALSE) -> 100000 | L94: =VLOOKUP(A94,'Anciens seuils'!$B$2:$D$786,3,FALSE) -> NA | N94: =VLOOKUP(A94,'Nouveaux seuils'!$B$7:$F$796,5,FALSE) -> NA | O94: 50 | P94: 5 | Q94: 4 | S94: 10 | T94: =VLOOKUP(A94,'Nouveaux seuils'!$B$7:$E$796,3,FALSE) -> / | U94: =VLOOKUP(A94,'Nouveaux seuils'!$B$7:$E$796,4,FALSE) -> /
A95: =TRIM(E95&D95&" " &F95&" " &G95) -> 69Ge | B95: =TRIM($D95&$E95&" " &$F95&" " &$G95) -> Ge69 | C95: Ge69 | D95: Ge | E95: 69 | H95: 1 | I95: =VLOOKUP(A95,'Anciens seuils'!$B$2:$D$786,2,FALSE) -> 1000000 | J95: =VLOOKUP(A95,'Nouveaux seuils'!$B$7:$C$796,2,FALSE) -> 1000000 | L95: =VLOOKUP(A95,'Anciens seuils'!$B$2:$D$786,3,FALSE) -> NA | N95: =VLOOKUP(A95,'Nouveaux seuils'!$B$7:$F$796,5,FALSE) -> NA | O95: 5 | P95: 0.5 | Q95: 3 | S95: 10 | T95: =VLOOKUP(A95,'Nouveaux seuils'!$B$7:$E$796,3,FALSE) -> / | U95: =VLOOKUP(A95,'Nouveaux seuils'!$B$7:$E$796,4,FALSE) -> /
A96: =TRIM(E96&D96&" " &F96&" " &G96) -> 69Zn m | B96: =TRIM($D96&$E96&" " &$F96&" " &$G96) -> Zn69 m | C96: Zn69 m | D96: Zn | E96: 69 | F96: m | H96: 1 | I96: =VLOOKUP(A96,'Anciens seuils'!$B$2:$D$786,2,FALSE) -> 1000000 | J96: =VLOOKUP(A96,'Nouveaux seuils'!$B$7:$C$796,2,FALSE) -> 1000000 | K96: 30000 | L96: 30000000000 | M96: 200000 | N96: =VLOOKUP(A96,'Nouveaux seuils'!$B$7:$F$796,5,FALSE) -> 200000000000 | O96: 5 | P96: 0.5 | Q96: 3 | S96: 100 | T96: =VLOOKUP(A96,'Nouveaux seuils'!$B$7:$E$796,3,FALSE) -> 10 | U96: =VLOOKUP(A96,'Nouveaux seuils'!$B$7:$E$796,4,FALSE) -> 100 | W96: (a)
A97: =TRIM(E97&D97&" " &F97&" " &G97) -> 69Zn | B97: =TRIM($D97&$E97&" " &$F97&" " &$G97) -> Zn69 | C97: Zn69 | D97: Zn | E97: 69 | H97: 1 | I97: =VLOOKUP(A97,'Anciens seuils'!$B$2:$D$786,2,FALSE) -> 1000000 | J97: =VLOOKUP(A97,'Nouveaux seuils'!$B$7:$C$796,2,FALSE) -> 1000000 | K97: 30000 | L97: =VLOOKUP(A97,'Anciens seuils'!$B$2:$D$786,3,FALSE) -> 30000000000 | M97: 30000000 | N97: =VLOOKUP(A97,'Nouveaux seuils'!$B$7:$F$796,5,FALSE) -> 30000000000000 | O97: 50 | P97: 5 | Q97: 4 | S97: 10000 | T97: =VLOOKUP(A97,'Nouveaux seuils'!$B$7:$E$796,3,FALSE) -> 1000 | U97: =VLOOKUP(A97,'Nouveaux seuils'!$B$7:$E$796,4,FALSE) -> 10000
A98: =TRIM(E98&D98&" " &F98&" " &G98) -> 70As | B98: =TRIM($D98&$E98&" " &$F98&" " &$G98) -> As70 | C98: As70 | D98: As | E98: 70 | H98: 0.1 | I98: =VLOOKUP(A98,'Anciens seuils'!$B$2:$D$786,2,FALSE) -> 100000 | J98: =VLOOKUP(A98,'Nouveaux seuils'!$B$7:$C$796,2,FALSE) -> 100000 | L98: =VLOOKUP(A98,'Anciens seuils'!$B$2:$D$786,3,FALSE) -> NA | N98: =VLOOKUP(A98,'Nouveaux seuils'!$B$7:$F$796,5,FALSE) -> NA | O98: 50 | P98: 5 | Q98: 4 | S98: 10 | T98: =VLOOKUP(A98,'Nouveaux seuils'!$B$7:$E$796,3,FALSE) -> / | U98: =VLOOKUP(A98,'Nouveaux seuils'!$B$7:$E$796,4,FALSE) -> /
A99: =TRIM(E99&D99&" " &F99&" " &G99) -> 70Ga | B99: =TRIM($D99&$E99&" " &$F99&" " &$G99) -> Ga70 | C99: Ga70 | D99: Ga | E99: 70 | H99: 1 | I99: =VLOOKUP(A99,'Anciens seuils'!$B$2:$D$786,2,FALSE) -> 1000000 | J99: =VLOOKUP(A99,'Nouveaux seuils'!$B$7:$C$796,2,FALSE) -> 1000000 | L99: =VLOOKUP(A99,'Anciens seuils'!$B$2:$D$786,3,FALSE) -> NA | N99: =VLOOKUP(A99,'Nouveaux seuils'!$B$7:$F$796,5,FALSE) -> NA | O99: 50 | P99: 5 | Q99: 4 | S99: 1000 | T99: =VLOOKUP(A99,'Nouveaux seuils'!$B$7:$E$796,3,FALSE) -> / | U99: =VLOOKUP(A99,'Nouveaux seuils'!$B$7:$E$796,4,FALSE) -> /
A100: =TRIM(E100&D100&" " &F100&" " &G100) -> 70Se | B100: =TRIM($D100&$E100&" " &$F100&" " &$G100) -> Se70 | C100: Se70 | D100: Se | E100: 70 | H100: 1 | I100: =VLOOKUP(A100,'Anciens seuils'!$B$2:$D$786,2,FALSE) -> 1000000 | J100: =VLOOKUP(A100,'Nouveaux seuils'!$B$7:$C$796,2,FALSE) -> 1000000 | L100: =VLOOKUP(A100,'Anciens seuils'!$B$2:$D$786,3,FALSE) -> NA | N100: =VLOOKUP(A100,'Nouveaux seuils'!$B$7:$F$796,5,FALSE) -> NA | O100: 50 | P100: 5 | Q100: 4 | S100: 10 | T100: =VLOOKUP(A100,'Nouveaux seuils'!$B$7:$E$796,3,FALSE) -> / | U100: =VLOOKUP(A100,'Nouveaux seuils'!$B$7:$E$796,4,FALSE) -> /
...

Sheet Anciens seuils
A1: NUCLÉIDE | B1: NUCLÉIDE | C1: QUANTITÉ (Bq) | D1: Seuil SSHA (Bq) | G1: NUCLÉIDE
A2: H 3 | B2: 3H | C2: =10^9 -> 1000000000 | D2: =4*10^11 -> 400000000000 | E2: =IF(I2="",CONCATENATE(H2,G2),CONCATENATE(H2,G2," ",I2)) -> 3H | F2: 3H | G2: H | H2: 3
A3: Be 7 | B3: 7Be | C3: =10^7 -> 10000000 | D3: =2*10^11 -> 200000000000 | E3: =IF(I3="",CONCATENATE(H3,G3),CONCATENATE(H3,G3," ",I3)) -> 7Be | F3: 7Be | G3: Be | H3: 7
A4: Be 10 | B4: 10Be | C4: =10^6 -> 1000000 | D4: =4*10^11 -> 400000000000 | E4: =IF(I4="",CONCATENATE(H4,G4),CONCATENATE(H4,G4," ",I4)) -> 10Be | F4: 10Be | G4: Be | H4: 10
A5: C 11 | B5: 11C | C5: =10^6 -> 1000000 | D5: =1*10^10 -> 10000000000 | E5: =IF(I5="",CONCATENATE(H5,G5),CONCATENATE(H5,G5," ",I5)) -> 11C | F5: 11C | G5: C | H5: 11
A6: C 11 monoxyde | B6: 11C monoxyde | C6: =10^9 -> 1000000000 | D6: NA | E6: =IF(I6="",CONCATENATE(H6,G6),CONCATENATE(H6,G6," ",I6)) -> 11C monoxyde | F6: 11C monoxyde | G6: C | H6: 11 | I6: monoxyde
A7: C 11 dioxyde | B7: 11C dioxyde | C7: =10^9 -> 1000000000 | D7: NA | E7: =IF(I7="",CONCATENATE(H7,G7),CONCATENATE(H7,G7," ",I7)) -> 11C dioxyde | F7: 11C dioxyde | G7: C | H7: 11 | I7: dioxyde
A8: C 14 | B8: 14C | C8: =10^7 -> 10000000 | D8: =4*10^11 -> 400000000000 | E8: =IF(I8="",CONCATENATE(H8,G8),CONCATENATE(H8,G8," ",I8)) -> 14C | F8: 14C | G8: C | H8: 14
A9: C 14 monoxyde | B9: 14C monoxyde | C9: =10^1 -> 10 | D9: NA | E9: =IF(I9="",CONCATENATE(H9,G9),CONCATENATE(H9,G9," ",I9)) -> 14C monoxyde | F9: 14C monoxyde | G9: C | H9: 14 | I9: monoxyde
A10: C 14 dioxyde | B10: 14C dioxyde | C10: =10^1 -> 10 | D10: NA | E10: =IF(I10="",CONCATENATE(H10,G10),CONCATENATE(H10,G10," ",I10)) -> 14C dioxyde | F10: 14C dioxyde | G10: C | H10: 14 | I10: dioxyde
A11: N 13 | B11: 13N | C11: =10^9 -> 1000000000 | D11: =9*10^9 -> 9000000000 | E11: =IF(I11="",CONCATENATE(H11,G11),CONCATENATE(H11,G11," ",I11)) -> 13N | F11: 13N | G11: N | H11: 13
A12: O 15 | B12: 15O | C12: =10^9 -> 1000000000 | D12: NA | E12: =IF(I12="",CONCATENATE(H12,G12),CONCATENATE(H12,G12," ",I12)) -> 15O | F12: 15O | G12: O | H12: 15
A13: F 18 | B13: 18F | C13: =10^6 -> 1000000 | D13: =1*10^10 -> 10000000000 | E13: =IF(I13="",CONCATENATE(H13,G13),CONCATENATE(H13,G13," ",I13)) -> 18F | F13: 18F | G13: F | H13: 18
A14: Ne 19 | B14: 19Ne | C14: =10^9 -> 1000000000 | D14: NA | E14: =IF(I14="",CONCATENATE(H14,G14),CONCATENATE(H14,G14," ",I14)) -> 19Ne | F14: 19Ne | G14: Ne | H14: 19
A15: Na 22 | B15: 22Na | C15: =10^6 -> 1000000 | D15: =5*10^9 -> 5000000000 | E15: =IF(I15="",CONCATENATE(H15,G15),CONCATENATE(H15,G15," ",I15)) -> 22Na | F15: 22Na | G15: Na | H15: 22
A16: Na 24 | B16: 24Na | C16: =10^5 -> 100000 | D16: =2*10^9 -> 2000000000 | E16: =IF(I16="",CONCATENATE(H16,G16),CONCATENATE(H16,G16," ",I16)) -> 24Na | F16: 24Na | G16: Na | H16: 24
A17: Al 26 | B17: 26Al | C17: =10^5 -> 100000 | D17: =1*10^9 -> 1000000000 | E17: =IF(I17="",CONCATENATE(H17,G17),CONCATENATE(H17,G17," ",I17)) -> 26Al | F17: 26Al | G17: Al | H17: 26
A18: Mg 28 | B18: 28Mg | C18: =10^5 -> 100000 | D18: =3*10^9 -> 3000000000 | E18: =IF(I18="",CONCATENATE(H18,G18),CONCATENATE(H18,G18," ",I18)) -> 28Mg | F18: 28Mg | G18: Mg | H18: 28
A19: Si 31 | B19: 31Si | C19: =10^6 -> 1000000 | D19: =6*10^9 -> 6000000000 | E19: =IF(I19="",CONCATENATE(H19,G19),CONCATENATE(H19,G19," ",I19)) -> 31Si | F19: 31Si | G19: Si | H19: 31
A20: Si 32 | B20: 32Si | C20: =10^6 -> 1000000 | D20: =4*10^11 -> 400000000000 | E20: =IF(I20="",CONCATENATE(H20,G20),CONCATENATE(H20,G20," ",I20)) -> 32Si | F20: 32Si | G20: Si | H20: 32
A21: S 35 | B21: 35S | C21: =10^8 -> 100000000 | D21: =4*10^11 -> 400000000000 | E21: =IF(I21="",CONCATENATE(H21,G21),CONCATENATE(H21,G21," ",I21)) -> 35S | F21: 35S | G21: S | H21: 35
A22: S 35 composé organique | B22: 35S composé organique | C22: =10^8 -> 100000000 | D22: NA | E22: =IF(I22="",CONCATENATE(H22,G22),CONCATENATE(H22,G22," ",I22)) -> 35S composé organique | F22: 35S composé organique | G22: S | H22: 35 | I22: composé organique
A23: S 35 vapeur | B23: 35S vapeur | C23: =10^9 -> 1000000000 | D23: NA | E23: =IF(I23="",CONCATENATE(H23,G23),CONCATENATE(H23,G23," ",I23)) -> 35S vapeur | F23: 35S vapeur | G23: S | H23: 35 | I23: vapeur
A24: P 32 | B24: 32P | C24: =10^5 -> 100000 | D24: =5*10^9 -> 5000000000 | E24: =IF(I24="",CONCATENATE(H24,G24),CONCATENATE(H24,G24," ",I24)) -> 32P | F24: 32P | G24: P | H24: 32
A25: P 33 | B25: 33P | C25: =10^8 -> 100000000 | D25: =4*10^11 -> 400000000000 | E25: =IF(I25="",CONCATENATE(H25,G25),CONCATENATE(H25,G25," ",I25)) -> 33P | F25: 33P | G25: P | H25: 33
A26: Cl 36 | B26: 36Cl | C26: =10^6 -> 1000000 | D26: =1*10^11 -> 100000000000 | E26: =IF(I26="",CONCATENATE(H26,G26),CONCATENATE(H26,G26," ",I26)) -> 36Cl | F26: 36Cl | G26: Cl | H26: 36
A27: Cl 38 | B27: 38Cl | C27: =10^5 -> 100000 | D27: =2*10^9 -> 2000000000 | E27: =IF(I27="",CONCATENATE(H27,G27),CONCATENATE(H27,G27," ",I27)) -> 38Cl | F27: 38Cl | G27: Cl | H27: 38
A28: Cl 39 | B28: 39Cl | C28: =10^5 -> 100000 | D28: NA | E28: =IF(I28="",CONCATENATE(H28,G28),CONCATENATE(H28,G28," ",I28)) -> 39Cl | F28: 39Cl | G28: Cl | H28: 39
A29: Ar 37 | B29: 37Ar | C29: =10^8 -> 100000000 | D29: =4*10^11 -> 400000000000 | E29: =IF(I29="",CONCATENATE(H29,G29),CONCATENATE(H29,G29," ",I29)) -> 37Ar | F29: 37Ar | G29: Ar | H29: 37
A30: Ar 39 | B30: 39Ar | C30: =10^4 -> 10000 | D30: =4*10^11 -> 400000000000 | E30: =IF(I30="",CONCATENATE(H30,G30),CONCATENATE(H30,G30," ",I30)) -> 39Ar | F30: 39Ar | G30: Ar | H30: 39
A31: Ar 41 | B31: 41Ar | C31: =10^9 -> 1000000000 | D31: =3*10^9 -> 3000000000 | E31: =IF(I31="",CONCATENATE(H31,G31),CONCATENATE(H31,G31," ",I31)) -> 41Ar | F31: 41Ar | G31: Ar | H31: 41
A32: K 40 | B32: 40K | C32: =10^6 -> 1000000 | D32: =9*10^9 -> 9000000000 | E32: =IF(I32="",CONCATENATE(H32,G32),CONCATENATE(H32,G32," ",I32)) -> 40K | F32: 40K | G32: K | H32: 40
A33: K 42 | B33: 42K | C33: =10^6 -> 1000000 | D33: =2*10^9 -> 2000000000 | E33: =IF(I33="",CONCATENATE(H33,G33),CONCATENATE(H33,G33," ",I33)) -> 42K | F33: 42K | G33: K | H33: 42
A34: K 43 | B34: 43K | C34: =10^6 -> 1000000 | D34: =7*10^9 -> 7000000000 | E34: =IF(I34="",CONCATENATE(H34,G34),CONCATENATE(H34,G34," ",I34)) -> 43K | F34: 43K | G34: K | H34: 43
A35: K 44 | B35: 44K | C35: =10^5 -> 100000 | D35: NA | E35: =IF(I35="",CONCATENATE(H35,G35),CONCATENATE(H35,G35," ",I35)) -> 44K | F35: 44K | G35: K | H35: 44
A36: K 45 | B36: 45K | C36: =10^5 -> 100000 | D36: NA | E36: =IF(I36="",CONCATENATE(H36,G36),CONCATENATE(H36,G36," ",I36)) -> 45K | F36: 45K | G36: K | H36: 45
A37: Ca 41 | B37: 41Ca | C37: =10^7 -> 10000000 | D37: Illimité | E37: =IF(I37="",CONCATENATE(H37,G37),CONCATENATE(H37,G37," ",I37)) -> 41Ca | F37: 41Ca | G37: Ca | H37: 41
A38: Ca 45 | B38: 45Ca | C38: =10^7 -> 10000000 | D38: =4*10^11 -> 400000000000 | E38: =IF(I38="",CONCATENATE(H38,G38),CONCATENATE(H38,G38," ",I38)) -> 45Ca | F38: 45Ca | G38: Ca | H38: 45
A39: Ca 47 | B39: 47Ca | C39: =10^6 -> 1000000 | D39: =3*10^10 -> 30000000000 | E39: =IF(I39="",CONCATENATE(H39,G39),CONCATENATE(H39,G39," ",I39)) -> 47Ca | F39: 47Ca | G39: Ca | H39: 47
A40: Sc 43 | B40: 43Sc | C40: =10^6 -> 1000000 | D40: NA | E40: =IF(I40="",CONCATENATE(H40,G40),CONCATENATE(H40,G40," ",I40)) -> 43Sc | F40: 43Sc | G40: Sc | H40: 43
A41: Sc 44 | B41: 44Sc | C41: =10^5 -> 100000 | D41: =5*10^9 -> 5000000000 | E41: =IF(I41="",CONCATENATE(H41,G41),CONCATENATE(H41,G41," ",I41)) -> 44Sc | F41: 44Sc | G41: Sc | H41: 44
A42: Sc 44m | B42: 44Sc m | C42: =10^7 -> 10000000 | D42: NA | E42: =IF(I42="",CONCATENATE(H42,G42),CONCATENATE(H42,G42," ",I42)) -> 44Sc m | F42: 44Sc m | G42: Sc | H42: 44 | I42: m
A43: Sc 46 | B43: 46Sc | C43: =10^6 -> 1000000 | D43: =5*10^9 -> 5000000000 | E43: =IF(I43="",CONCATENATE(H43,G43),CONCATENATE(H43,G43," ",I43)) -> 46Sc | F43: 46Sc | G43: Sc | H43: 46
A44: Sc 47 | B44: 47Sc | C44: =10^6 -> 1000000 | D44: =1*10^11 -> 100000000000 | E44: =IF(I44="",CONCATENATE(H44,G44),CONCATENATE(H44,G44," ",I44)) -> 47Sc | F44: 47Sc | G44: Sc | H44: 47
A45: Sc 48 | B45: 48Sc | C45: =10^5 -> 100000 | D45: =3*10^9 -> 3000000000 | E45: =IF(I45="",CONCATENATE(H45,G45),CONCATENATE(H45,G45," ",I45)) -> 48Sc | F45: 48Sc | G45: Sc | H45: 48
A46: Sc 49 | B46: 49Sc | C46: =10^5 -> 100000 | D46: NA | E46: =IF(I46="",CONCATENATE(H46,G46),CONCATENATE(H46,G46," ",I46)) -> 49Sc | F46: 49Sc | G46: Sc | H46: 49
A47: Ti 44 | B47: 44Ti | C47: =10^5 -> 100000 | D47: =5*10^9 -> 5000000000 | E47: =IF(I47="",CONCATENATE(H47,G47),CONCATENATE(H47,G47," ",I47)) -> 44Ti | F47: 44Ti | G47: Ti | H47: 44
A48: Ti 45 | B48: 45Ti | C48: =10^6 -> 1000000 | D48: NA | E48: =IF(I48="",CONCATENATE(H48,G48),CONCATENATE(H48,G48," ",I48)) -> 45Ti | F48: 45Ti | G48: Ti | H48: 45
A49: V 47 | B49: 47V | C49: =10^5 -> 100000 | D49: NA | E49: =IF(I49="",CONCATENATE(H49,G49),CONCATENATE(H49,G49," ",I49)) -> 47V | F49: 47V | G49: V | H49: 47
A50: V 48 | B50: 48V | C50: =10^5 -> 100000 | D50: =4*10^9 -> 4000000000 | E50: =IF(I50="",CONCATENATE(H50,G50),CONCATENATE(H50,G50," ",I50)) -> 48V | F50: 48V | G50: V | H50: 48
A51: V 49 | B51: 49V | C51: =10^7 -> 10000000 | D51: =4*10^11 -> 400000000000 | E51: =IF(I51="",CONCATENATE(H51,G51),CONCATENATE(H51,G51," ",I51)) -> 49V | F51: 49V | G51: V | H51: 49
A52: Cr 48 | B52: 48Cr | C52: =10^6 -> 1000000 | D52: NA | E52: =IF(I52="",CONCATENATE(H52,G52),CONCATENATE(H52,G52," ",I52)) -> 48Cr | F52: 48Cr | G52: Cr | H52: 48
A53: Cr 49 | B53: 49Cr | C53: =10^6 -> 1000000 | D53: NA | E53: =IF(I53="",CONCATENATE(H53,G53),CONCATENATE(H53,G53," ",I53)) -> 49Cr | F53: 49Cr | G53: Cr | H53: 49
A54: Cr 51 | B54: 51Cr | C54: =10^7 -> 10000000 | D54: =3*10^11 -> 300000000000 | E54: =IF(I54="",CONCATENATE(H54,G54),CONCATENATE(H54,G54," ",I54)) -> 51Cr | F54: 51Cr | G54: Cr | H54: 51
A55: Mn 51 | B55: 51Mn | C55: =10^5 -> 100000 | D55: NA | E55: =IF(I55="",CONCATENATE(H55,G55),CONCATENATE(H55,G55," ",I55)) -> 51Mn | F55: 51Mn | G55: Mn | H55: 51
A56: Mn 52 | B56: 52Mn | C56: =10^5 -> 100000 | D56: =3*10^9 -> 3000000000 | E56: =IF(I56="",CONCATENATE(H56,G56),CONCATENATE(H56,G56," ",I56)) -> 52Mn | F56: 52Mn | G56: Mn | H56: 52
A57: Mn 52m | B57: 52Mn m | C57: =10^5 -> 100000 | D57: NA | E57: =IF(I57="",CONCATENATE(H57,G57),CONCATENATE(H57,G57," ",I57)) -> 52Mn m | F57: 52Mn m | G57: Mn | H57: 52 | I57: m
A58: Mn 53 | B58: 53Mn | C58: =10^9 -> 1000000000 | D58: Illimité | E58: =IF(I58="",CONCATENATE(H58,G58),CONCATENATE(H58,G58," ",I58)) -> 53Mn | F58: 53Mn | G58: Mn | H58: 53
A59: Mn 54 | B59: 54Mn | C59: =10^6 -> 1000000 | D59: =1*10^10 -> 10000000000 | E59: =IF(I59="",CONCATENATE(H59,G59),CONCATENATE(H59,G59," ",I59)) -> 54Mn | F59: 54Mn | G59: Mn | H59: 54
A60: Mn 56 | B60: 56Mn | C60: =10^5 -> 100000 | D60: =3*10^9 -> 3000000000 | E60: =IF(I60="",CONCATENATE(H60,G60),CONCATENATE(H60,G60," ",I60)) -> 56Mn | F60: 56Mn | G60: Mn | H60: 56
A61: Fe 52 | B61: 52Fe | C61: =10^6 -> 1000000 | D61: =3*10^9 -> 3000000000 | E61: =IF(I61="",CONCATENATE(H61,G61),CONCATENATE(H61,G61," ",I61)) -> 52Fe | F61: 52Fe | G61: Fe | H61: 52
A62: Fe 55 | B62: 55Fe | C62: =10^6 -> 1000000 | D62: =4*10^11 -> 400000000000 | E62: =IF(I62="",CONCATENATE(H62,G62),CONCATENATE(H62,G62," ",I62)) -> 55Fe | F62: 55Fe | G62: Fe | H62: 55
A63: Fe 59 | B63: 59Fe | C63: =10^6 -> 1000000 | D63: =9*10^9 -> 9000000000 | E63: =IF(I63="",CONCATENATE(H63,G63),CONCATENATE(H63,G63," ",I63)) -> 59Fe | F63: 59Fe | G63: Fe | H63: 59
A64: Fe 60 | B64: 60Fe | C64: =10^5 -> 100000 | D64: =4*10^11 -> 400000000000 | E64: =IF(I64="",CONCATENATE(H64,G64),CONCATENATE(H64,G64," ",I64)) -> 60Fe | F64: 60Fe | G64: Fe | H64: 60
A65: Co 55 | B65: 55Co | C65: =10^6 -> 1000000 | D65: =5*10^9 -> 5000000000 | E65: =IF(I65="",CONCATENATE(H65,G65),CONCATENATE(H65,G65," ",I65)) -> 55Co | F65: 55Co | G65: Co | H65: 55
A66: Co 56 | B66: 56Co | C66: =10^5 -> 100000 | D66: =3*10^9 -> 3000000000 | E66: =IF(I66="",CONCATENATE(H66,G66),CONCATENATE(H66,G66," ",I66)) -> 56Co | F66: 56Co | G66: Co | H66: 56
A67: Co 57 | B67: 57Co | C67: =10^6 -> 1000000 | D67: =1*10^11 -> 100000000000 | E67: =IF(I67="",CONCATENATE(H67,G67),CONCATENATE(H67,G67," ",I67)) -> 57Co | F67: 57Co | G67: Co | H67: 57
A68: Co 58 | B68: 58Co | C68: =10^6 -> 1000000 | D68: =1*10^10 -> 10000000000 | E68: =IF(I68="",CONCATENATE(H68,G68),CONCATENATE(H68,G68," ",I68)) -> 58Co | F68: 58Co | G68: Co | H68: 58
A69: Co 58 m | B69: 58Co m | C69: =10^7 -> 10000000 | D69: =4*10^11 -> 400000000000 | E69: =IF(I69="",CONCATENATE(H69,G69),CONCATENATE(H69,G69," ",I69)) -> 58Co m | F69: 58Co m | G69: Co | H69: 58 | I69: m
A70: Co 60 | B70: 60Co | C70: =10^5 -> 100000 | D70: =4*10^9 -> 4000000000 | E70: =IF(I70="",CONCATENATE(H70,G70),CONCATENATE(H70,G70," ",I70)) -> 60Co | F70: 60Co | G70: Co | H70: 60
A71: Co 60 m | B71: 60Co m | C71: =10^6 -> 1000000 | D71: NA | E71: =IF(I71="",CONCATENATE(H71,G71),CONCATENATE(H71,G71," ",I71)) -> 60Co m | F71: 60Co m | G71: Co | H71: 60 | I71: m
A72: Co 61 | B72: 61Co | C72: =10^6 -> 1000000 | D72: NA | E72: =IF(I72="",CONCATENATE(H72,G72),CONCATENATE(H72,G72," ",I72)) -> 61Co | F72: 61Co | G72: Co | H72: 61
A73: Co 62 m | B73: 62Co m | C73: =10^5 -> 100000 | D73: NA | E73: =IF(I73="",CONCATENATE(H73,G73),CONCATENATE(H73,G73," ",I73)) -> 62Co m | F73: 62Co m | G73: Co | H73: 62 | I73: m
A74: Ni 56 | B74: 56Ni | C74: =10^6 -> 1000000 | D74: NA | E74: =IF(I74="",CONCATENATE(H74,G74),CONCATENATE(H74,G74," ",I74)) -> 56Ni | F74: 56Ni | G74: Ni | H74: 56
A75: Ni 57 | B75: 57Ni | C75: =10^6 -> 1000000 | D75: NA | E75: =IF(I75="",CONCATENATE(H75,G75),CONCATENATE(H75,G75," ",I75)) -> 57Ni | F75: 57Ni | G75: Ni | H75: 57
A76: Ni 59 | B76: 59Ni | C76: =10^8 -> 100000000 | D76: Illimité | E76: =IF(I76="",CONCATENATE(H76,G76),CONCATENATE(H76,G76," ",I76)) -> 59Ni | F76: 59Ni | G76: Ni | H76: 59
A77: Ni 63 | B77: 63Ni | C77: =10^8 -> 100000000 | D77: =4*10^11 -> 400000000000 | E77: =IF(I77="",CONCATENATE(H77,G77),CONCATENATE(H77,G77," ",I77)) -> 63Ni | F77: 63Ni | G77: Ni | H77: 63
A78: Ni 65 | B78: 65Ni | C78: =10^6 -> 1000000 | D78: =4*10^9 -> 4000000000 | E78: =IF(I78="",CONCATENATE(H78,G78),CONCATENATE(H78,G78," ",I78)) -> 65Ni | F78: 65Ni | G78: Ni | H78: 65
A79: Ni 66 | B79: 66Ni | C79: =10^7 -> 10000000 | D79: NA | E79: =IF(I79="",CONCATENATE(H79,G79),CONCATENATE(H79,G79," ",I79)) -> 66Ni | F79: 66Ni | G79: Ni | H79: 66
A80: Cu 60 | B80: 60Cu | C80: =10^5 -> 100000 | D80: NA | E80: =IF(I80="",CONCATENATE(H80,G80),CONCATENATE(H80,G80," ",I80)) -> 60Cu | F80: 60Cu | G80: Cu | H80: 60
A81: Cu 61 | B81: 61Cu | C81: =10^6 -> 1000000 | D81: NA | E81: =IF(I81="",CONCATENATE(H81,G81),CONCATENATE(H81,G81," ",I81)) -> 61Cu | F81: 61Cu | G81: Cu | H81: 61
A82: Cu 64 | B82: 64Cu | C82: =10^6 -> 1000000 | D82: =6*10^10 -> 60000000000 | E82: =IF(I82="",CONCATENATE(H82,G82),CONCATENATE(H82,G82," ",I82)) -> 64Cu | F82: 64Cu | G82: Cu | H82: 64
A83: Cu 67 | B83: 67Cu | C83: =10^6 -> 1000000 | D83: =1*10^11 -> 100000000000 | E83: =IF(I83="",CONCATENATE(H83,G83),CONCATENATE(H83,G83," ",I83)) -> 67Cu | F83: 67Cu | G83: Cu | H83: 67
A84: Zn 62 | B84: 62Zn | C84: =10^6 -> 1000000 | D84: NA | E84: =IF(I84="",CONCATENATE(H84,G84),CONCATENATE(H84,G84," ",I84)) -> 62Zn | F84: 62Zn | G84: Zn | H84: 62
A85: Zn 63 | B85: 63Zn | C85: =10^5 -> 100000 | D85: NA | E85: =IF(I85="",CONCATENATE(H85,G85),CONCATENATE(H85,G85," ",I85)) -> 63Zn | F85: 63Zn | G85: Zn | H85: 63
A86: Zn 65 | B86: 65Zn | C86: =10^6 -> 1000000 | D86: =2*10^10 -> 20000000000 | E86: =IF(I86="",CONCATENATE(H86,G86),CONCATENATE(H86,G86," ",I86)) -> 65Zn | F86: 65Zn | G86: Zn | H86: 65
A87: Zn 69 | B87: 69Zn | C87: =10^6 -> 1000000 | D87: =3*10^10 -> 30000000000 | E87: =IF(I87="",CONCATENATE(H87,G87),CONCATENATE(H87,G87," ",I87)) -> 69Zn | F87: 69Zn | G87: Zn | H87: 69
A88: Zn 69 m | B88: 69Zn m | C88: =10^6 -> 1000000 | D88: NA | E88: =IF(I88="",CONCATENATE(H88,G88),CONCATENATE(H88,G88," ",I88)) -> 69Zn m | F88: 69Zn m | G88: Zn | H88: 69 | I88: m
A89: Zn 71 m | B89: 71Zn m | C89: =10^6 -> 1000000 | D89: NA | E89: =IF(I89="",CONCATENATE(H89,G89),CONCATENATE(H89,G89," ",I89)) -> 71Zn m | F89: 71Zn m | G89: Zn | H89: 71 | I89: m
A90: Zn 72 | B90: 72Zn | C90: =10^6 -> 1000000 | D90: NA | E90: =IF(I90="",CONCATENATE(H90,G90),CONCATENATE(H90,G90," ",I90)) -> 72Zn | F90: 72Zn | G90: Zn | H90: 72
A91: Ga 65 | B91: 65Ga | C91: =10^5 -> 100000 | D91: NA | E91: =IF(I91="",CONCATENATE(H91,G91),CONCATENATE(H91,G91," ",I91)) -> 65Ga | F91: 65Ga | G91: Ga | H91: 65
A92: Ga 66 | B92: 66Ga | C92: =10^5 -> 100000 | D92: NA | E92: =IF(I92="",CONCATENATE(H92,G92),CONCATENATE(H92,G92," ",I92)) -> 66Ga | F92: 66Ga | G92: Ga | H92: 66
A93: Ga 67 | B93: 67Ga | C93: =10^6 -> 1000000 | D93: =7*10^10 -> 70000000000 | E93: =IF(I93="",CONCATENATE(H93,G93),CONCATENATE(H93,G93," ",I93)) -> 67Ga | F93: 67Ga | G93: Ga | H93: 67
A94: Ga 68 | B94: 68Ga | C94: =10^5 -> 100000 | D94: =5*10^9 -> 5000000000 | E94: =IF(I94="",CONCATENATE(H94,G94),CONCATENATE(H94,G94," ",I94)) -> 68Ga | F94: 68Ga | G94: Ga | H94: 68
A95: Ga 70 | B95: 70Ga | C95: =10^6 -> 1000000 | D95: NA | E95: =IF(I95="",CONCATENATE(H95,G95),CONCATENATE(H95,G95," ",I95)) -> 70Ga | F95: 70Ga | G95: Ga | H95: 70
A96: Ga 72 | B96: 72Ga | C96: =10^5 -> 100000 | D96: =4*10^9 -> 4000000000 | E96: =IF(I96="",CONCATENATE(H96,G96),CONCATENATE(H96,G96," ",I96)) -> 72Ga | F96: 72Ga | G96: Ga | H96: 72
A97: Ga 73 | B97: 73Ga | C97: =10^6 -> 1000000 | D97: NA | E97: =IF(I97="",CONCATENATE(H97,G97),CONCATENATE(H97,G97," ",I97)) -> 73Ga | F97: 73Ga | G97: Ga | H97: 73
A98: Ge 66 | B98: 66Ge | C98: =10^6 -> 1000000 | D98: NA | E98: =IF(I98="",CONCATENATE(H98,G98),CONCATENATE(H98,G98," ",I98)) -> 66Ge | F98: 66Ge | G98: Ge | H98: 66
A99: Ge 67 | B99: 67Ge | C99: =10^5 -> 100000 | D99: NA | E99: =IF(I99="",CONCATENATE(H99,G99),CONCATENATE(H99,G99," ",I99)) -> 67Ge | F99: 67Ge | G99: Ge | H99: 67
A100: Ge 68 | B100: 68Ge | C100: =10^5 -> 100000 | D100: NA | E100: =IF(I100="",CONCATENATE(H100,G100),CONCATENATE(H100,G100," ",I100)) -> 68Ge | F100: 68Ge | G100: Ge | H100: 68
...

Sheet Nouveaux seuils
A1: Colonne 1 | B1: Colonne 1 | C1: Colonne 2 | D1: Colonne 3 | E1: Colonne 4 | F1: Colonne 5 | G1: Colonne 6 | H1: Colonne 7 | J1: Colonne | K1: 1
C2: Valeurs limites | F2: Niveaux d'activité (Bq)
A3: Radionucléide | B3: Radionucléide | F3: Classement en source scellée de haute activité (HA) | G3: Classement en source radioactive de catégorie B | H3: Classement en source radioactive de catégorie A | J3: Radionucléide
C4: Exemption en quantité | D4: Exemption en concentration | E4: Déclaration en concentration
C6: (Bq) | D6: (kBq/ kg) | E6: (kBq/ kg)
A7: H 3 | B7: 3H | C7: =1*10^9 -> 1000000000 | D7: 100 | E7: =1*10^6 -> 1000000 | F7: =2*10^15 -> 2e+15 | G7: =2*10^16 -> 2e+16 | H7: =2*10^18 -> 2e+18 | I7: =VLOOKUP(B7,CSP!$A$2:$B$795,2,FALSE) -> H3 | J7: H | K7: 3 | M7: =IF(L7="",CONCATENATE(K7,J7),CONCATENATE(K7,J7," ",L7)) -> 3H | N7: 3H
A8: Be 7 | B8: 7Be | C8: =1*10^7 -> 10000000 | D8: 10 | E8: =1*10^3 -> 1000 | F8: =1*10^12 -> 1000000000000 | G8: =1*10^13 -> 10000000000000 | H8: =1*10^15 -> 1e+15 | I8: =VLOOKUP(B8,CSP!$A$2:$B$795,2,FALSE) -> Be7 | J8: Be | K8: 7 | M8: =IF(L8="",CONCATENATE(K8,J8),CONCATENATE(K8,J8," ",L8)) -> 7Be | N8: 7Be
A9: Be 10 | B9: 10Be | C9: =1*10^6 -> 1000000 | D9: / | E9: / | F9: =3*10^13 -> 30000000000000 | G9: =3*10^14 -> 300000000000000 | H9: =3*10^16 -> 3e+16 | I9: =VLOOKUP(B9,CSP!$A$2:$B$795,2,FALSE) -> Be10 | J9: Be | K9: 10 | M9: =IF(L9="",CONCATENATE(K9,J9),CONCATENATE(K9,J9," ",L9)) -> 10Be | N9: 10Be
A10: C 11 | B10: 11C | C10: =1*10^6 -> 1000000 | D10: / | E10: / | F10: =6*10^10 -> 60000000000 | G10: =6*10^11 -> 600000000000 | H10: =6*10^13 -> 60000000000000 | I10: =VLOOKUP(B10,CSP!$A$2:$B$795,2,FALSE) -> C11 | J10: C | K10: 11 | M10: =IF(L10="",CONCATENATE(K10,J10),CONCATENATE(K10,J10," ",L10)) -> 11C | N10: 11C
A11: C 11 monoxyde | B11: 11C monoxyde | C11: =1*10^9 -> 1000000000 | D11: / | E11: / | F11: =6*10^10 -> 60000000000 | G11: =6*10^11 -> 600000000000 | H11: =6*10^13 -> 60000000000000 | I11: =VLOOKUP(B11,CSP!$A$2:$B$795,2,FALSE) -> C11 monoxyde | J11: C | K11: 11 | L11: monoxyde | M11: =IF(L11="",CONCATENATE(K11,J11),CONCATENATE(K11,J11," ",L11)) -> 11C monoxyde | N11: 11C monoxyde
A12: C 11 dioxyde | B12: 11C dioxyde | C12: =1*10^9 -> 1000000000 | D12: / | E12: / | F12: =6*10^10 -> 60000000000 | G12: =6*10^11 -> 600000000000 | H12: =6*10^13 -> 60000000000000 | I12: =VLOOKUP(B12,CSP!$A$2:$B$795,2,FALSE) -> C11 dioxyde | J12: C | K12: 11 | L12: dioxyde | M12: =IF(L12="",CONCATENATE(K12,J12),CONCATENATE(K12,J12," ",L12)) -> 11C dioxyde | N12: 11C dioxyde
A13: C 14 | B13: 14C | C13: =1*10^7 -> 10000000 | D13: 1 | E13: =1*10^4 -> 10000 | F13: =5*10^13 -> 50000000000000 | G13: =5*10^14 -> 500000000000000 | H13: =5*10^16 -> 5e+16 | I13: =VLOOKUP(B13,CSP!$A$2:$B$795,2,FALSE) -> C14 | J13: C | K13: 14 | M13: =IF(L13="",CONCATENATE(K13,J13),CONCATENATE(K13,J13," ",L13)) -> 14C | N13: 14C
A14: C 14 monoxyde | B14: 14C monoxyde | C14: =1*10^1 -> 10 | D14: / | E14: / | F14: =5*10^13 -> 50000000000000 | G14: =5*10^14 -> 500000000000000 | H14: =5*10^16 -> 5e+16 | I14: =VLOOKUP(B14,CSP!$A$2:$B$795,2,FALSE) -> C14 monoxyde | J14: C | K14: 14 | L14: monoxyde | M14: =IF(L14="",CONCATENATE(K14,J14),CONCATENATE(K14,J14," ",L14)) -> 14C monoxyde | N14: 14C monoxyde
A15: C 14 dioxyde | B15: 14C dioxyde | C15: =1*10^1 -> 10 | D15: / | E15: / | F15: =5*10^13 -> 50000000000000 | G15: =5*10^14 -> 500000000000000 | H15: =5*10^16 -> 5e+16 | I15: =VLOOKUP(B15,CSP!$A$2:$B$795,2,FALSE) -> C14 dioxyde | J15: C | K15: 14 | L15: dioxyde | M15: =IF(L15="",CONCATENATE(K15,J15),CONCATENATE(K15,J15," ",L15)) -> 14C dioxyde | N15: 14C dioxyde
A16: N 13 | B16: 13N | C16: =1*10^9 -> 1000000000 | D16: / | E16: / | F16: =6*10^10 -> 60000000000 | G16: =6*10^11 -> 600000000000 | H16: =6*10^13 -> 60000000000000 | I16: =VLOOKUP(B16,CSP!$A$2:$B$795,2,FALSE) -> N13 | J16: N | K16: 13 | M16: =IF(L16="",CONCATENATE(K16,J16),CONCATENATE(K16,J16," ",L16)) -> 13N | N16: 13N
A17: O 15 | B17: 15O | C17: =1*10^9 -> 1000000000 | D17: / | E17: =1*10^2 -> 100 | F17: NA | G17: NA | H17: NA | I17: =VLOOKUP(B17,CSP!$A$2:$B$795,2,FALSE) -> O15 | J17: O | K17: 15 | M17: =IF(L17="",CONCATENATE(K17,J17),CONCATENATE(K17,J17," ",L17)) -> 15O | N17: 15O
A18: F 18 | B18: 18F | C18: =1*10^6 -> 1000000 | D18: 10 | E18: =1*10^1 -> 10 | F18: =6*10^10 -> 60000000000 | G18: =6*10^11 -> 600000000000 | H18: =6*10^13 -> 60000000000000 | I18: =VLOOKUP(B18,CSP!$A$2:$B$795,2,FALSE) -> F18 | J18: F | K18: 18 | M18: =IF(L18="",CONCATENATE(K18,J18),CONCATENATE(K18,J18," ",L18)) -> 18F | N18: 18F
A19: Ne 19 | B19: 19Ne | C19: =1*10^9 -> 1000000000 | D19: / | E19: / | F19: NA | G19: NA | H19: NA | I19: =VLOOKUP(B19,CSP!$A$2:$B$795,2,FALSE) -> Ne19 | J19: Ne | K19: 19 | M19: =IF(L19="",CONCATENATE(K19,J19),CONCATENATE(K19,J19," ",L19)) -> 19Ne | N19: 19Ne
A20: Na 22 | B20: 22Na | C20: =1*10^6 -> 1000000 | D20: 0.1 | E20: =1*10^1 -> 10 | F20: =3*10^10 -> 30000000000 | G20: =3*10^11 -> 300000000000 | H20: =3*10^13 -> 30000000000000 | I20: =VLOOKUP(B20,CSP!$A$2:$B$795,2,FALSE) -> Na22 | J20: Na | K20: 22 | M20: =IF(L20="",CONCATENATE(K20,J20),CONCATENATE(K20,J20," ",L20)) -> 22Na | N20: 22Na
A21: Na 24 | B21: 24Na | C21: =1*10^5 -> 100000 | D21: 1 | E21: =1*10^1 -> 10 | F21: =2*10^10 -> 20000000000 | G21: =2*10^11 -> 200000000000 | H21: =2*10^13 -> 20000000000000 | I21: =VLOOKUP(B21,CSP!$A$2:$B$795,2,FALSE) -> Na24 | J21: Na | K21: 24 | M21: =IF(L21="",CONCATENATE(K21,J21),CONCATENATE(K21,J21," ",L21)) -> 24Na | N21: 24Na
A22: Al 26 | B22: 26Al | C22: =1*10^5 -> 100000 | D22: / | E22: / | F22: =3*10^10 -> 30000000000 | G22: =3*10^11 -> 300000000000 | H22: =3*10^13 -> 30000000000000 | I22: =VLOOKUP(B22,CSP!$A$2:$B$795,2,FALSE) -> Al26 | J22: Al | K22: 26 | M22: =IF(L22="",CONCATENATE(K22,J22),CONCATENATE(K22,J22," ",L22)) -> 26Al | N22: 26Al
A23: Mg 28 | B23: 28Mg | C23: =1*10^5 -> 100000 | D23: / | E23: / | F23: =2*10^10 -> 20000000000 | G23: =2*10^11 -> 200000000000 | H23: =2*10^13 -> 20000000000000 | I23: =VLOOKUP(B23,CSP!$A$2:$B$795,2,FALSE) -> Mg28 | J23: Mg | K23: 28 | M23: =IF(L23="",CONCATENATE(K23,J23),CONCATENATE(K23,J23," ",L23)) -> 28Mg | N23: 28Mg
A24: Si 31 | B24: 31Si | C24: =1*10^6 -> 1000000 | D24: 1000 | E24: =1*10^3 -> 1000 | F24: =1*10^13 -> 10000000000000 | G24: =1*10^14 -> 100000000000000 | H24: =1*10^16 -> 1e+16 | I24: =VLOOKUP(B24,CSP!$A$2:$B$795,2,FALSE) -> Si31 | J24: Si | K24: 31 | M24: =IF(L24="",CONCATENATE(K24,J24),CONCATENATE(K24,J24," ",L24)) -> 31Si | N24: 31Si
A25: Si 32 | B25: 32Si | C25: =1*10^6 -> 1000000 | D25: / | E25: / | F25: =7*10^12 -> 7000000000000 | G25: =7*10^13 -> 70000000000000 | H25: =7*10^15 -> 7e+15 | I25: =VLOOKUP(B25,CSP!$A$2:$B$795,2,FALSE) -> Si32 | J25: Si | K25: 32 | M25: =IF(L25="",CONCATENATE(K25,J25),CONCATENATE(K25,J25," ",L25)) -> 32Si | N25: 32Si
A26: P 32 | B26: 32P | C26: =1*10^5 -> 100000 | D26: 1000 | E26: =1*10^3 -> 1000 | F26: =1*10^13 -> 10000000000000 | G26: =1*10^14 -> 100000000000000 | H26: =1*10^16 -> 1e+16 | I26: =VLOOKUP(B26,CSP!$A$2:$B$795,2,FALSE) -> P32 | J26: P | K26: 32 | M26: =IF(L26="",CONCATENATE(K26,J26),CONCATENATE(K26,J26," ",L26)) -> 32P | N26: 32P
A27: P 33 | B27: 33P | C27: =1*10^8 -> 100000000 | D27: 1000 | E27: =1*10^5 -> 100000 | F27: =2*10^14 -> 200000000000000 | G27: =2*10^15 -> 2e+15 | H27: =2*10^17 -> 2e+17 | I27: =VLOOKUP(B27,CSP!$A$2:$B$795,2,FALSE) -> P33 | J27: P | K27: 33 | M27: =IF(L27="",CONCATENATE(K27,J27),CONCATENATE(K27,J27," ",L27)) -> 33P | N27: 33P
A28: S 35 | B28: 35S | C28: =1*10^8 -> 100000000 | D28: 100 | E28: =1*10^5 -> 100000 | F28: =6*10^13 -> 60000000000000 | G28: =6*10^14 -> 600000000000000 | H28: =6*10^16 -> 6e+16 | I28: =VLOOKUP(B28,CSP!$A$2:$B$795,2,FALSE) -> S35 | J28: S | K28: 35 | M28: =IF(L28="",CONCATENATE(K28,J28),CONCATENATE(K28,J28," ",L28)) -> 35S | N28: 35S
A29: S 35 composé organique | B29: 35S composé organique | C29: =1*10^8 -> 100000000 | D29: / | E29: / | F29: =6*10^13 -> 60000000000000 | G29: =6*10^14 -> 600000000000000 | H29: =6*10^16 -> 6e+16 | I29: =VLOOKUP(B29,CSP!$A$2:$B$795,2,FALSE) -> S35 composé organique | J29: S | K29: 35 | L29: composé organique | M29: =IF(L29="",CONCATENATE(K29,J29),CONCATENATE(K29,J29," ",L29)) -> 35S composé organique | N29: 35S composé organique
A30: S 35 vapeur | B30: 35S vapeur | C30: =1*10^9 -> 1000000000 | D30: / | E30: / | F30: =6*10^13 -> 60000000000000 | G30: =6*10^14 -> 600000000000000 | H30: =6*10^16 -> 6e+16 | I30: =VLOOKUP(B30,CSP!$A$2:$B$795,2,FALSE) -> S35 vapeur | J30: S | K30: 35 | L30: vapeur | M30: =IF(L30="",CONCATENATE(K30,J30),CONCATENATE(K30,J30," ",L30)) -> 35S vapeur | N30: 35S vapeur
A31: Cl 36 | B31: 36Cl | C31: =1*10^6 -> 1000000 | D31: 1 | E31: =1*10^4 -> 10000 | F31: =2*10^13 -> 20000000000000 | G31: =2*10^14 -> 200000000000000 | H31: =2*10^16 -> 2e+16 | I31: =VLOOKUP(B31,CSP!$A$2:$B$795,2,FALSE) -> Cl36 | J31: Cl | K31: 36 | M31: =IF(L31="",CONCATENATE(K31,J31),CONCATENATE(K31,J31," ",L31)) -> 36Cl | N31: 36Cl
A32: Cl 38 | B32: 38Cl | C32: =1*10^5 -> 100000 | D32: 10 | E32: =1*10^1 -> 10 | F32: =5*10^10 -> 50000000000 | G32: =5*10^11 -> 500000000000 | H32: =5*10^13 -> 50000000000000 | I32: =VLOOKUP(B32,CSP!$A$2:$B$795,2,FALSE) -> Cl38 | J32: Cl | K32: 38 | M32: =IF(L32="",CONCATENATE(K32,J32),CONCATENATE(K32,J32," ",L32)) -> 38Cl | N32: 38Cl
A33: Cl 39 | B33: 39Cl | C33: =1*10^5 -> 100000 | D33: / | E33: / | F33: NA | G33: NA | H33: NA | I33: =VLOOKUP(B33,CSP!$A$2:$B$795,2,FALSE) -> Cl39 | J33: Cl | K33: 39 | M33: =IF(L33="",CONCATENATE(K33,J33),CONCATENATE(K33,J33," ",L33)) -> 39Cl | N33: 39Cl
A34: Ar 37 | B34: 37Ar | C34: =1*10^8 -> 100000000 | D34: / | E34: =1*10^6 -> 1000000 | F34: NA | G34: NA | H34: NA | I34: =VLOOKUP(B34,CSP!$A$2:$B$795,2,FALSE) -> Ar37 | J34: Ar | K34: 37 | M34: =IF(L34="",CONCATENATE(K34,J34),CONCATENATE(K34,J34," ",L34)) -> 37Ar | N34: 37Ar
A35: Ar 39 | B35: 39Ar | C35: =1*10^4 -> 10000 | D35: / | E35: / | F35: =3*10^14 -> 300000000000000 | G35: =3*10^15 -> 3e+15 | H35: =3*10^17 -> 3e+17 | I35: =VLOOKUP(B35,CSP!$A$2:$B$795,2,FALSE) -> Ar39 | J35: Ar | K35: 39 | M35: =IF(L35="",CONCATENATE(K35,J35),CONCATENATE(K35,J35," ",L35)) -> 39Ar | N35: 39Ar
A36: Ar 41 | B36: 41Ar | C36: =1*10^9 -> 1000000000 | D36: / | E36: =1*10^2 -> 100 | F36: =5*10^10 -> 50000000000 | G36: =5*10^11 -> 500000000000 | H36: =5*10^13 -> 50000000000000 | I36: =VLOOKUP(B36,CSP!$A$2:$B$795,2,FALSE) -> Ar41 | J36: Ar | K36: 41 | M36: =IF(L36="",CONCATENATE(K36,J36),CONCATENATE(K36,J36," ",L36)) -> 41Ar | N36: 41Ar
A37: K 40 | B37: 40K | C37: =1*10^6 -> 1000000 | D37: / | E37: =1*10^2 -> 100 | F37: NA | G37: NA | H37: NA | I37: =VLOOKUP(B37,CSP!$A$2:$B$795,2,FALSE) -> K40 | J37: K | K37: 40 | M37: =IF(L37="",CONCATENATE(K37,J37),CONCATENATE(K37,J37," ",L37)) -> 40K | N37: 40K
A38: K 42 | B38: 42K | C38: =1*10^6 -> 1000000 | D38: 100 | E38: =1*10^2 -> 100 | F38: =2*10^11 -> 200000000000 | G38: =2*10^12 -> 2000000000000 | H38: =2*10^14 -> 200000000000000 | I38: =VLOOKUP(B38,CSP!$A$2:$B$795,2,FALSE) -> K42 | J38: K | K38: 42 | M38: =IF(L38="",CONCATENATE(K38,J38),CONCATENATE(K38,J38," ",L38)) -> 42K | N38: 42K
A39: K 43 | B39: 43K | C39: =1*10^6 -> 1000000 | D39: 10 | E39: =1*10^1 -> 10 | F39: =7*10^10 -> 70000000000 | G39: =7*10^11 -> 700000000000 | H39: =7*10^13 -> 70000000000000 | I39: =VLOOKUP(B39,CSP!$A$2:$B$795,2,FALSE) -> K43 | J39: K | K39: 43 | M39: =IF(L39="",CONCATENATE(K39,J39),CONCATENATE(K39,J39," ",L39)) -> 43K | N39: 43K
A40: K 44 | B40: 44K | C40: =1*10^5 -> 100000 | D40: / | E40: / | F40: NA | G40: NA | H40: NA | I40: =VLOOKUP(B40,CSP!$A$2:$B$795,2,FALSE) -> K44 | J40: K | K40: 44 | M40: =IF(L40="",CONCATENATE(K40,J40),CONCATENATE(K40,J40," ",L40)) -> 44K | N40: 44K
A41: K 45 | B41: 45K | C41: =1*10^5 -> 100000 | D41: / | E41: / | F41: NA | G41: NA | H41: NA | I41: =VLOOKUP(B41,CSP!$A$2:$B$795,2,FALSE) -> K45 | J41: K | K41: 45 | M41: =IF(L41="",CONCATENATE(K41,J41),CONCATENATE(K41,J41," ",L41)) -> 45K | N41: 45K
A42: Ca 41 | B42: 41Ca | C42: =1*10^7 -> 10000000 | D42: / | E42: / | F42: NA | G42: NA | H42: NA | I42: =VLOOKUP(B42,CSP!$A$2:$B$795,2,FALSE) -> Ca41 | J42: Ca | K42: 41 | M42: =IF(L42="",CONCATENATE(K42,J42),CONCATENATE(K42,J42," ",L42)) -> 41Ca | N42: 41Ca
A43: Ca 45 | B43: 45Ca | C43: =1*10^7 -> 10000000 | D43: 100 | E43: =1*10^4 -> 10000 | F43: =1*10^14 -> 100000000000000 | G43: =1*10^15 -> 1e+15 | H43: =1*10^17 -> 1e+17 | I43: =VLOOKUP(B43,CSP!$A$2:$B$795,2,FALSE) -> Ca45 | J43: Ca | K43: 45 | M43: =IF(L43="",CONCATENATE(K43,J43),CONCATENATE(K43,J43," ",L43)) -> 45Ca | N43: 45Ca
A44: Ca 47 | B44: 47Ca | C44: =1*10^6 -> 1000000 | D44: 10 | E44: =1*10^1 -> 10 | F44: =6*10^10 -> 60000000000 | G44: =6*10^11 -> 600000000000 | H44: =6*10^13 -> 60000000000000 | I44: =VLOOKUP(B44,CSP!$A$2:$B$795,2,FALSE) -> Ca47 | J44: Ca | K44: 47 | M44: =IF(L44="",CONCATENATE(K44,J44),CONCATENATE(K44,J44," ",L44)) -> 47Ca | N44: 47Ca
A45: Sc 43 | B45: 43Sc | C45: =1*10^6 -> 1000000 | D45: / | E45: / | F45: NA | G45: NA | H45: NA | I45: =VLOOKUP(B45,CSP!$A$2:$B$795,2,FALSE) -> Sc43 | J45: Sc | K45: 43 | M45: =IF(L45="",CONCATENATE(K45,J45),CONCATENATE(K45,J45," ",L45)) -> 43Sc | N45: 43Sc
A46: Sc 44 | B46: 44Sc | C46: =1*10^5 -> 100000 | D46: / | E46: / | F46: =3*10^10 -> 30000000000 | G46: =3*10^11 -> 300000000000 | H46: =3*10^13 -> 30000000000000 | I46: =VLOOKUP(B46,CSP!$A$2:$B$795,2,FALSE) -> Sc44 | J46: Sc | K46: 44 | M46: =IF(L46="",CONCATENATE(K46,J46),CONCATENATE(K46,J46," ",L46)) -> 44Sc | N46: 44Sc
A47: Sc 44m | B47: 44Sc m | C47: =1*10^7 -> 10000000 | D47: / | E47: / | F47: NA | G47: NA | H47: NA | I47: =VLOOKUP(B47,CSP!$A$2:$B$795,2,FALSE) -> Sc44 m | J47: Sc | K47: 44 | L47: m | M47: =IF(L47="",CONCATENATE(K47,J47),CONCATENATE(K47,J47," ",L47)) -> 44Sc m | N47: 44Sc m
A48: Sc 46 | B48: 46Sc | C48: =1*10^6 -> 1000000 | D48: 0.1 | E48: =1*10^1 -> 10 | F48: =3*10^10 -> 30000000000 | G48: =3*10^11 -> 300000000000 | H48: =3*10^13 -> 30000000000000 | I48: =VLOOKUP(B48,CSP!$A$2:$B$795,2,FALSE) -> Sc46 | J48: Sc | K48: 46 | M48: =IF(L48="",CONCATENATE(K48,J48),CONCATENATE(K48,J48," ",L48)) -> 46Sc | N48: 46Sc
A49: Sc 47 | B49: 47Sc | C49: =1*10^6 -> 1000000 | D49: 100 | E49: =1*10^2 -> 100 | F49: =7*10^11 -> 700000000000 | G49: =7*10^12 -> 7000000000000 | H49: =7*10^14 -> 700000000000000 | I49: =VLOOKUP(B49,CSP!$A$2:$B$795,2,FALSE) -> Sc47 | J49: Sc | K49: 47 | M49: =IF(L49="",CONCATENATE(K49,J49),CONCATENATE(K49,J49," ",L49)) -> 47Sc | N49: 47Sc
A50: Sc 48 | B50: 48Sc | C50: =1*10^5 -> 100000 | D50: 1 | E50: =1*10^1 -> 10 | F50: =2*10^10 -> 20000000000 | G50: =2*10^11 -> 200000000000 | H50: =2*10^13 -> 20000000000000 | I50: =VLOOKUP(B50,CSP!$A$2:$B$795,2,FALSE) -> Sc48 | J50: Sc | K50: 48 | M50: =IF(L50="",CONCATENATE(K50,J50),CONCATENATE(K50,J50," ",L50)) -> 48Sc | N50: 48Sc
A51: Sc 49 | B51: 49Sc | C51: =1*10^5 -> 100000 | D51: / | E51: / | F51: NA | G51: NA | H51: NA | I51: =VLOOKUP(B51,CSP!$A$2:$B$795,2,FALSE) -> Sc49 | J51: Sc | K51: 49 | M51: =IF(L51="",CONCATENATE(K51,J51),CONCATENATE(K51,J51," ",L51)) -> 49Sc | N51: 49Sc
A52: Ti 44 | B52: 44Ti | C52: =1*10^5 -> 100000 | D52: / | E52: / | F52: =3*10^10 -> 30000000000 | G52: =3*10^11 -> 300000000000 | H52: =3*10^13 -> 30000000000000 | I52: =VLOOKUP(B52,CSP!$A$2:$B$795,2,FALSE) -> Ti44 | J52: Ti | K52: 44 | M52: =IF(L52="",CONCATENATE(K52,J52),CONCATENATE(K52,J52," ",L52)) -> 44Ti | N52: 44Ti
A53: Ti 45 | B53: 45Ti | C53: =1*10^6 -> 1000000 | D53: / | E53: / | F53: NA | G53: NA | H53: NA | I53: =VLOOKUP(B53,CSP!$A$2:$B$795,2,FALSE) -> Ti45 | J53: Ti | K53: 45 | M53: =IF(L53="",CONCATENATE(K53,J53),CONCATENATE(K53,J53," ",L53)) -> 45Ti | N53: 45Ti
A54: V 47 | B54: 47V | C54: =1*10^5 -> 100000 | D54: / | E54: / | F54: NA | G54: NA | H54: NA | I54: =VLOOKUP(B54,CSP!$A$2:$B$795,2,FALSE) -> V47 | J54: V | K54: 47 | M54: =IF(L54="",CONCATENATE(K54,J54),CONCATENATE(K54,J54," ",L54)) -> 47V | N54: 47V
A55: V 48 | B55: 48V | C55: =1*10^5 -> 100000 | D55: 1 | E55: =1*10^1 -> 10 | F55: =2*10^10 -> 20000000000 | G55: =2*10^11 -> 200000000000 | H55: =2*10^13 -> 20000000000000 | I55: =VLOOKUP(B55,CSP!$A$2:$B$795,2,FALSE) -> V48 | J55: V | K55: 48 | M55: =IF(L55="",CONCATENATE(K55,J55),CONCATENATE(K55,J55," ",L55)) -> 48V | N55: 48V
A56: V 49 | B56: 49V | C56: =1*10^7 -> 10000000 | D56: / | E56: / | F56: =2*10^15 -> 2e+15 | G56: =2*10^16 -> 2e+16 | H56: =2*10^18 -> 2e+18 | I56: =VLOOKUP(B56,CSP!$A$2:$B$795,2,FALSE) -> V49 | J56: V | K56: 49 | M56: =IF(L56="",CONCATENATE(K56,J56),CONCATENATE(K56,J56," ",L56)) -> 49V | N56: 49V
A57: Cr 48 | B57: 48Cr | C57: =1*10^6 -> 1000000 | D57: / | E57: / | F57: NA | G57: NA | H57: NA | I57: =VLOOKUP(B57,CSP!$A$2:$B$795,2,FALSE) -> Cr48 | J57: Cr | K57: 48 | M57: =IF(L57="",CONCATENATE(K57,J57),CONCATENATE(K57,J57," ",L57)) -> 48Cr | N57: 48Cr
A58: Cr 49 | B58: 49Cr | C58: =1*10^6 -> 1000000 | D58: / | E58: / | F58: NA | G58: NA | H58: NA | I58: =VLOOKUP(B58,CSP!$A$2:$B$795,2,FALSE) -> Cr49 | J58: Cr | K58: 49 | M58: =IF(L58="",CONCATENATE(K58,J58),CONCATENATE(K58,J58," ",L58)) -> 49Cr | N58: 49Cr
A59: Cr 51 | B59: 51Cr | C59: =1*10^7 -> 10000000 | D59: 100 | E59: =1*10^3 -> 1000 | F59: =2*10^12 -> 2000000000000 | G59: =2*10^13 -> 20000000000000 | H59: =2*10^15 -> 2e+15 | I59: =VLOOKUP(B59,CSP!$A$2:$B$795,2,FALSE) -> Cr51 | J59: Cr | K59: 51 | M59: =IF(L59="",CONCATENATE(K59,J59),CONCATENATE(K59,J59," ",L59)) -> 51Cr | N59: 51Cr
A60: Mn 51 | B60: 51Mn | C60: =1*10^5 -> 100000 | D60: 10 | E60: =1*10^1 -> 10 | F60: NA | G60: NA | H60: NA | I60: =VLOOKUP(B60,CSP!$A$2:$B$795,2,FALSE) -> Mn51 | J60: Mn | K60: 51 | M60: =IF(L60="",CONCATENATE(K60,J60),CONCATENATE(K60,J60," ",L60)) -> 51Mn | N60: 51Mn
A61: Mn 52 | B61: 52Mn | C61: =1*10^5 -> 100000 | D61: 1 | E61: =1*10^1 -> 10 | F61: =2*10^10 -> 20000000000 | G61: =2*10^11 -> 200000000000 | H61: =2*10^13 -> 20000000000000 | I61: =VLOOKUP(B61,CSP!$A$2:$B$795,2,FALSE) -> Mn52 | J61: Mn | K61: 52 | M61: =IF(L61="",CONCATENATE(K61,J61),CONCATENATE(K61,J61," ",L61)) -> 52Mn | N61: 52Mn
A62: Mn 52m | B62: 52Mn m | C62: =1*10^5 -> 100000 | D62: 10 | E62: =1*10^1 -> 10 | F62: NA | G62: NA | H62: NA | I62: =VLOOKUP(B62,CSP!$A$2:$B$795,2,FALSE) -> Mn52 m | J62: Mn | K62: 52 | L62: m | M62: =IF(L62="",CONCATENATE(K62,J62),CONCATENATE(K62,J62," ",L62)) -> 52Mn m | N62: 52Mn m
A63: Mn 53 | B63: 53Mn | C63: =1*10^9 -> 1000000000 | D63: 100 | E63: =1*10^4 -> 10000 | F63: NA | G63: NA | H63: NA | I63: =VLOOKUP(B63,CSP!$A$2:$B$795,2,FALSE) -> Mn53 | J63: Mn | K63: 53 | M63: =IF(L63="",CONCATENATE(K63,J63),CONCATENATE(K63,J63," ",L63)) -> 53Mn | N63: 53Mn
A64: Mn 54 | B64: 54Mn | C64: =1*10^6 -> 1000000 | D64: 0.1 | E64: =1*10^1 -> 10 | F64: =8*10^10 -> 80000000000 | G64: =8*10^11 -> 800000000000 | H64: =8*10^13 -> 80000000000000 | I64: =VLOOKUP(B64,CSP!$A$2:$B$795,2,FALSE) -> Mn54 | J64: Mn | K64: 54 | M64: =IF(L64="",CONCATENATE(K64,J64),CONCATENATE(K64,J64," ",L64)) -> 54Mn | N64: 54Mn
A65: Mn 56 | B65: 56Mn | C65: =1*10^5 -> 100000 | D65: 10 | E65: =1*10^1 -> 10 | F65: =4*10^10 -> 40000000000 | G65: =4*10^11 -> 400000000000 | H65: =4*10^13 -> 40000000000000 | I65: =VLOOKUP(B65,CSP!$A$2:$B$795,2,FALSE) -> Mn56 | J65: Mn | K65: 56 | M65: =IF(L65="",CONCATENATE(K65,J65),CONCATENATE(K65,J65," ",L65)) -> 56Mn | N65: 56Mn
A66: Fe 52 | B66: 52Fe | C66: =1*10^6 -> 1000000 | D66: 10 | E66: =1*10^1 -> 10 | F66: =2*10^10 -> 20000000000 | G66: =2*10^11 -> 200000000000 | H66: =2*10^13 -> 20000000000000 | I66: =VLOOKUP(B66,CSP!$A$2:$B$795,2,FALSE) -> Fe52 | J66: Fe | K66: 52 | M66: =IF(L66="",CONCATENATE(K66,J66),CONCATENATE(K66,J66," ",L66)) -> 52Fe | N66: 52Fe
A67: Fe 55 | B67: 55Fe | C67: =1*10^6 -> 1000000 | D67: 1000 | E67: =1*10^4 -> 10000 | F67: =8*10^14 -> 800000000000000 | G67: =8*10^15 -> 8e+15 | H67: =8*10^17 -> 8e+17 | I67: =VLOOKUP(B67,CSP!$A$2:$B$795,2,FALSE) -> Fe55 | J67: Fe | K67: 55 | M67: =IF(L67="",CONCATENATE(K67,J67),CONCATENATE(K67,J67," ",L67)) -> 55Fe | N67: 55Fe
A68: Fe 59 | B68: 59Fe | C68: =1*10^6 -> 1000000 | D68: 1 | E68: =1*10^1 -> 10 | F68: =6*10^10 -> 60000000000 | G68: =6*10^11 -> 600000000000 | H68: =6*10^13 -> 60000000000000 | I68: =VLOOKUP(B68,CSP!$A$2:$B$795,2,FALSE) -> Fe59 | J68: Fe | K68: 59 | M68: =IF(L68="",CONCATENATE(K68,J68),CONCATENATE(K68,J68," ",L68)) -> 59Fe | N68: 59Fe
A69: Fe 60 | B69: 60Fe | C69: =1*10^5 -> 100000 | D69: / | E69: / | F69: =6*10^10 -> 60000000000 | G69: =6*10^11 -> 600000000000 | H69: =6*10^13 -> 60000000000000 | I69: =VLOOKUP(B69,CSP!$A$2:$B$795,2,FALSE) -> Fe60 | J69: Fe | K69: 60 | M69: =IF(L69="",CONCATENATE(K69,J69),CONCATENATE(K69,J69," ",L69)) -> 60Fe | N69: 60Fe
A70: Co 55 | B70: 55Co | C70: =1*10^6 -> 1000000 | D70: 10 | E70: =1*10^1 -> 10 | F70: =3*10^10 -> 30000000000 | G70: =3*10^11 -> 300000000000 | H70: =3*10^13 -> 30000000000000 | I70: =VLOOKUP(B70,CSP!$A$2:$B$795,2,FALSE) -> Co55 | J70: Co | K70: 55 | M70: =IF(L70="",CONCATENATE(K70,J70),CONCATENATE(K70,J70," ",L70)) -> 55Co | N70: 55Co
A71: Co 56 | B71: 56Co | C71: =1*10^5 -> 100000 | D71: 0.1 | E71: =1*10^1 -> 10 | F71: =2*10^10 -> 20000000000 | G71: =2*10^11 -> 200000000000 | H71: =2*10^13 -> 20000000000000 | I71: =VLOOKUP(B71,CSP!$A$2:$B$795,2,FALSE) -> Co56 | J71: Co | K71: 56 | M71: =IF(L71="",CONCATENATE(K71,J71),CONCATENATE(K71,J71," ",L71)) -> 56Co | N71: 56Co
A72: Co 57 | B72: 57Co | C72: =1*10^6 -> 1000000 | D72: 1 | E72: =1*10^2 -> 100 | F72: =7*10^11 -> 700000000000 | G72: =7*10^12 -> 7000000000000 | H72: =7*10^14 -> 700000000000000 | I72: =VLOOKUP(B72,CSP!$A$2:$B$795,2,FALSE) -> Co57 | J72: Co | K72: 57 | M72: =IF(L72="",CONCATENATE(K72,J72),CONCATENATE(K72,J72," ",L72)) -> 57Co | N72: 57Co
A73: Co 58 | B73: 58Co | C73: =1*10^6 -> 1000000 | D73: 1 | E73: =1*10^1 -> 10 | F73: =7*10^10 -> 70000000000 | G73: =7*10^11 -> 700000000000 | H73: =7*10^13 -> 70000000000000 | I73: =VLOOKUP(B73,CSP!$A$2:$B$795,2,FALSE) -> Co58 | J73: Co | K73: 58 | M73: =IF(L73="",CONCATENATE(K73,J73),CONCATENATE(K73,J73," ",L73)) -> 58Co | N73: 58Co
A74: Co 58m | B74: 58Co m | C74: =1*10^7 -> 10000000 | D74: 10000 | E74: =1*10^4 -> 10000 | F74: =7*10^10 -> 70000000000 | G74: =7*10^11 -> 700000000000 | H74: =7*10^13 -> 70000000000000 | I74: =VLOOKUP(B74,CSP!$A$2:$B$795,2,FALSE) -> Co58 m | J74: Co | K74: 58 | L74: m | M74: =IF(L74="",CONCATENATE(K74,J74),CONCATENATE(K74,J74," ",L74)) -> 58Co m | N74: 58Co m
A75: Co 60 | B75: 60Co | C75: =1*10^5 -> 100000 | D75: 0.1 | E75: =1*10^1 -> 10 | F75: =3*10^10 -> 30000000000 | G75: =3*10^11 -> 300000000000 | H75: =3*10^13 -> 30000000000000 | I75: =VLOOKUP(B75,CSP!$A$2:$B$795,2,FALSE) -> Co60 | J75: Co | K75: 60 | M75: =IF(L75="",CONCATENATE(K75,J75),CONCATENATE(K75,J75," ",L75)) -> 60Co | N75: 60Co
A76: Co 60m | B76: 60Co m | C76: =1*10^6 -> 1000000 | D76: 1000 | E76: =1*10^3 -> 1000 | F76: NA | G76: NA | H76: NA | I76: =VLOOKUP(B76,CSP!$A$2:$B$795,2,FALSE) -> Co60 m | J76: Co | K76: 60 | L76: m | M76: =IF(L76="",CONCATENATE(K76,J76),CONCATENATE(K76,J76," ",L76)) -> 60Co m | N76: 60Co m
A77: Co 61 | B77: 61Co | C77: =1*10^6 -> 1000000 | D77: 100 | E77: =1*10^2 -> 100 | F77: NA | G77: NA | H77: NA | I77: =VLOOKUP(B77,CSP!$A$2:$B$795,2,FALSE) -> Co61 | J77: Co | K77: 61 | M77: =IF(L77="",CONCATENATE(K77,J77),CONCATENATE(K77,J77," ",L77)) -> 61Co | N77: 61Co
A78: Co 62m | B78: 62Co m | C78: =1*10^5 -> 100000 | D78: 10 | E78: =1*10^1 -> 10 | F78: NA | G78: NA | H78: NA | I78: =VLOOKUP(B78,CSP!$A$2:$B$795,2,FALSE) -> Co62 m | J78: Co | K78: 62 | L78: m | M78: =IF(L78="",CONCATENATE(K78,J78),CONCATENATE(K78,J78," ",L78)) -> 62Co m | N78: 62Co m
A79: Ni 56 | B79: 56Ni | C79: =1*10^6 -> 1000000 | D79: / | E79: / | F79: NA | G79: NA | H79: NA | I79: =VLOOKUP(B79,CSP!$A$2:$B$795,2,FALSE) -> Ni56 | J79: Ni | K79: 56 | M79: =IF(L79="",CONCATENATE(K79,J79),CONCATENATE(K79,J79," ",L79)) -> 56Ni | N79: 56Ni
A80: Ni 57 | B80: 57Ni | C80: =1*10^6 -> 1000000 | D80: / | E80: / | F80: NA | G80: NA | H80: NA | I80: =VLOOKUP(B80,CSP!$A$2:$B$795,2,FALSE) -> Ni57 | J80: Ni | K80: 57 | M80: =IF(L80="",CONCATENATE(K80,J80),CONCATENATE(K80,J80," ",L80)) -> 57Ni | N80: 57Ni
A81: Ni 59 | B81: 59Ni | C81: =1*10^8 -> 100000000 | D81: 100 | E81: =1*10^4 -> 10000 | F81: =1*10^15 -> 1e+15 | G81: =1*10^16 -> 1e+16 | H81: =1*10^18 -> 1e+18 | I81: =VLOOKUP(B81,CSP!$A$2:$B$795,2,FALSE) -> Ni59 | J81: Ni | K81: 59 | M81: =IF(L81="",CONCATENATE(K81,J81),CONCATENATE(K81,J81," ",L81)) -> 59Ni | N81: 59Ni
A82: Ni 63 | B82: 63Ni | C82: =1*10^8 -> 100000000 | D82: 100 | E82: =1*10^5 -> 100000 | F82: =6*10^13 -> 60000000000000 | G82: =6*10^14 -> 600000000000000 | H82: =6*10^16 -> 6e+16 | I82: =VLOOKUP(B82,CSP!$A$2:$B$795,2,FALSE) -> Ni63 | J82: Ni | K82: 63 | M82: =IF(L82="",CONCATENATE(K82,J82),CONCATENATE(K82,J82," ",L82)) -> 63Ni | N82: 63Ni
A83: Ni 65 | B83: 65Ni | C83: =1*10^6 -> 1000000 | D83: 10 | E83: =1*10^1 -> 10 | F83: =1*10^11 -> 100000000000 | G83: =1*10^12 -> 1000000000000 | H83: =1*10^14 -> 100000000000000 | I83: =VLOOKUP(B83,CSP!$A$2:$B$795,2,FALSE) -> Ni65 | J83: Ni | K83: 65 | M83: =IF(L83="",CONCATENATE(K83,J83),CONCATENATE(K83,J83," ",L83)) -> 65Ni | N83: 65Ni
A84: Ni 66 | B84: 66Ni | C84: =1*10^7 -> 10000000 | D84: / | E84: / | F84: NA | G84: NA | H84: NA | I84: =VLOOKUP(B84,CSP!$A$2:$B$795,2,FALSE) -> Ni66 | J84: Ni | K84: 66 | M84: =IF(L84="",CONCATENATE(K84,J84),CONCATENATE(K84,J84," ",L84)) -> 66Ni | N84: 66Ni
A85: Cu 60 | B85: 60Cu | C85: =1*10^5 -> 100000 | D85: / | E85: / | F85: NA | G85: NA | H85: NA | I85: =VLOOKUP(B85,CSP!$A$2:$B$795,2,FALSE) -> Cu60 | J85: Cu | K85: 60 | M85: =IF(L85="",CONCATENATE(K85,J85),CONCATENATE(K85,J85," ",L85)) -> 60Cu | N85: 60Cu
A86: Cu 61 | B86: 61Cu | C86: =1*10^6 -> 1000000 | D86: / | E86: / | F86: NA | G86: NA | H86: NA | I86: =VLOOKUP(B86,CSP!$A$2:$B$795,2,FALSE) -> Cu61 | J86: Cu | K86: 61 | M86: =IF(L86="",CONCATENATE(K86,J86),CONCATENATE(K86,J86," ",L86)) -> 61Cu | N86: 61Cu
A87: Cu 64 | B87: 64Cu | C87: =1*10^6 -> 1000000 | D87: 100 | E87: =1*10^2 -> 100 | F87: =3*10^11 -> 300000000000 | G87: =3*10^12 -> 3000000000000 | H87: =3*10^14 -> 300000000000000 | I87: =VLOOKUP(B87,CSP!$A$2:$B$795,2,FALSE) -> Cu64 | J87: Cu | K87: 64 | M87: =IF(L87="",CONCATENATE(K87,J87),CONCATENATE(K87,J87," ",L87)) -> 64Cu | N87: 64Cu
A88: Cu 67 | B88: 67Cu | C88: =1*10^6 -> 1000000 | D88: / | E88: / | F88: =7*10^11 -> 700000000000 | G88: =7*10^12 -> 7000000000000 | H88: =7*10^14 -> 700000000000000 | I88: =VLOOKUP(B88,CSP!$A$2:$B$795,2,FALSE) -> Cu67 | J88: Cu | K88: 67 | M88: =IF(L88="",CONCATENATE(K88,J88),CONCATENATE(K88,J88," ",L88)) -> 67Cu | N88: 67Cu
A89: Zn 62 | B89: 62Zn | C89: =1*10^6 -> 1000000 | D89: / | E89: / | F89: NA | G89: NA | H89: NA | I89: =VLOOKUP(B89,CSP!$A$2:$B$795,2,FALSE) -> Zn62 | J89: Zn | K89: 62 | M89: =IF(L89="",CONCATENATE(K89,J89),CONCATENATE(K89,J89," ",L89)) -> 62Zn | N89: 62Zn
A90: Zn 63 | B90: 63Zn | C90: =1*10^5 -> 100000 | D90: / | E90: / | F90: NA | G90: NA | H90: NA | I90: =VLOOKUP(B90,CSP!$A$2:$B$795,2,FALSE) -> Zn63 | J90: Zn | K90: 63 | M90: =IF(L90="",CONCATENATE(K90,J90),CONCATENATE(K90,J90," ",L90)) -> 63Zn | N90: 63Zn
A91: Zn 65 | B91: 65Zn | C91: =1*10^6 -> 1000000 | D91: 0.1 | E91: =1*10^1 -> 10 | F91: =1*10^11 -> 100000000000 | G91: =1*10^12 -> 1000000000000 | H91: =1*10^14 -> 100000000000000 | I91: =VLOOKUP(B91,CSP!$A$2:$B$795,2,FALSE) -> Zn65 | J91: Zn | K91: 65 | M91: =IF(L91="",CONCATENATE(K91,J91),CONCATENATE(K91,J91," ",L91)) -> 65Zn | N91: 65Zn
A92: Zn 69 | B92: 69Zn | C92: =1*10^6 -> 1000000 | D92: 1000 | E92: =1*10^4 -> 10000 | F92: =3*10^13 -> 30000000000000 | G92: =3*10^14 -> 300000000000000 | H92: =3*10^16 -> 3e+16 | I92: =VLOOKUP(B92,CSP!$A$2:$B$795,2,FALSE) -> Zn69 | J92: Zn | K92: 69 | M92: =IF(L92="",CONCATENATE(K92,J92),CONCATENATE(K92,J92," ",L92)) -> 69Zn | N92: 69Zn
A93: Zn 69m | B93: 69Zn m | C93: =1*10^6 -> 1000000 | D93: 10 | E93: =1*10^2 -> 100 | F93: =2*10^11 -> 200000000000 | G93: =2*10^12 -> 2000000000000 | H93: =2*10^14 -> 200000000000000 | I93: =VLOOKUP(B93,CSP!$A$2:$B$795,2,FALSE) -> Zn69 m | J93: Zn | K93: 69 | L93: m | M93: =IF(L93="",CONCATENATE(K93,J93),CONCATENATE(K93,J93," ",L93)) -> 69Zn m | N93: 69Zn m
A94: Zn 71m | B94: 71Zn m | C94: =1*10^6 -> 1000000 | D94: / | E94: / | F94: NA | G94: NA | H94: NA | I94: =VLOOKUP(B94,CSP!$A$2:$B$795,2,FALSE) -> Zn71 m | J94: Zn | K94: 71 | L94: m | M94: =IF(L94="",CONCATENATE(K94,J94),CONCATENATE(K94,J94," ",L94)) -> 71Zn m | N94: 71Zn m
A95: Zn 72 | B95: 72Zn | C95: =1*10^6 -> 1000000 | D95: / | E95: / | F95: NA | G95: NA | H95: NA | I95: =VLOOKUP(B95,CSP!$A$2:$B$795,2,FALSE) -> Zn72 | J95: Zn | K95: 72 | M95: =IF(L95="",CONCATENATE(K95,J95),CONCATENATE(K95,J95," ",L95)) -> 72Zn | N95: 72Zn
A96: Ga 65 | B96: 65Ga | C96: =1*10^5 -> 100000 | D96: / | E96: / | F96: NA | G96: NA | H96: NA | I96: =VLOOKUP(B96,CSP!$A$2:$B$795,2,FALSE) -> Ga65 | J96: Ga | K96: 65 | M96: =IF(L96="",CONCATENATE(K96,J96),CONCATENATE(K96,J96," ",L96)) -> 65Ga | N96: 65Ga
A97: Ga 66 | B97: 66Ga | C97: =1*10^5 -> 100000 | D97: / | E97: / | F97: NA | G97: NA | H97: NA | I97: =VLOOKUP(B97,CSP!$A$2:$B$795,2,FALSE) -> Ga66 | J97: Ga | K97: 66 | M97: =IF(L97="",CONCATENATE(K97,J97),CONCATENATE(K97,J97," ",L97)) -> 66Ga | N97: 66Ga
A98: Ga 67 | B98: 67Ga | C98: =1*10^6 -> 1000000 | D98: / | E98: / | F98: =5*10^11 -> 500000000000 | G98: =5*10^12 -> 5000000000000 | H98: =5*10^14 -> 500000000000000 | I98: =VLOOKUP(B98,CSP!$A$2:$B$795,2,FALSE) -> Ga67 | J98: Ga | K98: 67 | M98: =IF(L98="",CONCATENATE(K98,J98),CONCATENATE(K98,J98," ",L98)) -> 67Ga | N98: 67Ga
A99: Ga 68 | B99: 68Ga | C99: =1*10^5 -> 100000 | D99: / | E99: / | F99: =7*10^10 -> 70000000000 | G99: =7*10^11 -> 700000000000 | H99: =7*10^13 -> 70000000000000 | I99: =VLOOKUP(B99,CSP!$A$2:$B$795,2,FALSE) -> Ga68 | J99: Ga | K99: 68 | M99: =IF(L99="",CONCATENATE(K99,J99),CONCATENATE(K99,J99," ",L99)) -> 68Ga | N99: 68Ga
A100: Ga 70 | B100: 70Ga | C100: =1*10^6 -> 1000000 | D100: / | E100: / | F100: NA | G100: NA | H100: NA | I100: =VLOOKUP(B100,CSP!$A$2:$B$795,2,FALSE) -> Ga70 | J100: Ga | K100: 70 | M100: =IF(L100="",CONCATENATE(K100,J100),CONCATENATE(K100,J100," ",L100)) -> 70Ga | N100: 70Ga
A101: Ga 72 | B101: 72Ga | C101: =1*10^5 -> 100000 | D101: 10 | E101: =1*10^1 -> 10 | F101: =3*10^10 -> 30000000000 | G101: =3*10^11 -> 300000000000 | H101: =3*10^13 -> 30000000000000 | I101: =VLOOKUP(B101,CSP!$A$2:$B$795,2,FALSE) -> Ga72 | J101: Ga | K101: 72 | M101: =IF(L101="",CONCATENATE(K101,J101),CONCATENATE(K101,J101," ",L101)) -> 72Ga | N101: 72Ga
...

Sheet Ref
A1: Seuil CSP & SSHA: | B1: décrets n° 2007-1570. du 5 novembre2007 modifiant le code du travail, et n° 2007-1582. du 7 novembre 2007 modifiant le codede la santé publique.
B2: Recodification code du travail par Ordonnance n° 2007-329 et par décret n° 2008-244 du 7mars 2008 (JO 12/3/08)
B3: Décret no 2006-1454 du 24 novembre 2006 modifiant la nomenclature des installations classées
B4: Avis n°2007-AV-0004 de l'ASN du 24/01/2007
B5: Pour les commentaires, se reporter au CSP
A6: SSHA (A1, A2, A3) | B6: Issue des BSF AIEA 2008 - Les seuils « source de haute activité » sont définis dans la directive européenne 2003/122/Euratom du 22 décembre 2003. Pour les radionucléides non mentionnés, les seuils sont le centième de la valeur A1 fixée pour le transport des matières radioactives.
A7: Seuil AIEA | B7: Code de conduite sur la sureté et la sécurité des sources radioactive Dernière mise à jour : Mars 2008
A8: Valeur de D | B8: Extrait du document "Emergency Preparedness and response – Dangerous quantities of radioactive material -EPR-D-VALUES 2006"
A9: Transport | B9: Tableau 2.2.7.7.2.1 - ADR - 2008
A10: Seuil < 2002 | B10: Arrêté du 28/04/1989
A11: Seuil CPE | B11: CPE Etalonnage
B22: Q = S i Ai / Ai exemption
B24: Q1 = (Qsources scellées / 1011) + (Qsources non scellées / 109) avec Q1 < 1
B26: Q2 = S i Mmat fissil i / Mmat fissil référence i
B33: Nota :
B34: • Les seuils « source de haute activité » sont définis dans la directive européenne 2003/122/Euratom du 22 décembre 2003. Pour les radionucléides non mentionnés, les seuils sont le centième de la valeur A1 fixée pour le transport des matières radioactives (fait dans le tableau CSP)
B35: • Une source de très haute activité réunit, de fait, les conditions de classement en source de haute activité. Les prescriptions applicables aux sources de haute activité leurs sont donc applicables.
